BEGIN:VCALENDAR
VERSION:2.0
PRODID:-//Harrison Bay Senior Living - ECPv6.11.2.1//NONSGML v1.0//EN
CALSCALE:GREGORIAN
METHOD:PUBLISH
X-WR-CALNAME:Harrison Bay Senior Living
X-ORIGINAL-URL:https://harrisonbayseniorliving.com
X-WR-CALDESC:Events for Harrison Bay Senior Living
REFRESH-INTERVAL;VALUE=DURATION:PT1H
X-Robots-Tag:noindex
X-PUBLISHED-TTL:PT1H
BEGIN:VTIMEZONE
TZID:America/Chicago
BEGIN:DAYLIGHT
TZOFFSETFROM:-0600
TZOFFSETTO:-0500
TZNAME:CDT
DTSTART:20250309T080000
END:DAYLIGHT
BEGIN:STANDARD
TZOFFSETFROM:-0500
TZOFFSETTO:-0600
TZNAME:CST
DTSTART:20251102T070000
END:STANDARD
BEGIN:DAYLIGHT
TZOFFSETFROM:-0600
TZOFFSETTO:-0500
TZNAME:CDT
DTSTART:20260308T080000
END:DAYLIGHT
BEGIN:STANDARD
TZOFFSETFROM:-0500
TZOFFSETTO:-0600
TZNAME:CST
DTSTART:20261101T070000
END:STANDARD
END:VTIMEZONE
BEGIN:VEVENT
DTSTART;TZID=America/Chicago:20260317T100000
DTEND;TZID=America/Chicago:20260317T110000
DTSTAMP:20260423T143335
CREATED:20260216T044952Z
LAST-MODIFIED:20260317T064915Z
UID:10005366-1773741600-1773745200@harrisonbayseniorliving.com
SUMMARY:Cardio Drumming
DESCRIPTION:
URL:https://harrisonbayseniorliving.com/event-calendar/cardio-drumming-126/
LOCATION:Memory Care
CATEGORIES:Senior Living
END:VEVENT
BEGIN:VEVENT
DTSTART;TZID=America/Chicago:20260316T100000
DTEND;TZID=America/Chicago:20260316T110000
DTSTAMP:20260423T143335
CREATED:20260215T044953Z
LAST-MODIFIED:20260316T064916Z
UID:10005350-1773655200-1773658800@harrisonbayseniorliving.com
SUMMARY:Cardio Drumming
DESCRIPTION:
URL:https://harrisonbayseniorliving.com/event-calendar/cardio-drumming-125/
LOCATION:Memory Care
CATEGORIES:Senior Living
END:VEVENT
BEGIN:VEVENT
DTSTART;TZID=America/Chicago:20260310T100000
DTEND;TZID=America/Chicago:20260310T110000
DTSTAMP:20260423T143335
CREATED:20260209T041955Z
LAST-MODIFIED:20260310T061914Z
UID:10005247-1773136800-1773140400@harrisonbayseniorliving.com
SUMMARY:Cardio Drumming
DESCRIPTION:
URL:https://harrisonbayseniorliving.com/event-calendar/cardio-drumming-122/
LOCATION:Memory Care
CATEGORIES:Senior Living
END:VEVENT
BEGIN:VEVENT
DTSTART;TZID=America/Chicago:20260309T100000
DTEND;TZID=America/Chicago:20260309T110000
DTSTAMP:20260423T143335
CREATED:20260208T041925Z
LAST-MODIFIED:20260309T061925Z
UID:10005230-1773050400-1773054000@harrisonbayseniorliving.com
SUMMARY:Cardio Drumming
DESCRIPTION:
URL:https://harrisonbayseniorliving.com/event-calendar/cardio-drumming-121/
LOCATION:Memory Care
CATEGORIES:Senior Living
END:VEVENT
BEGIN:VEVENT
DTSTART;TZID=America/Chicago:20260303T100000
DTEND;TZID=America/Chicago:20260303T110000
DTSTAMP:20260423T143335
CREATED:20260202T033427Z
LAST-MODIFIED:20260303T053452Z
UID:10005132-1772532000-1772535600@harrisonbayseniorliving.com
SUMMARY:Cardio Drumming
DESCRIPTION:
URL:https://harrisonbayseniorliving.com/event-calendar/cardio-drumming-118/
LOCATION:Memory Care
CATEGORIES:Senior Living
END:VEVENT
BEGIN:VEVENT
DTSTART;TZID=America/Chicago:20260302T100000
DTEND;TZID=America/Chicago:20260302T110000
DTSTAMP:20260423T143335
CREATED:20260201T033424Z
LAST-MODIFIED:20260302T051916Z
UID:10005116-1772445600-1772449200@harrisonbayseniorliving.com
SUMMARY:Cardio Drumming
DESCRIPTION:
URL:https://harrisonbayseniorliving.com/event-calendar/cardio-drumming-117/
LOCATION:Memory Care
CATEGORIES:Senior Living
END:VEVENT
BEGIN:VEVENT
DTSTART;TZID=America/Chicago:20260224T100000
DTEND;TZID=America/Chicago:20260224T110000
DTSTAMP:20260423T143335
CREATED:20260126T032008Z
LAST-MODIFIED:20260224T050413Z
UID:10005016-1771927200-1771930800@harrisonbayseniorliving.com
SUMMARY:Cardio Drumming
DESCRIPTION:
URL:https://harrisonbayseniorliving.com/event-calendar/cardio-drumming-114/
LOCATION:Memory Care
CATEGORIES:Senior Living
END:VEVENT
BEGIN:VEVENT
DTSTART;TZID=America/Chicago:20260223T100000
DTEND;TZID=America/Chicago:20260223T110000
DTSTAMP:20260423T143335
CREATED:20260125T030524Z
LAST-MODIFIED:20260223T050414Z
UID:10004999-1771840800-1771844400@harrisonbayseniorliving.com
SUMMARY:Cardio Drumming
DESCRIPTION:
URL:https://harrisonbayseniorliving.com/event-calendar/cardio-drumming-113/
LOCATION:Memory Care
CATEGORIES:Senior Living
END:VEVENT
BEGIN:VEVENT
DTSTART;TZID=America/Chicago:20260217T100000
DTEND;TZID=America/Chicago:20260217T110000
DTSTAMP:20260423T143335
CREATED:20260119T023430Z
LAST-MODIFIED:20260217T044914Z
UID:10004890-1771322400-1771326000@harrisonbayseniorliving.com
SUMMARY:Cardio Drumming
DESCRIPTION:
URL:https://harrisonbayseniorliving.com/event-calendar/cardio-drumming-110/
LOCATION:Memory Care
CATEGORIES:Senior Living
END:VEVENT
BEGIN:VEVENT
DTSTART;TZID=America/Chicago:20260216T100000
DTEND;TZID=America/Chicago:20260216T110000
DTSTAMP:20260423T143335
CREATED:20260118T022053Z
LAST-MODIFIED:20260216T044915Z
UID:10004875-1771236000-1771239600@harrisonbayseniorliving.com
SUMMARY:Cardio Drumming
DESCRIPTION:
URL:https://harrisonbayseniorliving.com/event-calendar/cardio-drumming-109/
LOCATION:Memory Care
CATEGORIES:Senior Living
END:VEVENT
BEGIN:VEVENT
DTSTART;TZID=America/Chicago:20260210T100000
DTEND;TZID=America/Chicago:20260210T110000
DTSTAMP:20260423T143335
CREATED:20260112T021918Z
LAST-MODIFIED:20260210T043415Z
UID:10004770-1770717600-1770721200@harrisonbayseniorliving.com
SUMMARY:Cardio Drumming
DESCRIPTION:
URL:https://harrisonbayseniorliving.com/event-calendar/cardio-drumming-106/
LOCATION:Memory Care
CATEGORIES:Senior Living
END:VEVENT
BEGIN:VEVENT
DTSTART;TZID=America/Chicago:20260209T100000
DTEND;TZID=America/Chicago:20260209T110000
DTSTAMP:20260423T143335
CREATED:20260111T021922Z
LAST-MODIFIED:20260209T041916Z
UID:10004753-1770631200-1770634800@harrisonbayseniorliving.com
SUMMARY:Cardio Drumming
DESCRIPTION:
URL:https://harrisonbayseniorliving.com/event-calendar/cardio-drumming-105/
LOCATION:Memory Care
CATEGORIES:Senior Living
END:VEVENT
BEGIN:VEVENT
DTSTART;TZID=America/Chicago:20260203T100000
DTEND;TZID=America/Chicago:20260203T110000
DTSTAMP:20260423T143335
CREATED:20260105T013424Z
LAST-MODIFIED:20260203T034917Z
UID:10004649-1770112800-1770116400@harrisonbayseniorliving.com
SUMMARY:Cardio Drumming
DESCRIPTION:
URL:https://harrisonbayseniorliving.com/event-calendar/cardio-drumming-102/
LOCATION:Memory Care
CATEGORIES:Senior Living
END:VEVENT
BEGIN:VEVENT
DTSTART;TZID=America/Chicago:20260202T100000
DTEND;TZID=America/Chicago:20260202T110000
DTSTAMP:20260423T143335
CREATED:20260104T013450Z
LAST-MODIFIED:20260202T033416Z
UID:10004634-1770026400-1770030000@harrisonbayseniorliving.com
SUMMARY:Cardio Drumming
DESCRIPTION:
URL:https://harrisonbayseniorliving.com/event-calendar/cardio-drumming-101/
LOCATION:Memory Care
CATEGORIES:Senior Living
END:VEVENT
BEGIN:VEVENT
DTSTART;TZID=America/Chicago:20260127T100000
DTEND;TZID=America/Chicago:20260127T110000
DTSTAMP:20260423T143335
CREATED:20251229T013437Z
LAST-MODIFIED:20260127T031914Z
UID:10004533-1769508000-1769511600@harrisonbayseniorliving.com
SUMMARY:Cardio Drumming
DESCRIPTION:
URL:https://harrisonbayseniorliving.com/event-calendar/cardio-drumming-98/
LOCATION:Memory Care
CATEGORIES:Senior Living
END:VEVENT
BEGIN:VEVENT
DTSTART;TZID=America/Chicago:20260126T100000
DTEND;TZID=America/Chicago:20260126T110000
DTSTAMP:20260423T143335
CREATED:20251228T013425Z
LAST-MODIFIED:20260126T032002Z
UID:10004517-1769421600-1769425200@harrisonbayseniorliving.com
SUMMARY:Cardio Drumming
DESCRIPTION:
URL:https://harrisonbayseniorliving.com/event-calendar/cardio-drumming-97/
LOCATION:Memory Care
CATEGORIES:Senior Living
END:VEVENT
BEGIN:VEVENT
DTSTART;TZID=America/Chicago:20260120T100000
DTEND;TZID=America/Chicago:20260120T110000
DTSTAMP:20260423T143335
CREATED:20251222T010418Z
LAST-MODIFIED:20260120T023446Z
UID:10004420-1768903200-1768906800@harrisonbayseniorliving.com
SUMMARY:Cardio Drumming
DESCRIPTION:
URL:https://harrisonbayseniorliving.com/event-calendar/cardio-drumming-94/
LOCATION:Memory Care
CATEGORIES:Senior Living
END:VEVENT
BEGIN:VEVENT
DTSTART;TZID=America/Chicago:20260119T100000
DTEND;TZID=America/Chicago:20260119T110000
DTSTAMP:20260423T143335
CREATED:20251221T010417Z
LAST-MODIFIED:20260119T023424Z
UID:10004406-1768816800-1768820400@harrisonbayseniorliving.com
SUMMARY:Cardio Drumming
DESCRIPTION:
URL:https://harrisonbayseniorliving.com/event-calendar/cardio-drumming-93/
LOCATION:Memory Care
CATEGORIES:Senior Living
END:VEVENT
BEGIN:VEVENT
DTSTART;TZID=America/Chicago:20260113T100000
DTEND;TZID=America/Chicago:20260113T110000
DTSTAMP:20260423T143335
CREATED:20251215T003447Z
LAST-MODIFIED:20260113T021912Z
UID:10004294-1768298400-1768302000@harrisonbayseniorliving.com
SUMMARY:Cardio Drumming
DESCRIPTION:
URL:https://harrisonbayseniorliving.com/event-calendar/cardio-drumming-90/
LOCATION:Memory Care
CATEGORIES:Senior Living
END:VEVENT
BEGIN:VEVENT
DTSTART;TZID=America/Chicago:20260112T100000
DTEND;TZID=America/Chicago:20260112T110000
DTSTAMP:20260423T143335
CREATED:20251214T003422Z
LAST-MODIFIED:20260112T021912Z
UID:10004279-1768212000-1768215600@harrisonbayseniorliving.com
SUMMARY:Cardio Drumming
DESCRIPTION:
URL:https://harrisonbayseniorliving.com/event-calendar/cardio-drumming-89/
LOCATION:Memory Care
CATEGORIES:Senior Living
END:VEVENT
BEGIN:VEVENT
DTSTART;TZID=America/Chicago:20260106T100000
DTEND;TZID=America/Chicago:20260106T110000
DTSTAMP:20260423T143335
CREATED:20251208T001916Z
LAST-MODIFIED:20260106T013503Z
UID:10004182-1767693600-1767697200@harrisonbayseniorliving.com
SUMMARY:Cardio Drumming
DESCRIPTION:
URL:https://harrisonbayseniorliving.com/event-calendar/cardio-drumming-86/
LOCATION:Memory Care
CATEGORIES:Senior Living
END:VEVENT
BEGIN:VEVENT
DTSTART;TZID=America/Chicago:20260105T100000
DTEND;TZID=America/Chicago:20260105T110000
DTSTAMP:20260423T143335
CREATED:20251207T001917Z
LAST-MODIFIED:20260105T013419Z
UID:10004166-1767607200-1767610800@harrisonbayseniorliving.com
SUMMARY:Cardio Drumming
DESCRIPTION:
URL:https://harrisonbayseniorliving.com/event-calendar/cardio-drumming-85/
LOCATION:Memory Care
CATEGORIES:Senior Living
END:VEVENT
BEGIN:VEVENT
DTSTART;TZID=America/Chicago:20251230T100000
DTEND;TZID=America/Chicago:20251230T110000
DTSTAMP:20260423T143335
CREATED:20251201T000420Z
LAST-MODIFIED:20251230T013419Z
UID:10004057-1767088800-1767092400@harrisonbayseniorliving.com
SUMMARY:Cardio Drumming
DESCRIPTION:
URL:https://harrisonbayseniorliving.com/event-calendar/cardio-drumming-82/
LOCATION:Memory Care
CATEGORIES:Senior Living
END:VEVENT
BEGIN:VEVENT
DTSTART;TZID=America/Chicago:20251229T100000
DTEND;TZID=America/Chicago:20251229T110000
DTSTAMP:20260423T143335
CREATED:20251130T000450Z
LAST-MODIFIED:20251229T013432Z
UID:10004052-1767002400-1767006000@harrisonbayseniorliving.com
SUMMARY:Cardio Drumming
DESCRIPTION:
URL:https://harrisonbayseniorliving.com/event-calendar/cardio-drumming-81/
LOCATION:Memory Care
CATEGORIES:Senior Living
END:VEVENT
BEGIN:VEVENT
DTSTART;TZID=America/Chicago:20251223T100000
DTEND;TZID=America/Chicago:20251223T110000
DTSTAMP:20260423T143335
CREATED:20251124T054919Z
LAST-MODIFIED:20251223T011915Z
UID:10003953-1766484000-1766487600@harrisonbayseniorliving.com
SUMMARY:Cardio Drumming
DESCRIPTION:
URL:https://harrisonbayseniorliving.com/event-calendar/cardio-drumming-78/
LOCATION:Memory Care
CATEGORIES:Senior Living
END:VEVENT
BEGIN:VEVENT
DTSTART;TZID=America/Chicago:20251222T100000
DTEND;TZID=America/Chicago:20251222T110000
DTSTAMP:20260423T143335
CREATED:20251123T054937Z
LAST-MODIFIED:20251222T010412Z
UID:10003920-1766397600-1766401200@harrisonbayseniorliving.com
SUMMARY:Cardio Drumming
DESCRIPTION:
URL:https://harrisonbayseniorliving.com/event-calendar/cardio-drumming-77/
LOCATION:Memory Care
CATEGORIES:Senior Living
END:VEVENT
BEGIN:VEVENT
DTSTART;TZID=America/Chicago:20251216T100000
DTEND;TZID=America/Chicago:20251216T110000
DTSTAMP:20260423T143335
CREATED:20251117T053439Z
LAST-MODIFIED:20251216T003415Z
UID:10003803-1765879200-1765882800@harrisonbayseniorliving.com
SUMMARY:Cardio Drumming
DESCRIPTION:
URL:https://harrisonbayseniorliving.com/event-calendar/cardio-drumming-74/
LOCATION:Memory Care
CATEGORIES:Senior Living
END:VEVENT
BEGIN:VEVENT
DTSTART;TZID=America/Chicago:20251215T100000
DTEND;TZID=America/Chicago:20251215T110000
DTSTAMP:20260423T143335
CREATED:20251116T053418Z
LAST-MODIFIED:20251215T003442Z
UID:10003789-1765792800-1765796400@harrisonbayseniorliving.com
SUMMARY:Cardio Drumming
DESCRIPTION:
URL:https://harrisonbayseniorliving.com/event-calendar/cardio-drumming-73/
LOCATION:Memory Care
CATEGORIES:Senior Living
END:VEVENT
BEGIN:VEVENT
DTSTART;TZID=America/Chicago:20251209T100000
DTEND;TZID=America/Chicago:20251209T110000
DTSTAMP:20260423T143335
CREATED:20251110T051929Z
LAST-MODIFIED:20251209T001914Z
UID:10003687-1765274400-1765278000@harrisonbayseniorliving.com
SUMMARY:Cardio Drumming
DESCRIPTION:
URL:https://harrisonbayseniorliving.com/event-calendar/cardio-drumming-70/
LOCATION:Memory Care
CATEGORIES:Senior Living
END:VEVENT
BEGIN:VEVENT
DTSTART;TZID=America/Chicago:20251208T100000
DTEND;TZID=America/Chicago:20251208T110000
DTSTAMP:20260423T143335
CREATED:20251109T051925Z
LAST-MODIFIED:20251208T001911Z
UID:10003671-1765188000-1765191600@harrisonbayseniorliving.com
SUMMARY:Cardio Drumming
DESCRIPTION:
URL:https://harrisonbayseniorliving.com/event-calendar/cardio-drumming-69/
LOCATION:Memory Care
CATEGORIES:Senior Living
END:VEVENT
END:VCALENDAR