BEGIN:VCALENDAR
VERSION:2.0
PRODID:-//Harrison Bay Senior Living - ECPv6.11.2.1//NONSGML v1.0//EN
CALSCALE:GREGORIAN
METHOD:PUBLISH
X-ORIGINAL-URL:https://harrisonbayseniorliving.com
X-WR-CALDESC:Events for Harrison Bay Senior Living
REFRESH-INTERVAL;VALUE=DURATION:PT1H
X-Robots-Tag:noindex
X-PUBLISHED-TTL:PT1H
BEGIN:VTIMEZONE
TZID:America/Chicago
BEGIN:DAYLIGHT
TZOFFSETFROM:-0600
TZOFFSETTO:-0500
TZNAME:CDT
DTSTART:20260308T080000
END:DAYLIGHT
BEGIN:STANDARD
TZOFFSETFROM:-0500
TZOFFSETTO:-0600
TZNAME:CST
DTSTART:20261101T070000
END:STANDARD
END:VTIMEZONE
BEGIN:VEVENT
DTSTART;TZID=America/Chicago:20260520T150000
DTEND;TZID=America/Chicago:20260520T160000
DTSTAMP:20260423T041613
CREATED:20260421T085001Z
LAST-MODIFIED:20260423T084930Z
UID:10006125-1779289200-1779292800@harrisonbayseniorliving.com
SUMMARY:Needle Crew
DESCRIPTION:
URL:https://harrisonbayseniorliving.com/event-calendar/needle-crew-8/
LOCATION:Community Room
CATEGORIES:Senior Living
END:VEVENT
BEGIN:VEVENT
DTSTART;TZID=America/Chicago:20260521T093000
DTEND;TZID=America/Chicago:20260521T100000
DTSTAMP:20260423T041613
CREATED:20260422T084927Z
LAST-MODIFIED:20260423T084930Z
UID:10006126-1779355800-1779357600@harrisonbayseniorliving.com
SUMMARY:Happy Feet Walkers
DESCRIPTION:
URL:https://harrisonbayseniorliving.com/event-calendar/happy-feet-walkers-446/
LOCATION:Main Lobby
CATEGORIES:Senior Living
END:VEVENT
BEGIN:VEVENT
DTSTART;TZID=America/Chicago:20260521T100000
DTEND;TZID=America/Chicago:20260521T103000
DTSTAMP:20260423T041613
CREATED:20260422T084928Z
LAST-MODIFIED:20260423T084931Z
UID:10006127-1779357600-1779359400@harrisonbayseniorliving.com
SUMMARY:Chair Exercise
DESCRIPTION:
URL:https://harrisonbayseniorliving.com/event-calendar/chair-exercise-190/
CATEGORIES:Senior Living
END:VEVENT
BEGIN:VEVENT
DTSTART;TZID=America/Chicago:20260521T103000
DTEND;TZID=America/Chicago:20260521T113000
DTSTAMP:20260423T041613
CREATED:20260422T084928Z
LAST-MODIFIED:20260423T084931Z
UID:10006128-1779359400-1779363000@harrisonbayseniorliving.com
SUMMARY:Men's Gathering
DESCRIPTION:
URL:https://harrisonbayseniorliving.com/event-calendar/mens-gathering-108/
LOCATION:Pub
CATEGORIES:Senior Living
END:VEVENT
BEGIN:VEVENT
DTSTART;TZID=America/Chicago:20260521T130000
DTEND;TZID=America/Chicago:20260521T140000
DTSTAMP:20260423T041613
CREATED:20260422T084928Z
LAST-MODIFIED:20260423T084931Z
UID:10006129-1779368400-1779372000@harrisonbayseniorliving.com
SUMMARY:Social Hour + Link Senior Games
DESCRIPTION:
URL:https://harrisonbayseniorliving.com/event-calendar/social-hour-link-senior-games-60/
LOCATION:Community Room
CATEGORIES:Senior Living
END:VEVENT
BEGIN:VEVENT
DTSTART;TZID=America/Chicago:20260521T140000
DTEND;TZID=America/Chicago:20260521T163000
DTSTAMP:20260423T041613
CREATED:20260422T084928Z
LAST-MODIFIED:20260423T084931Z
UID:10006130-1779372000-1779381000@harrisonbayseniorliving.com
SUMMARY:Tabletop Decorations Diamond Painting Centerpieces
DESCRIPTION:
URL:https://harrisonbayseniorliving.com/event-calendar/tabletop-decorations-diamond-painting-centerpieces/
LOCATION:Community Room
CATEGORIES:Senior Living
END:VEVENT
BEGIN:VEVENT
DTSTART;TZID=America/Chicago:20260521T150000
DTEND;TZID=America/Chicago:20260521T160000
DTSTAMP:20260423T041613
CREATED:20260422T084929Z
LAST-MODIFIED:20260423T084931Z
UID:10006131-1779375600-1779379200@harrisonbayseniorliving.com
SUMMARY:Inspirational Movie: Tricky Dick and The Men in Black
DESCRIPTION:
URL:https://harrisonbayseniorliving.com/event-calendar/inspirational-movie-tricky-dick-and-the-men-in-black/
LOCATION:Pub
CATEGORIES:Senior Living
END:VEVENT
BEGIN:VEVENT
DTSTART;TZID=America/Chicago:20260522T090000
DTEND;TZID=America/Chicago:20260522T100000
DTSTAMP:20260423T041613
CREATED:20260423T084931Z
LAST-MODIFIED:20260423T084931Z
UID:10006134-1779440400-1779444000@harrisonbayseniorliving.com
SUMMARY:Catholic Communion (R)
DESCRIPTION:
URL:https://harrisonbayseniorliving.com/event-calendar/catholic-communion-r-53/
CATEGORIES:Senior Living
END:VEVENT
BEGIN:VEVENT
DTSTART;TZID=America/Chicago:20260522T093000
DTEND;TZID=America/Chicago:20260522T100000
DTSTAMP:20260423T041613
CREATED:20260423T084931Z
LAST-MODIFIED:20260423T084931Z
UID:10006135-1779442200-1779444000@harrisonbayseniorliving.com
SUMMARY:Happy Feet Walkers
DESCRIPTION:
URL:https://harrisonbayseniorliving.com/event-calendar/happy-feet-walkers-447/
LOCATION:Main Lobby
CATEGORIES:Senior Living
END:VEVENT
BEGIN:VEVENT
DTSTART;TZID=America/Chicago:20260522T100000
DTEND;TZID=America/Chicago:20260522T103000
DTSTAMP:20260423T041613
CREATED:20260423T084931Z
LAST-MODIFIED:20260423T084931Z
UID:10006136-1779444000-1779445800@harrisonbayseniorliving.com
SUMMARY:Chair Exercise
DESCRIPTION:
URL:https://harrisonbayseniorliving.com/event-calendar/chair-exercise-191/
CATEGORIES:Senior Living
END:VEVENT
BEGIN:VEVENT
DTSTART;TZID=America/Chicago:20260522T103000
DTEND;TZID=America/Chicago:20260522T113000
DTSTAMP:20260423T041613
CREATED:20260423T084931Z
LAST-MODIFIED:20260423T084931Z
UID:10006137-1779445800-1779449400@harrisonbayseniorliving.com
SUMMARY:Mass with Father Peter
DESCRIPTION:
URL:https://harrisonbayseniorliving.com/event-calendar/mass-with-father-peter-11/
LOCATION:Community Room
CATEGORIES:Senior Living
END:VEVENT
BEGIN:VEVENT
DTSTART;TZID=America/Chicago:20260522T130000
DTEND;TZID=America/Chicago:20260522T140000
DTSTAMP:20260423T041613
CREATED:20260423T084931Z
LAST-MODIFIED:20260423T084931Z
UID:10006138-1779454800-1779458400@harrisonbayseniorliving.com
SUMMARY:Really Big Show with Dr. Bill
DESCRIPTION:
URL:https://harrisonbayseniorliving.com/event-calendar/really-big-show-with-dr-bill-14/
LOCATION:Community Room
CATEGORIES:Senior Living
END:VEVENT
BEGIN:VEVENT
DTSTART;TZID=America/Chicago:20260522T140000
DTEND;TZID=America/Chicago:20260522T150000
DTSTAMP:20260423T041613
CREATED:20260423T084932Z
LAST-MODIFIED:20260423T084932Z
UID:10006139-1779458400-1779462000@harrisonbayseniorliving.com
SUMMARY:BINGO
DESCRIPTION:
URL:https://harrisonbayseniorliving.com/event-calendar/bingo-229/
LOCATION:Community Room
CATEGORIES:Senior Living
END:VEVENT
BEGIN:VEVENT
DTSTART;TZID=America/Chicago:20260522T150000
DTEND;TZID=America/Chicago:20260522T160000
DTSTAMP:20260423T041613
CREATED:20260423T084932Z
LAST-MODIFIED:20260423T084932Z
UID:10006140-1779462000-1779465600@harrisonbayseniorliving.com
SUMMARY:Cocktails with Ashley
DESCRIPTION:
URL:https://harrisonbayseniorliving.com/event-calendar/cocktails-with-ashley-4/
LOCATION:Pub
CATEGORIES:Senior Living
END:VEVENT
END:VCALENDAR