BEGIN:VCALENDAR
VERSION:2.0
PRODID:-//Harrison Bay Senior Living - ECPv6.11.2.1//NONSGML v1.0//EN
CALSCALE:GREGORIAN
METHOD:PUBLISH
X-ORIGINAL-URL:https://harrisonbayseniorliving.com
X-WR-CALDESC:Events for Harrison Bay Senior Living
REFRESH-INTERVAL;VALUE=DURATION:PT1H
X-Robots-Tag:noindex
X-PUBLISHED-TTL:PT1H
BEGIN:VTIMEZONE
TZID:America/Chicago
BEGIN:DAYLIGHT
TZOFFSETFROM:-0600
TZOFFSETTO:-0500
TZNAME:CDT
DTSTART:20260308T080000
END:DAYLIGHT
BEGIN:STANDARD
TZOFFSETFROM:-0500
TZOFFSETTO:-0600
TZNAME:CST
DTSTART:20261101T070000
END:STANDARD
END:VTIMEZONE
BEGIN:VEVENT
DTSTART;TZID=America/Chicago:20260518T103000
DTEND;TZID=America/Chicago:20260518T113000
DTSTAMP:20260421T054011
CREATED:20260419T084935Z
LAST-MODIFIED:20260421T084957Z
UID:10006110-1779100200-1779103800@harrisonbayseniorliving.com
SUMMARY:Women's Group
DESCRIPTION:
URL:https://harrisonbayseniorliving.com/event-calendar/womens-group-55/
LOCATION:Pub
CATEGORIES:Senior Living
END:VEVENT
BEGIN:VEVENT
DTSTART;TZID=America/Chicago:20260518T130000
DTEND;TZID=America/Chicago:20260518T140000
DTSTAMP:20260421T054011
CREATED:20260419T084935Z
LAST-MODIFIED:20260421T084957Z
UID:10006111-1779109200-1779112800@harrisonbayseniorliving.com
SUMMARY:BINGO
DESCRIPTION:
URL:https://harrisonbayseniorliving.com/event-calendar/bingo-227/
LOCATION:Community Room
CATEGORIES:Senior Living
END:VEVENT
BEGIN:VEVENT
DTSTART;TZID=America/Chicago:20260518T140000
DTEND;TZID=America/Chicago:20260518T160000
DTSTAMP:20260421T054011
CREATED:20260419T084936Z
LAST-MODIFIED:20260421T084958Z
UID:10006112-1779112800-1779120000@harrisonbayseniorliving.com
SUMMARY:Make Your Own Suncatcher
DESCRIPTION:
URL:https://harrisonbayseniorliving.com/event-calendar/make-your-own-suncatcher/
LOCATION:Community Room
CATEGORIES:Senior Living
END:VEVENT
BEGIN:VEVENT
DTSTART;TZID=America/Chicago:20260519T093000
DTEND;TZID=America/Chicago:20260519T100000
DTSTAMP:20260421T054011
CREATED:20260420T085000Z
LAST-MODIFIED:20260421T084959Z
UID:10006113-1779183000-1779184800@harrisonbayseniorliving.com
SUMMARY:Happy Feet Walkers
DESCRIPTION:
URL:https://harrisonbayseniorliving.com/event-calendar/happy-feet-walkers-444/
LOCATION:Main Lobby
CATEGORIES:Senior Living
END:VEVENT
BEGIN:VEVENT
DTSTART;TZID=America/Chicago:20260519T100000
DTEND;TZID=America/Chicago:20260519T110000
DTSTAMP:20260421T054011
CREATED:20260420T085001Z
LAST-MODIFIED:20260421T084958Z
UID:10006114-1779184800-1779188400@harrisonbayseniorliving.com
SUMMARY:Cardio Drumming
DESCRIPTION:
URL:https://harrisonbayseniorliving.com/event-calendar/cardio-drumming-154/
LOCATION:Memory Care
CATEGORIES:Senior Living
END:VEVENT
BEGIN:VEVENT
DTSTART;TZID=America/Chicago:20260519T100000
DTEND;TZID=America/Chicago:20260519T120000
DTSTAMP:20260421T054011
CREATED:20260420T085001Z
LAST-MODIFIED:20260421T084958Z
UID:10006115-1779184800-1779192000@harrisonbayseniorliving.com
SUMMARY:Appointment Nail Salon Day
DESCRIPTION:
URL:https://harrisonbayseniorliving.com/event-calendar/appointment-nail-salon-day-3/
LOCATION:Youa’s Office
CATEGORIES:Senior Living
END:VEVENT
BEGIN:VEVENT
DTSTART;TZID=America/Chicago:20260519T103000
DTEND;TZID=America/Chicago:20260519T113000
DTSTAMP:20260421T054011
CREATED:20260420T085002Z
LAST-MODIFIED:20260421T084958Z
UID:10006116-1779186600-1779190200@harrisonbayseniorliving.com
SUMMARY:Men's Gathering
DESCRIPTION:
URL:https://harrisonbayseniorliving.com/event-calendar/mens-gathering-107/
LOCATION:Pub
CATEGORIES:Senior Living
END:VEVENT
BEGIN:VEVENT
DTSTART;TZID=America/Chicago:20260519T130000
DTEND;TZID=America/Chicago:20260519T140000
DTSTAMP:20260421T054011
CREATED:20260420T085002Z
LAST-MODIFIED:20260421T084959Z
UID:10006117-1779195600-1779199200@harrisonbayseniorliving.com
SUMMARY:Competition Robot Soccer
DESCRIPTION:
URL:https://harrisonbayseniorliving.com/event-calendar/competition-robot-soccer-4/
LOCATION:Community Room
CATEGORIES:Senior Living
END:VEVENT
BEGIN:VEVENT
DTSTART;TZID=America/Chicago:20260519T140000
DTEND;TZID=America/Chicago:20260519T150000
DTSTAMP:20260421T054011
CREATED:20260420T085003Z
LAST-MODIFIED:20260421T084959Z
UID:10006118-1779199200-1779202800@harrisonbayseniorliving.com
SUMMARY:Life After Loss with Chaplain Kristin Anderson
DESCRIPTION:
URL:https://harrisonbayseniorliving.com/event-calendar/life-after-loss-with-chaplain-kristin-anderson/
LOCATION:Community Room
CATEGORIES:Senior Living
END:VEVENT
BEGIN:VEVENT
DTSTART;TZID=America/Chicago:20260519T150000
DTEND;TZID=America/Chicago:20260519T160000
DTSTAMP:20260421T054011
CREATED:20260421T084959Z
LAST-MODIFIED:20260421T084959Z
UID:10006121-1779202800-1779206400@harrisonbayseniorliving.com
SUMMARY:NICKEL BINGO
DESCRIPTION:
URL:https://harrisonbayseniorliving.com/event-calendar/nickel-bingo-13/
LOCATION:Community Room
CATEGORIES:Senior Living
END:VEVENT
BEGIN:VEVENT
DTSTART;TZID=America/Chicago:20260520T093000
DTEND;TZID=America/Chicago:20260520T100000
DTSTAMP:20260421T054011
CREATED:20260421T085000Z
LAST-MODIFIED:20260421T085000Z
UID:10006122-1779269400-1779271200@harrisonbayseniorliving.com
SUMMARY:Happy Feet Walkers
DESCRIPTION:
URL:https://harrisonbayseniorliving.com/event-calendar/happy-feet-walkers-445/
LOCATION:Main Lobby
CATEGORIES:Senior Living
END:VEVENT
BEGIN:VEVENT
DTSTART;TZID=America/Chicago:20260520T100000
DTEND;TZID=America/Chicago:20260520T103000
DTSTAMP:20260421T054011
CREATED:20260421T085000Z
LAST-MODIFIED:20260421T085000Z
UID:10006123-1779271200-1779273000@harrisonbayseniorliving.com
SUMMARY:Chair Exercise
DESCRIPTION:
URL:https://harrisonbayseniorliving.com/event-calendar/chair-exercise-189/
CATEGORIES:Senior Living
END:VEVENT
BEGIN:VEVENT
DTSTART;TZID=America/Chicago:20260520T112000
DTEND;TZID=America/Chicago:20260520T150000
DTSTAMP:20260421T054011
CREATED:20260421T085000Z
LAST-MODIFIED:20260421T085000Z
UID:10006124-1779276000-1779289200@harrisonbayseniorliving.com
SUMMARY:Outing: Twins Games
DESCRIPTION:
URL:https://harrisonbayseniorliving.com/event-calendar/outing-twins-games/
CATEGORIES:Senior Living
END:VEVENT
BEGIN:VEVENT
DTSTART;TZID=America/Chicago:20260520T150000
DTEND;TZID=America/Chicago:20260520T160000
DTSTAMP:20260421T054011
CREATED:20260421T085001Z
LAST-MODIFIED:20260421T085001Z
UID:10006125-1779289200-1779292800@harrisonbayseniorliving.com
SUMMARY:Needle Crew
DESCRIPTION:
URL:https://harrisonbayseniorliving.com/event-calendar/needle-crew-8/
LOCATION:Community Room
CATEGORIES:Senior Living
END:VEVENT
END:VCALENDAR