BEGIN:VCALENDAR
VERSION:2.0
PRODID:-//Harrison Bay Senior Living - ECPv6.11.2.1//NONSGML v1.0//EN
CALSCALE:GREGORIAN
METHOD:PUBLISH
X-WR-CALNAME:Harrison Bay Senior Living
X-ORIGINAL-URL:https://harrisonbayseniorliving.com
X-WR-CALDESC:Events for Harrison Bay Senior Living
REFRESH-INTERVAL;VALUE=DURATION:PT1H
X-Robots-Tag:noindex
X-PUBLISHED-TTL:PT1H
BEGIN:VTIMEZONE
TZID:America/Chicago
BEGIN:DAYLIGHT
TZOFFSETFROM:-0600
TZOFFSETTO:-0500
TZNAME:CDT
DTSTART:20250309T080000
END:DAYLIGHT
BEGIN:STANDARD
TZOFFSETFROM:-0500
TZOFFSETTO:-0600
TZNAME:CST
DTSTART:20251102T070000
END:STANDARD
END:VTIMEZONE
BEGIN:VEVENT
DTSTART;TZID=America/Chicago:20251016T100000
DTEND;TZID=America/Chicago:20251016T103000
DTSTAMP:20260422T205623
CREATED:20250917T033440Z
LAST-MODIFIED:20251016T050519Z
UID:10002734-1760608800-1760610600@harrisonbayseniorliving.com
SUMMARY:Chair Exercise: Yoga
DESCRIPTION:
URL:https://harrisonbayseniorliving.com/event-calendar/chair-exercise-98/
LOCATION:Community Room
CATEGORIES:Senior Living
END:VEVENT
BEGIN:VEVENT
DTSTART;TZID=America/Chicago:20251016T093000
DTEND;TZID=America/Chicago:20251016T100000
DTSTAMP:20260422T205623
CREATED:20250917T033440Z
LAST-MODIFIED:20251016T050519Z
UID:10002733-1760607000-1760608800@harrisonbayseniorliving.com
SUMMARY:Happy Feet Walkers
DESCRIPTION:
URL:https://harrisonbayseniorliving.com/event-calendar/happy-feet-walkers-158/
LOCATION:Main Lobby
CATEGORIES:Senior Living
END:VEVENT
BEGIN:VEVENT
DTSTART;TZID=America/Chicago:20251015T152000
DTEND;TZID=America/Chicago:20251015T162000
DTSTAMP:20260422T205624
CREATED:20250916T033418Z
LAST-MODIFIED:20251015T050412Z
UID:10002712-1760541600-1760545200@harrisonbayseniorliving.com
SUMMARY:PENNY BINGO
DESCRIPTION:
URL:https://harrisonbayseniorliving.com/event-calendar/penny-bingo-24/
LOCATION:Community Room
CATEGORIES:Senior Living
END:VEVENT
BEGIN:VEVENT
DTSTART;TZID=America/Chicago:20251015T140000
DTEND;TZID=America/Chicago:20251015T150000
DTSTAMP:20260422T205624
CREATED:20251015T050410Z
LAST-MODIFIED:20251015T050412Z
UID:10003236-1760536800-1760540400@harrisonbayseniorliving.com
SUMMARY:PENNY BINGO
DESCRIPTION:
URL:https://harrisonbayseniorliving.com/event-calendar/penny-bingo-29/
LOCATION:Community Room
CATEGORIES:Senior Living
END:VEVENT
BEGIN:VEVENT
DTSTART;TZID=America/Chicago:20251015T140000
DTEND;TZID=America/Chicago:20251015T150000
DTSTAMP:20260422T205624
CREATED:20251001T040416Z
LAST-MODIFIED:20251015T071914Z
UID:10002999-1760536800-1760540400@harrisonbayseniorliving.com
SUMMARY:Birthday Bash with Jim Kirkendell
DESCRIPTION:
URL:https://harrisonbayseniorliving.com/event-calendar/birthday-bash-with-jim-kirkendell-2/
LOCATION:Dining Room
CATEGORIES:Memory Care,Senior Living
END:VEVENT
BEGIN:VEVENT
DTSTART;TZID=America/Chicago:20251015T130000
DTEND;TZID=America/Chicago:20251015T140000
DTSTAMP:20260422T205624
CREATED:20250924T040439Z
LAST-MODIFIED:20250927T061951Z
UID:10002860-1760533200-1760536800@harrisonbayseniorliving.com
SUMMARY:Birthday Bash with Jim Kirkendell
DESCRIPTION:
URL:https://harrisonbayseniorliving.com/event-calendar/birthday-bash-with-jim-kirkendell/
LOCATION:Dining Room
CATEGORIES:Memory Care,Senior Living
END:VEVENT
BEGIN:VEVENT
DTSTART;TZID=America/Chicago:20251015T130000
DTEND;TZID=America/Chicago:20251015T140000
DTSTAMP:20260422T205624
CREATED:20250924T040439Z
LAST-MODIFIED:20251015T071914Z
UID:10002861-1760533200-1760536800@harrisonbayseniorliving.com
SUMMARY:Competition: Arm Crank HB vs. Loons
DESCRIPTION:
URL:https://harrisonbayseniorliving.com/event-calendar/competition-arm-crank-hb-vs-loons/
LOCATION:Community Room
CATEGORIES:Memory Care,Senior Living
END:VEVENT
BEGIN:VEVENT
DTSTART;TZID=America/Chicago:20251015T103000
DTEND;TZID=America/Chicago:20251015T113000
DTSTAMP:20260422T205624
CREATED:20250924T040439Z
LAST-MODIFIED:20251015T071914Z
UID:10002859-1760524200-1760527800@harrisonbayseniorliving.com
SUMMARY:Chef Demo with Ashley Culinary Director
DESCRIPTION:
URL:https://harrisonbayseniorliving.com/event-calendar/chef-demo-with-ashley-culinary-director-3/
LOCATION:Pub
CATEGORIES:Memory Care,Senior Living
END:VEVENT
BEGIN:VEVENT
DTSTART;TZID=America/Chicago:20251015T102500
DTEND;TZID=America/Chicago:20251015T140000
DTSTAMP:20260422T205624
CREATED:20250923T040456Z
LAST-MODIFIED:20250923T040456Z
UID:10002835-1760523900-1760536800@harrisonbayseniorliving.com
SUMMARY:Outing: Lunch @Yard House
DESCRIPTION:
URL:https://harrisonbayseniorliving.com/event-calendar/outing-lunch-yard-house/
CATEGORIES:Senior Living
END:VEVENT
BEGIN:VEVENT
DTSTART;TZID=America/Chicago:20251015T100000
DTEND;TZID=America/Chicago:20251015T103000
DTSTAMP:20260422T205624
CREATED:20250916T033418Z
LAST-MODIFIED:20251015T050412Z
UID:10002711-1760522400-1760524200@harrisonbayseniorliving.com
SUMMARY:Chair Exercise
DESCRIPTION:
URL:https://harrisonbayseniorliving.com/event-calendar/chair-exercise-97/
CATEGORIES:Senior Living
END:VEVENT
BEGIN:VEVENT
DTSTART;TZID=America/Chicago:20251015T093000
DTEND;TZID=America/Chicago:20251015T100000
DTSTAMP:20260422T205624
CREATED:20250916T033417Z
LAST-MODIFIED:20251015T050412Z
UID:10002710-1760520600-1760522400@harrisonbayseniorliving.com
SUMMARY:Happy Feet Walkers
DESCRIPTION:
URL:https://harrisonbayseniorliving.com/event-calendar/happy-feet-walkers-156/
LOCATION:Main Lobby
CATEGORIES:Senior Living
END:VEVENT
BEGIN:VEVENT
DTSTART;TZID=America/Chicago:20251014T150000
DTEND;TZID=America/Chicago:20251014T170000
DTSTAMP:20260422T205624
CREATED:20250924T040439Z
LAST-MODIFIED:20251014T072112Z
UID:10002858-1760454000-1760461200@harrisonbayseniorliving.com
SUMMARY:Art: Canvas Painting
DESCRIPTION:
URL:https://harrisonbayseniorliving.com/event-calendar/art-canvas-painting/
LOCATION:Community Room
CATEGORIES:Memory Care,Senior Living
END:VEVENT
BEGIN:VEVENT
DTSTART;TZID=America/Chicago:20251014T140000
DTEND;TZID=America/Chicago:20251014T150000
DTSTAMP:20260422T205624
CREATED:20251001T040416Z
LAST-MODIFIED:20251014T045025Z
UID:10002998-1760450400-1760454000@harrisonbayseniorliving.com
SUMMARY:Grief Group with Chaplain Kevin
DESCRIPTION:
URL:https://harrisonbayseniorliving.com/event-calendar/grief-group-with-chaplain-kevin-5/
LOCATION:Community Room
CATEGORIES:Senior Living
END:VEVENT
BEGIN:VEVENT
DTSTART;TZID=America/Chicago:20251014T130000
DTEND;TZID=America/Chicago:20251014T140000
DTSTAMP:20260422T205624
CREATED:20250924T040439Z
LAST-MODIFIED:20251014T045025Z
UID:10002857-1760446800-1760450400@harrisonbayseniorliving.com
SUMMARY:Deep Drive: How to be a Lifeguard
DESCRIPTION:
URL:https://harrisonbayseniorliving.com/event-calendar/deep-drive-how-to-be-a-lifeguard/
LOCATION:Community Room
CATEGORIES:Memory Care,Senior Living
END:VEVENT
BEGIN:VEVENT
DTSTART;TZID=America/Chicago:20251014T103000
DTEND;TZID=America/Chicago:20251014T113000
DTSTAMP:20260422T205624
CREATED:20250915T033419Z
LAST-MODIFIED:20251014T072114Z
UID:10002698-1760437800-1760441400@harrisonbayseniorliving.com
SUMMARY:Men's Gathering
DESCRIPTION:
URL:https://harrisonbayseniorliving.com/event-calendar/mens-gathering-44/
LOCATION:Pub
CATEGORIES:Memory Care,Senior Living
END:VEVENT
BEGIN:VEVENT
DTSTART;TZID=America/Chicago:20251014T100000
DTEND;TZID=America/Chicago:20251014T110000
DTSTAMP:20260422T205624
CREATED:20250915T033419Z
LAST-MODIFIED:20251014T045025Z
UID:10002697-1760436000-1760439600@harrisonbayseniorliving.com
SUMMARY:Cardio Drumming
DESCRIPTION:
URL:https://harrisonbayseniorliving.com/event-calendar/cardio-drumming-37/
LOCATION:Community Room
CATEGORIES:Senior Living
END:VEVENT
BEGIN:VEVENT
DTSTART;TZID=America/Chicago:20251014T093000
DTEND;TZID=America/Chicago:20251014T100000
DTSTAMP:20260422T205624
CREATED:20250915T033418Z
LAST-MODIFIED:20251014T045025Z
UID:10002696-1760434200-1760436000@harrisonbayseniorliving.com
SUMMARY:Happy Feet Walkers
DESCRIPTION:
URL:https://harrisonbayseniorliving.com/event-calendar/happy-feet-walkers-154/
LOCATION:Main Lobby
CATEGORIES:Senior Living
END:VEVENT
BEGIN:VEVENT
DTSTART;TZID=America/Chicago:20251013T150000
DTEND;TZID=America/Chicago:20251013T160000
DTSTAMP:20260422T205624
CREATED:20250914T031932Z
LAST-MODIFIED:20251013T044912Z
UID:10002683-1760367600-1760371200@harrisonbayseniorliving.com
SUMMARY:"Get To Know Your Neighbor" Welcome Commitee
DESCRIPTION:
URL:https://harrisonbayseniorliving.com/event-calendar/get-to-know-your-neighbor-welcome-commitee-6/
LOCATION:Community Room
CATEGORIES:Senior Living
END:VEVENT
BEGIN:VEVENT
DTSTART;TZID=America/Chicago:20251013T140000
DTEND;TZID=America/Chicago:20251013T150000
DTSTAMP:20260422T205624
CREATED:20250914T031932Z
LAST-MODIFIED:20251013T044912Z
UID:10002684-1760364000-1760367600@harrisonbayseniorliving.com
SUMMARY:LINK SENIOR: Brain Games
DESCRIPTION:
URL:https://harrisonbayseniorliving.com/event-calendar/link-senior-brain-games-16/
LOCATION:Community Room
CATEGORIES:Senior Living
END:VEVENT
BEGIN:VEVENT
DTSTART;TZID=America/Chicago:20251013T130000
DTEND;TZID=America/Chicago:20251013T140000
DTSTAMP:20260422T205624
CREATED:20250914T031932Z
LAST-MODIFIED:20251013T044912Z
UID:10002682-1760360400-1760364000@harrisonbayseniorliving.com
SUMMARY:BINGO
DESCRIPTION:
URL:https://harrisonbayseniorliving.com/event-calendar/bingo-75/
LOCATION:Community Room
CATEGORIES:Senior Living
END:VEVENT
BEGIN:VEVENT
DTSTART;TZID=America/Chicago:20251013T103000
DTEND;TZID=America/Chicago:20251013T113000
DTSTAMP:20260422T205624
CREATED:20250914T031932Z
LAST-MODIFIED:20251013T071914Z
UID:10002681-1760351400-1760355000@harrisonbayseniorliving.com
SUMMARY:Women's Group
DESCRIPTION:
URL:https://harrisonbayseniorliving.com/event-calendar/womens-group-23/
LOCATION:Pub
CATEGORIES:Memory Care,Senior Living
END:VEVENT
BEGIN:VEVENT
DTSTART;TZID=America/Chicago:20251013T100000
DTEND;TZID=America/Chicago:20251013T110000
DTSTAMP:20260422T205624
CREATED:20250914T031931Z
LAST-MODIFIED:20251013T044912Z
UID:10002680-1760349600-1760353200@harrisonbayseniorliving.com
SUMMARY:Cardio Drumming
DESCRIPTION:
URL:https://harrisonbayseniorliving.com/event-calendar/cardio-drumming-36/
LOCATION:Community Room
CATEGORIES:Senior Living
END:VEVENT
BEGIN:VEVENT
DTSTART;TZID=America/Chicago:20251013T093000
DTEND;TZID=America/Chicago:20251013T100000
DTSTAMP:20260422T205624
CREATED:20250914T031931Z
LAST-MODIFIED:20251013T044912Z
UID:10002679-1760347800-1760349600@harrisonbayseniorliving.com
SUMMARY:Happy Feet Walkers
DESCRIPTION:
URL:https://harrisonbayseniorliving.com/event-calendar/happy-feet-walkers-153/
LOCATION:Main Lobby
CATEGORIES:Senior Living
END:VEVENT
BEGIN:VEVENT
DTSTART;TZID=America/Chicago:20251012T180000
DTEND;TZID=America/Chicago:20251012T190000
DTSTAMP:20260422T205624
CREATED:20250928T040439Z
LAST-MODIFIED:20251012T043412Z
UID:10002936-1760292000-1760295600@harrisonbayseniorliving.com
SUMMARY:Game Night
DESCRIPTION:
URL:https://harrisonbayseniorliving.com/event-calendar/game-night-2/
LOCATION:Community Room
CATEGORIES:Senior Living
END:VEVENT
BEGIN:VEVENT
DTSTART;TZID=America/Chicago:20251011T180000
DTEND;TZID=America/Chicago:20251011T200000
DTSTAMP:20260422T205624
CREATED:20250912T031917Z
LAST-MODIFIED:20251011T043418Z
UID:10002648-1760205600-1760212800@harrisonbayseniorliving.com
SUMMARY:MOVIE NIGHT: Bram Stoker's Dracula
DESCRIPTION:
URL:https://harrisonbayseniorliving.com/event-calendar/movie-night-15/
LOCATION:Pub
CATEGORIES:Senior Living
END:VEVENT
BEGIN:VEVENT
DTSTART;TZID=America/Chicago:20251011T140000
DTEND;TZID=America/Chicago:20251011T145900
DTSTAMP:20260422T205624
CREATED:20250912T031917Z
LAST-MODIFIED:20251011T043418Z
UID:10002647-1760191200-1760194740@harrisonbayseniorliving.com
SUMMARY:Bible Study (R)
DESCRIPTION:
URL:https://harrisonbayseniorliving.com/event-calendar/bible-study-r-22/
LOCATION:Community Room
CATEGORIES:Senior Living
END:VEVENT
BEGIN:VEVENT
DTSTART;TZID=America/Chicago:20251011T130000
DTEND;TZID=America/Chicago:20251011T140000
DTSTAMP:20260422T205624
CREATED:20250928T040438Z
LAST-MODIFIED:20251011T043418Z
UID:10002935-1760187600-1760191200@harrisonbayseniorliving.com
SUMMARY:Craft Time
DESCRIPTION:
URL:https://harrisonbayseniorliving.com/event-calendar/craft-time-2/
LOCATION:Community Room
CATEGORIES:Senior Living
END:VEVENT
BEGIN:VEVENT
DTSTART;TZID=America/Chicago:20251010T140000
DTEND;TZID=America/Chicago:20251010T150000
DTSTAMP:20260422T205624
CREATED:20250924T040438Z
LAST-MODIFIED:20251010T041925Z
UID:10002856-1760104800-1760108400@harrisonbayseniorliving.com
SUMMARY:BINGO
DESCRIPTION:
URL:https://harrisonbayseniorliving.com/event-calendar/bingo-81/
LOCATION:Community Room
CATEGORIES:Senior Living
END:VEVENT
BEGIN:VEVENT
DTSTART;TZID=America/Chicago:20251010T130000
DTEND;TZID=America/Chicago:20251010T140000
DTSTAMP:20260422T205624
CREATED:20250924T040438Z
LAST-MODIFIED:20251010T070424Z
UID:10002855-1760101200-1760104800@harrisonbayseniorliving.com
SUMMARY:Really Big Show with Dr. Bill
DESCRIPTION:
URL:https://harrisonbayseniorliving.com/event-calendar/really-big-show-with-dr-bill/
LOCATION:Community Room
CATEGORIES:Memory Care,Senior Living
END:VEVENT
BEGIN:VEVENT
DTSTART;TZID=America/Chicago:20251010T100000
DTEND;TZID=America/Chicago:20251010T110000
DTSTAMP:20260422T205624
CREATED:20250924T040438Z
LAST-MODIFIED:20251009T070425Z
UID:10002854-1760090400-1760094000@harrisonbayseniorliving.com
SUMMARY:Church Service with Chaplain Shane
DESCRIPTION:
URL:https://harrisonbayseniorliving.com/event-calendar/church-service-with-chaplain-shane-3/
LOCATION:Community Room
CATEGORIES:Memory Care,Senior Living
END:VEVENT
END:VCALENDAR