BEGIN:VCALENDAR
VERSION:2.0
PRODID:-//Harrison Bay Senior Living - ECPv6.11.2.1//NONSGML v1.0//EN
CALSCALE:GREGORIAN
METHOD:PUBLISH
X-ORIGINAL-URL:https://harrisonbayseniorliving.com
X-WR-CALDESC:Events for Harrison Bay Senior Living
REFRESH-INTERVAL;VALUE=DURATION:PT1H
X-Robots-Tag:noindex
X-PUBLISHED-TTL:PT1H
BEGIN:VTIMEZONE
TZID:America/Chicago
BEGIN:DAYLIGHT
TZOFFSETFROM:-0600
TZOFFSETTO:-0500
TZNAME:CDT
DTSTART:20250309T080000
END:DAYLIGHT
BEGIN:STANDARD
TZOFFSETFROM:-0500
TZOFFSETTO:-0600
TZNAME:CST
DTSTART:20251102T070000
END:STANDARD
END:VTIMEZONE
BEGIN:VEVENT
DTSTART;TZID=America/Chicago:20251027T093000
DTEND;TZID=America/Chicago:20251027T100000
DTSTAMP:20260422T130051
CREATED:20250928T040442Z
LAST-MODIFIED:20251027T051953Z
UID:10002942-1761557400-1761559200@harrisonbayseniorliving.com
SUMMARY:Happy Feet Walkers
DESCRIPTION:
URL:https://harrisonbayseniorliving.com/event-calendar/happy-feet-walkers-173/
LOCATION:Main Lobby
CATEGORIES:Senior Living
END:VEVENT
BEGIN:VEVENT
DTSTART;TZID=America/Chicago:20251026T180000
DTEND;TZID=America/Chicago:20251026T190000
DTSTAMP:20260422T130051
CREATED:20250928T040442Z
LAST-MODIFIED:20251026T051914Z
UID:10002941-1761501600-1761505200@harrisonbayseniorliving.com
SUMMARY:Game Night
DESCRIPTION:
URL:https://harrisonbayseniorliving.com/event-calendar/game-night-4/
LOCATION:Community Room
CATEGORIES:Senior Living
END:VEVENT
BEGIN:VEVENT
DTSTART;TZID=America/Chicago:20251025T180000
DTEND;TZID=America/Chicago:20251025T200000
DTSTAMP:20260422T130051
CREATED:20250926T040418Z
LAST-MODIFIED:20251025T051917Z
UID:10002901-1761415200-1761422400@harrisonbayseniorliving.com
SUMMARY:MOVIE NIGHT: Fear Street Part 2: 1978
DESCRIPTION:
URL:https://harrisonbayseniorliving.com/event-calendar/movie-night-17/
LOCATION:Pub
CATEGORIES:Senior Living
END:VEVENT
BEGIN:VEVENT
DTSTART;TZID=America/Chicago:20251025T140000
DTEND;TZID=America/Chicago:20251025T145900
DTSTAMP:20260422T130051
CREATED:20250926T040418Z
LAST-MODIFIED:20251025T051917Z
UID:10002900-1761400800-1761404340@harrisonbayseniorliving.com
SUMMARY:Bible Study (R)
DESCRIPTION:
URL:https://harrisonbayseniorliving.com/event-calendar/bible-study-r-24/
LOCATION:Community Room
CATEGORIES:Senior Living
END:VEVENT
BEGIN:VEVENT
DTSTART;TZID=America/Chicago:20251025T130000
DTEND;TZID=America/Chicago:20251025T140000
DTSTAMP:20260422T130051
CREATED:20250928T040441Z
LAST-MODIFIED:20251025T051917Z
UID:10002940-1761397200-1761400800@harrisonbayseniorliving.com
SUMMARY:Craft Time
DESCRIPTION:
URL:https://harrisonbayseniorliving.com/event-calendar/craft-time-4/
LOCATION:Community Room
CATEGORIES:Senior Living
END:VEVENT
BEGIN:VEVENT
DTSTART;TZID=America/Chicago:20251024T140000
DTEND;TZID=America/Chicago:20251024T150000
DTSTAMP:20260422T130051
CREATED:20250925T040419Z
LAST-MODIFIED:20251024T051920Z
UID:10002886-1761314400-1761318000@harrisonbayseniorliving.com
SUMMARY:BINGO
DESCRIPTION:
URL:https://harrisonbayseniorliving.com/event-calendar/bingo-83/
LOCATION:Community Room
CATEGORIES:Senior Living
END:VEVENT
BEGIN:VEVENT
DTSTART;TZID=America/Chicago:20251024T130000
DTEND;TZID=America/Chicago:20251024T140000
DTSTAMP:20260422T130051
CREATED:20250925T040419Z
LAST-MODIFIED:20251024T074915Z
UID:10002885-1761310800-1761314400@harrisonbayseniorliving.com
SUMMARY:Really Big Show with Dr. Bill
DESCRIPTION:
URL:https://harrisonbayseniorliving.com/event-calendar/really-big-show-with-dr-bill-3/
LOCATION:Community Room
CATEGORIES:Memory Care,Senior Living
END:VEVENT
BEGIN:VEVENT
DTSTART;TZID=America/Chicago:20251024T103000
DTEND;TZID=America/Chicago:20251024T113000
DTSTAMP:20260422T130051
CREATED:20250925T040419Z
LAST-MODIFIED:20251014T072119Z
UID:10002884-1761301800-1761305400@harrisonbayseniorliving.com
SUMMARY:Mass with Father Peter
DESCRIPTION:
URL:https://harrisonbayseniorliving.com/event-calendar/mass-with-father-peter-2/
LOCATION:Community Room
CATEGORIES:Memory Care,Senior Living
END:VEVENT
BEGIN:VEVENT
DTSTART;TZID=America/Chicago:20251024T100000
DTEND;TZID=America/Chicago:20251024T103000
DTSTAMP:20260422T130051
CREATED:20250925T040418Z
LAST-MODIFIED:20251024T051920Z
UID:10002883-1761300000-1761301800@harrisonbayseniorliving.com
SUMMARY:Chair Exercise
DESCRIPTION:
URL:https://harrisonbayseniorliving.com/event-calendar/chair-exercise-102/
CATEGORIES:Senior Living
END:VEVENT
BEGIN:VEVENT
DTSTART;TZID=America/Chicago:20251024T093000
DTEND;TZID=America/Chicago:20251024T100000
DTSTAMP:20260422T130051
CREATED:20250925T040418Z
LAST-MODIFIED:20251024T051920Z
UID:10002882-1761298200-1761300000@harrisonbayseniorliving.com
SUMMARY:Happy Feet Walkers
DESCRIPTION:
URL:https://harrisonbayseniorliving.com/event-calendar/happy-feet-walkers-170/
LOCATION:Main Lobby
CATEGORIES:Senior Living
END:VEVENT
BEGIN:VEVENT
DTSTART;TZID=America/Chicago:20251024T090000
DTEND;TZID=America/Chicago:20251024T100000
DTSTAMP:20260422T130051
CREATED:20250925T040418Z
LAST-MODIFIED:20251024T074914Z
UID:10002881-1761296400-1761300000@harrisonbayseniorliving.com
SUMMARY:Catholic Communion (R)
DESCRIPTION:
URL:https://harrisonbayseniorliving.com/event-calendar/catholic-communion-r-24/
CATEGORIES:Memory Care,Senior Living
END:VEVENT
BEGIN:VEVENT
DTSTART;TZID=America/Chicago:20251023T140000
DTEND;TZID=America/Chicago:20251023T150000
DTSTAMP:20260422T130051
CREATED:20250924T040441Z
LAST-MODIFIED:20251023T074914Z
UID:10002873-1761228000-1761231600@harrisonbayseniorliving.com
SUMMARY:Inspirational Movie: Still Alice
DESCRIPTION:
URL:https://harrisonbayseniorliving.com/event-calendar/inspirational-movie-12/
LOCATION:Pub
CATEGORIES:Memory Care,Senior Living
END:VEVENT
BEGIN:VEVENT
DTSTART;TZID=America/Chicago:20251023T130000
DTEND;TZID=America/Chicago:20251023T140000
DTSTAMP:20260422T130051
CREATED:20250924T040441Z
LAST-MODIFIED:20251023T051920Z
UID:10002872-1761224400-1761228000@harrisonbayseniorliving.com
SUMMARY:Social Hour + Link Senior Games
DESCRIPTION:
URL:https://harrisonbayseniorliving.com/event-calendar/social-hour-link-senior-games-28/
LOCATION:Community Room
CATEGORIES:Senior Living
END:VEVENT
BEGIN:VEVENT
DTSTART;TZID=America/Chicago:20251023T103000
DTEND;TZID=America/Chicago:20251023T113000
DTSTAMP:20260422T130051
CREATED:20250924T040441Z
LAST-MODIFIED:20251023T074914Z
UID:10002871-1761215400-1761219000@harrisonbayseniorliving.com
SUMMARY:Men's Gathering
DESCRIPTION:
URL:https://harrisonbayseniorliving.com/event-calendar/mens-gathering-47/
LOCATION:Pub
CATEGORIES:Memory Care,Senior Living
END:VEVENT
BEGIN:VEVENT
DTSTART;TZID=America/Chicago:20251023T100000
DTEND;TZID=America/Chicago:20251023T103000
DTSTAMP:20260422T130051
CREATED:20250924T040441Z
LAST-MODIFIED:20251023T051920Z
UID:10002870-1761213600-1761215400@harrisonbayseniorliving.com
SUMMARY:Chair Exercise: Tai Chi
DESCRIPTION:
URL:https://harrisonbayseniorliving.com/event-calendar/chair-exercise-101/
LOCATION:Community Room
CATEGORIES:Senior Living
END:VEVENT
BEGIN:VEVENT
DTSTART;TZID=America/Chicago:20251023T093000
DTEND;TZID=America/Chicago:20251023T100000
DTSTAMP:20260422T130051
CREATED:20250924T040441Z
LAST-MODIFIED:20251023T051920Z
UID:10002869-1761211800-1761213600@harrisonbayseniorliving.com
SUMMARY:Happy Feet Walkers
DESCRIPTION:
URL:https://harrisonbayseniorliving.com/event-calendar/happy-feet-walkers-168/
LOCATION:Main Lobby
CATEGORIES:Senior Living
END:VEVENT
BEGIN:VEVENT
DTSTART;TZID=America/Chicago:20251022T151500
DTEND;TZID=America/Chicago:20251022T161500
DTSTAMP:20260422T130051
CREATED:20250928T040441Z
LAST-MODIFIED:20251022T051912Z
UID:10002939-1761146100-1761149700@harrisonbayseniorliving.com
SUMMARY:Mindful Patio Time: Coffee/Tea and Reflection
DESCRIPTION:
URL:https://harrisonbayseniorliving.com/event-calendar/mindful-patio-time-coffee-tea-and-reflection/
LOCATION:Patio
CATEGORIES:Senior Living
END:VEVENT
BEGIN:VEVENT
DTSTART;TZID=America/Chicago:20251022T140000
DTEND;TZID=America/Chicago:20251022T150000
DTSTAMP:20260422T130051
CREATED:20250923T040457Z
LAST-MODIFIED:20251022T051912Z
UID:10002839-1761141600-1761145200@harrisonbayseniorliving.com
SUMMARY:PENNY BINGO
DESCRIPTION:
URL:https://harrisonbayseniorliving.com/event-calendar/penny-bingo-25/
LOCATION:Community Room
CATEGORIES:Senior Living
END:VEVENT
BEGIN:VEVENT
DTSTART;TZID=America/Chicago:20251022T130000
DTEND;TZID=America/Chicago:20251022T140000
DTSTAMP:20260422T130051
CREATED:20250924T040441Z
LAST-MODIFIED:20251022T074913Z
UID:10002868-1761138000-1761141600@harrisonbayseniorliving.com
SUMMARY:Competition: Leg Crank HB vs. Knights
DESCRIPTION:
URL:https://harrisonbayseniorliving.com/event-calendar/competition-leg-crank-hb-vs-knights/
LOCATION:Community Room
CATEGORIES:Memory Care,Senior Living
END:VEVENT
BEGIN:VEVENT
DTSTART;TZID=America/Chicago:20251022T100000
DTEND;TZID=America/Chicago:20251022T103000
DTSTAMP:20260422T130051
CREATED:20250923T040457Z
LAST-MODIFIED:20251022T051912Z
UID:10002838-1761127200-1761129000@harrisonbayseniorliving.com
SUMMARY:Chair Exercise
DESCRIPTION:
URL:https://harrisonbayseniorliving.com/event-calendar/chair-exercise-100/
CATEGORIES:Senior Living
END:VEVENT
BEGIN:VEVENT
DTSTART;TZID=America/Chicago:20251022T093000
DTEND;TZID=America/Chicago:20251022T100000
DTSTAMP:20260422T130051
CREATED:20250923T040457Z
LAST-MODIFIED:20251022T051911Z
UID:10002837-1761125400-1761127200@harrisonbayseniorliving.com
SUMMARY:Happy Feet Walkers
DESCRIPTION:
URL:https://harrisonbayseniorliving.com/event-calendar/happy-feet-walkers-166/
LOCATION:Main Lobby
CATEGORIES:Senior Living
END:VEVENT
BEGIN:VEVENT
DTSTART;TZID=America/Chicago:20251022T085000
DTEND;TZID=America/Chicago:20251022T120000
DTSTAMP:20260422T130051
CREATED:20250923T040457Z
LAST-MODIFIED:20251022T074913Z
UID:10002836-1761123000-1761134400@harrisonbayseniorliving.com
SUMMARY:Outing: Super Target in Edina
DESCRIPTION:
URL:https://harrisonbayseniorliving.com/event-calendar/outing-target-nicollet-mall/
CATEGORIES:Memory Care,Senior Living
END:VEVENT
BEGIN:VEVENT
DTSTART;TZID=America/Chicago:20251021T140000
DTEND;TZID=America/Chicago:20251021T160000
DTSTAMP:20260422T130051
CREATED:20250924T040440Z
LAST-MODIFIED:20251021T051912Z
UID:10002867-1761055200-1761062400@harrisonbayseniorliving.com
SUMMARY:Halloween Diamond Painting
DESCRIPTION:
URL:https://harrisonbayseniorliving.com/event-calendar/halloween-diamond-painting/
LOCATION:Community Room
CATEGORIES:Senior Living
END:VEVENT
BEGIN:VEVENT
DTSTART;TZID=America/Chicago:20251021T140000
DTEND;TZID=America/Chicago:20251021T150000
DTSTAMP:20260422T130051
CREATED:20251001T040417Z
LAST-MODIFIED:20251007T040429Z
UID:10003000-1761055200-1761058800@harrisonbayseniorliving.com
SUMMARY:Worship Service with Chaplain Kevin
DESCRIPTION:
URL:https://harrisonbayseniorliving.com/event-calendar/worship-service-with-chaplain-kevin-7/
LOCATION:Community Room
CATEGORIES:Senior Living
END:VEVENT
BEGIN:VEVENT
DTSTART;TZID=America/Chicago:20251021T130000
DTEND;TZID=America/Chicago:20251021T140000
DTSTAMP:20260422T130051
CREATED:20250924T040440Z
LAST-MODIFIED:20251021T051912Z
UID:10002866-1761051600-1761055200@harrisonbayseniorliving.com
SUMMARY:Deep Drive: The Heart of the Matter
DESCRIPTION:
URL:https://harrisonbayseniorliving.com/event-calendar/deep-drive-the-heart-of-the-matter/
LOCATION:Community Room
CATEGORIES:Memory Care,Senior Living
END:VEVENT
BEGIN:VEVENT
DTSTART;TZID=America/Chicago:20251021T103000
DTEND;TZID=America/Chicago:20251021T113000
DTSTAMP:20260422T130051
CREATED:20250922T040421Z
LAST-MODIFIED:20251021T074915Z
UID:10002819-1761042600-1761046200@harrisonbayseniorliving.com
SUMMARY:Men's Gathering
DESCRIPTION:
URL:https://harrisonbayseniorliving.com/event-calendar/mens-gathering-46/
LOCATION:Pub
CATEGORIES:Memory Care,Senior Living
END:VEVENT
BEGIN:VEVENT
DTSTART;TZID=America/Chicago:20251021T100000
DTEND;TZID=America/Chicago:20251021T110000
DTSTAMP:20260422T130051
CREATED:20250922T040421Z
LAST-MODIFIED:20251021T051912Z
UID:10002818-1761040800-1761044400@harrisonbayseniorliving.com
SUMMARY:Cardio Drumming
DESCRIPTION:
URL:https://harrisonbayseniorliving.com/event-calendar/cardio-drumming-41/
LOCATION:Community Room
CATEGORIES:Senior Living
END:VEVENT
BEGIN:VEVENT
DTSTART;TZID=America/Chicago:20251021T093000
DTEND;TZID=America/Chicago:20251021T100000
DTSTAMP:20260422T130051
CREATED:20250922T040421Z
LAST-MODIFIED:20251021T051912Z
UID:10002817-1761039000-1761040800@harrisonbayseniorliving.com
SUMMARY:Happy Feet Walkers
DESCRIPTION:
URL:https://harrisonbayseniorliving.com/event-calendar/happy-feet-walkers-165/
LOCATION:Main Lobby
CATEGORIES:Senior Living
END:VEVENT
BEGIN:VEVENT
DTSTART;TZID=America/Chicago:20251020T150000
DTEND;TZID=America/Chicago:20251020T160000
DTSTAMP:20260422T130051
CREATED:20250924T040440Z
LAST-MODIFIED:20251020T074914Z
UID:10002865-1760972400-1760976000@harrisonbayseniorliving.com
SUMMARY:Entertainment: Darling Jesse; Joe
DESCRIPTION:
URL:https://harrisonbayseniorliving.com/event-calendar/entertainment-darling-jesse-joe-2/
LOCATION:Dining Room
CATEGORIES:Memory Care,Senior Living
END:VEVENT
BEGIN:VEVENT
DTSTART;TZID=America/Chicago:20251020T140000
DTEND;TZID=America/Chicago:20251020T150000
DTSTAMP:20260422T130051
CREATED:20250921T040430Z
LAST-MODIFIED:20251020T050452Z
UID:10002806-1760968800-1760972400@harrisonbayseniorliving.com
SUMMARY:LINK SENIOR: Brain Games
DESCRIPTION:
URL:https://harrisonbayseniorliving.com/event-calendar/link-senior-brain-games-17/
LOCATION:Community Room
CATEGORIES:Senior Living
END:VEVENT
END:VCALENDAR