BEGIN:VCALENDAR
VERSION:2.0
PRODID:-//Harrison Bay Senior Living - ECPv6.11.2.1//NONSGML v1.0//EN
CALSCALE:GREGORIAN
METHOD:PUBLISH
X-ORIGINAL-URL:https://harrisonbayseniorliving.com
X-WR-CALDESC:Events for Harrison Bay Senior Living
REFRESH-INTERVAL;VALUE=DURATION:PT1H
X-Robots-Tag:noindex
X-PUBLISHED-TTL:PT1H
BEGIN:VTIMEZONE
TZID:America/Chicago
BEGIN:DAYLIGHT
TZOFFSETFROM:-0600
TZOFFSETTO:-0500
TZNAME:CDT
DTSTART:20250309T080000
END:DAYLIGHT
BEGIN:STANDARD
TZOFFSETFROM:-0500
TZOFFSETTO:-0600
TZNAME:CST
DTSTART:20251102T070000
END:STANDARD
END:VTIMEZONE
BEGIN:VEVENT
DTSTART;TZID=America/Chicago:20251108T180000
DTEND;TZID=America/Chicago:20251108T200000
DTSTAMP:20260420T051229
CREATED:20251010T041930Z
LAST-MODIFIED:20251108T051912Z
UID:10003160-1762624800-1762632000@harrisonbayseniorliving.com
SUMMARY:MOVIE NIGHT: Taken In Plain Sight
DESCRIPTION:
URL:https://harrisonbayseniorliving.com/event-calendar/movie-night-18/
LOCATION:Pub
CATEGORIES:Senior Living
END:VEVENT
BEGIN:VEVENT
DTSTART;TZID=America/Chicago:20251108T140000
DTEND;TZID=America/Chicago:20251108T145900
DTSTAMP:20260420T051229
CREATED:20251010T041930Z
LAST-MODIFIED:20251108T051912Z
UID:10003159-1762610400-1762613940@harrisonbayseniorliving.com
SUMMARY:Bible Study (R)
DESCRIPTION:
URL:https://harrisonbayseniorliving.com/event-calendar/bible-study-r-26/
LOCATION:Community Room
CATEGORIES:Senior Living
END:VEVENT
BEGIN:VEVENT
DTSTART;TZID=America/Chicago:20251108T130000
DTEND;TZID=America/Chicago:20251108T140000
DTSTAMP:20260420T051229
CREATED:20251010T041930Z
LAST-MODIFIED:20251108T051912Z
UID:10003158-1762606800-1762610400@harrisonbayseniorliving.com
SUMMARY:Craft Time
DESCRIPTION:
URL:https://harrisonbayseniorliving.com/event-calendar/craft-time-6/
LOCATION:Community Room
CATEGORIES:Senior Living
END:VEVENT
BEGIN:VEVENT
DTSTART;TZID=America/Chicago:20251107T150000
DTEND;TZID=America/Chicago:20251107T160000
DTSTAMP:20260420T051229
CREATED:20251016T050522Z
LAST-MODIFIED:20251103T051912Z
UID:10003257-1762527600-1762531200@harrisonbayseniorliving.com
SUMMARY:Cocktails with Culinary Director Ashley
DESCRIPTION:
URL:https://harrisonbayseniorliving.com/event-calendar/cocktails-with-culinary-director-ashley/
LOCATION:Pub
CATEGORIES:Senior Living
END:VEVENT
BEGIN:VEVENT
DTSTART;TZID=America/Chicago:20251107T140000
DTEND;TZID=America/Chicago:20251107T150000
DTSTAMP:20260420T051229
CREATED:20251009T040457Z
LAST-MODIFIED:20251107T051914Z
UID:10003143-1762524000-1762527600@harrisonbayseniorliving.com
SUMMARY:BINGO
DESCRIPTION:
URL:https://harrisonbayseniorliving.com/event-calendar/bingo-97/
LOCATION:Community Room
CATEGORIES:Senior Living
END:VEVENT
BEGIN:VEVENT
DTSTART;TZID=America/Chicago:20251107T130000
DTEND;TZID=America/Chicago:20251107T140000
DTSTAMP:20260420T051229
CREATED:20251009T040457Z
LAST-MODIFIED:20251107T080416Z
UID:10003142-1762520400-1762524000@harrisonbayseniorliving.com
SUMMARY:Really Big Show with Dr. Bill
DESCRIPTION:
URL:https://harrisonbayseniorliving.com/event-calendar/really-big-show-with-dr-bill-5/
LOCATION:Community Room
CATEGORIES:Memory Care,Senior Living
END:VEVENT
BEGIN:VEVENT
DTSTART;TZID=America/Chicago:20251107T100000
DTEND;TZID=America/Chicago:20251107T103000
DTSTAMP:20260420T051229
CREATED:20251009T040457Z
LAST-MODIFIED:20251107T051914Z
UID:10003141-1762509600-1762511400@harrisonbayseniorliving.com
SUMMARY:Chair Exercise
DESCRIPTION:
URL:https://harrisonbayseniorliving.com/event-calendar/chair-exercise-107/
CATEGORIES:Senior Living
END:VEVENT
BEGIN:VEVENT
DTSTART;TZID=America/Chicago:20251107T093000
DTEND;TZID=America/Chicago:20251107T100000
DTSTAMP:20260420T051229
CREATED:20251009T040457Z
LAST-MODIFIED:20251107T051914Z
UID:10003140-1762507800-1762509600@harrisonbayseniorliving.com
SUMMARY:Happy Feet Walkers
DESCRIPTION:
URL:https://harrisonbayseniorliving.com/event-calendar/happy-feet-walkers-190/
LOCATION:Main Lobby
CATEGORIES:Senior Living
END:VEVENT
BEGIN:VEVENT
DTSTART;TZID=America/Chicago:20251107T090000
DTEND;TZID=America/Chicago:20251107T100000
DTSTAMP:20260420T051229
CREATED:20251009T040456Z
LAST-MODIFIED:20251107T080416Z
UID:10003139-1762506000-1762509600@harrisonbayseniorliving.com
SUMMARY:Catholic Communion (R)
DESCRIPTION:
URL:https://harrisonbayseniorliving.com/event-calendar/catholic-communion-r-26/
CATEGORIES:Memory Care,Senior Living
END:VEVENT
BEGIN:VEVENT
DTSTART;TZID=America/Chicago:20251106T150000
DTEND;TZID=America/Chicago:20251106T160000
DTSTAMP:20260420T051229
CREATED:20251025T051918Z
LAST-MODIFIED:20251106T080425Z
UID:10003410-1762441200-1762444800@harrisonbayseniorliving.com
SUMMARY:Entertainment: John A Beck
DESCRIPTION:
URL:https://harrisonbayseniorliving.com/event-calendar/entertainment-john-a-beck/
LOCATION:Dining Room
CATEGORIES:Memory Care,Senior Living
END:VEVENT
BEGIN:VEVENT
DTSTART;TZID=America/Chicago:20251106T140000
DTEND;TZID=America/Chicago:20251106T150000
DTSTAMP:20260420T051229
CREATED:20251008T040424Z
LAST-MODIFIED:20251106T080413Z
UID:10003124-1762437600-1762441200@harrisonbayseniorliving.com
SUMMARY:Virtual Program: U.S. Army In Yellowstone
DESCRIPTION:
URL:https://harrisonbayseniorliving.com/event-calendar/virtual-program-6/
LOCATION:Community Room
CATEGORIES:Memory Care,Senior Living
END:VEVENT
BEGIN:VEVENT
DTSTART;TZID=America/Chicago:20251106T140000
DTEND;TZID=America/Chicago:20251106T150000
DTSTAMP:20260420T051229
CREATED:20251008T040424Z
LAST-MODIFIED:20251023T074920Z
UID:10003125-1762437600-1762441200@harrisonbayseniorliving.com
SUMMARY:Inspirational Movie:
DESCRIPTION:
URL:https://harrisonbayseniorliving.com/event-calendar/inspirational-movie-13/
LOCATION:Pub
CATEGORIES:Memory Care,Senior Living
END:VEVENT
BEGIN:VEVENT
DTSTART;TZID=America/Chicago:20251106T130000
DTEND;TZID=America/Chicago:20251106T140000
DTSTAMP:20260420T051229
CREATED:20251104T051913Z
LAST-MODIFIED:20251106T051913Z
UID:10003583-1762434000-1762437600@harrisonbayseniorliving.com
SUMMARY:Cocktails with Culinary Director Ashley
DESCRIPTION:
URL:https://harrisonbayseniorliving.com/event-calendar/cocktails-with-culinary-director-ashley-3/
LOCATION:Community Room
CATEGORIES:Senior Living
END:VEVENT
BEGIN:VEVENT
DTSTART;TZID=America/Chicago:20251106T130000
DTEND;TZID=America/Chicago:20251106T140000
DTSTAMP:20260420T051229
CREATED:20251008T040424Z
LAST-MODIFIED:20251106T051913Z
UID:10003123-1762434000-1762437600@harrisonbayseniorliving.com
SUMMARY:Social Hour + Link Senior Games
DESCRIPTION:
URL:https://harrisonbayseniorliving.com/event-calendar/social-hour-link-senior-games-30/
LOCATION:Community Room
CATEGORIES:Senior Living
END:VEVENT
BEGIN:VEVENT
DTSTART;TZID=America/Chicago:20251106T103000
DTEND;TZID=America/Chicago:20251106T113000
DTSTAMP:20260420T051229
CREATED:20251008T040424Z
LAST-MODIFIED:20251106T080413Z
UID:10003122-1762425000-1762428600@harrisonbayseniorliving.com
SUMMARY:Men's Gathering
DESCRIPTION:
URL:https://harrisonbayseniorliving.com/event-calendar/mens-gathering-51/
LOCATION:Pub
CATEGORIES:Memory Care,Senior Living
END:VEVENT
BEGIN:VEVENT
DTSTART;TZID=America/Chicago:20251106T100000
DTEND;TZID=America/Chicago:20251106T103000
DTSTAMP:20260420T051229
CREATED:20251008T040424Z
LAST-MODIFIED:20251106T051913Z
UID:10003121-1762423200-1762425000@harrisonbayseniorliving.com
SUMMARY:Chair Exercise
DESCRIPTION:
URL:https://harrisonbayseniorliving.com/event-calendar/chair-exercise-106/
CATEGORIES:Senior Living
END:VEVENT
BEGIN:VEVENT
DTSTART;TZID=America/Chicago:20251106T093000
DTEND;TZID=America/Chicago:20251106T100000
DTSTAMP:20260420T051229
CREATED:20251008T040423Z
LAST-MODIFIED:20251106T051913Z
UID:10003120-1762421400-1762423200@harrisonbayseniorliving.com
SUMMARY:Happy Feet Walkers
DESCRIPTION:
URL:https://harrisonbayseniorliving.com/event-calendar/happy-feet-walkers-188/
LOCATION:Main Lobby
CATEGORIES:Senior Living
END:VEVENT
BEGIN:VEVENT
DTSTART;TZID=America/Chicago:20251106T092000
DTEND;TZID=America/Chicago:20251106T130000
DTSTAMP:20260420T051229
CREATED:20251028T051925Z
LAST-MODIFIED:20251106T080413Z
UID:10003461-1762420800-1762434000@harrisonbayseniorliving.com
SUMMARY:Outing: Unique Thrift store
DESCRIPTION:
URL:https://harrisonbayseniorliving.com/event-calendar/outing-unique-thrift-store/
CATEGORIES:Memory Care,Senior Living
END:VEVENT
BEGIN:VEVENT
DTSTART;TZID=America/Chicago:20251105T150000
DTEND;TZID=America/Chicago:20251105T160000
DTSTAMP:20260420T051229
CREATED:20251029T051918Z
LAST-MODIFIED:20251105T051915Z
UID:10003482-1762354800-1762358400@harrisonbayseniorliving.com
SUMMARY:Thanksgiving Painting
DESCRIPTION:
URL:https://harrisonbayseniorliving.com/event-calendar/national-doughnut-day/
LOCATION:Community Room
CATEGORIES:Memory Care,Senior Living
END:VEVENT
BEGIN:VEVENT
DTSTART;TZID=America/Chicago:20251105T140000
DTEND;TZID=America/Chicago:20251105T150000
DTSTAMP:20260420T051229
CREATED:20251007T040432Z
LAST-MODIFIED:20251105T051915Z
UID:10003106-1762351200-1762354800@harrisonbayseniorliving.com
SUMMARY:PENNY BINGO
DESCRIPTION:
URL:https://harrisonbayseniorliving.com/event-calendar/penny-bingo-27/
LOCATION:Community Room
CATEGORIES:Senior Living
END:VEVENT
BEGIN:VEVENT
DTSTART;TZID=America/Chicago:20251105T130000
DTEND;TZID=America/Chicago:20251105T140000
DTSTAMP:20260420T051229
CREATED:20251007T040432Z
LAST-MODIFIED:20251105T080415Z
UID:10003105-1762347600-1762351200@harrisonbayseniorliving.com
SUMMARY:Competition: Huggy Bears vs. Gunter's Goldies
DESCRIPTION:
URL:https://harrisonbayseniorliving.com/event-calendar/competition/
LOCATION:Community Room
CATEGORIES:Memory Care,Senior Living
END:VEVENT
BEGIN:VEVENT
DTSTART;TZID=America/Chicago:20251105T100000
DTEND;TZID=America/Chicago:20251105T103000
DTSTAMP:20260420T051229
CREATED:20251007T040432Z
LAST-MODIFIED:20251105T051915Z
UID:10003104-1762336800-1762338600@harrisonbayseniorliving.com
SUMMARY:Chair Exercise
DESCRIPTION:
URL:https://harrisonbayseniorliving.com/event-calendar/chair-exercise-105/
CATEGORIES:Senior Living
END:VEVENT
BEGIN:VEVENT
DTSTART;TZID=America/Chicago:20251105T093000
DTEND;TZID=America/Chicago:20251105T100000
DTSTAMP:20260420T051229
CREATED:20251007T040432Z
LAST-MODIFIED:20251105T051915Z
UID:10003103-1762335000-1762336800@harrisonbayseniorliving.com
SUMMARY:Happy Feet Walkers
DESCRIPTION:
URL:https://harrisonbayseniorliving.com/event-calendar/happy-feet-walkers-186/
LOCATION:Main Lobby
CATEGORIES:Senior Living
END:VEVENT
BEGIN:VEVENT
DTSTART;TZID=America/Chicago:20251104T150000
DTEND;TZID=America/Chicago:20251104T160000
DTSTAMP:20260420T051229
CREATED:20251029T051918Z
LAST-MODIFIED:20251104T051913Z
UID:10003481-1762268400-1762272000@harrisonbayseniorliving.com
SUMMARY:Thanksgiving Jewelry Making
DESCRIPTION:
URL:https://harrisonbayseniorliving.com/event-calendar/thanksgiving-jewelry-making/
LOCATION:Community Room
CATEGORIES:Senior Living
END:VEVENT
BEGIN:VEVENT
DTSTART;TZID=America/Chicago:20251104T140000
DTEND;TZID=America/Chicago:20251104T150000
DTSTAMP:20260420T051229
CREATED:20251025T051917Z
LAST-MODIFIED:20251104T051913Z
UID:10003409-1762264800-1762268400@harrisonbayseniorliving.com
SUMMARY:Worship with Communion with Chaplain Kevin
DESCRIPTION:
URL:https://harrisonbayseniorliving.com/event-calendar/worship-with-communion-with-chaplain-kevin/
LOCATION:Community Room
CATEGORIES:Senior Living
END:VEVENT
BEGIN:VEVENT
DTSTART;TZID=America/Chicago:20251104T130000
DTEND;TZID=America/Chicago:20251104T140000
DTSTAMP:20260420T051229
CREATED:20251006T040421Z
LAST-MODIFIED:20251104T080414Z
UID:10003092-1762261200-1762264800@harrisonbayseniorliving.com
SUMMARY:Deep Drive: Sticks and Stones
DESCRIPTION:
URL:https://harrisonbayseniorliving.com/event-calendar/deep-drive/
LOCATION:Community Room
CATEGORIES:Memory Care,Senior Living
END:VEVENT
BEGIN:VEVENT
DTSTART;TZID=America/Chicago:20251104T103000
DTEND;TZID=America/Chicago:20251104T113000
DTSTAMP:20260420T051229
CREATED:20251006T040421Z
LAST-MODIFIED:20251104T080413Z
UID:10003091-1762252200-1762255800@harrisonbayseniorliving.com
SUMMARY:Men's Gathering
DESCRIPTION:
URL:https://harrisonbayseniorliving.com/event-calendar/mens-gathering-50/
LOCATION:Pub
CATEGORIES:Memory Care,Senior Living
END:VEVENT
BEGIN:VEVENT
DTSTART;TZID=America/Chicago:20251104T100000
DTEND;TZID=America/Chicago:20251104T110000
DTSTAMP:20260420T051229
CREATED:20251006T040421Z
LAST-MODIFIED:20251104T051913Z
UID:10003090-1762250400-1762254000@harrisonbayseniorliving.com
SUMMARY:Cardio Drumming
DESCRIPTION:
URL:https://harrisonbayseniorliving.com/event-calendar/cardio-drumming-49/
LOCATION:Community Room
CATEGORIES:Senior Living
END:VEVENT
BEGIN:VEVENT
DTSTART;TZID=America/Chicago:20251104T093000
DTEND;TZID=America/Chicago:20251104T100000
DTSTAMP:20260420T051229
CREATED:20251006T040421Z
LAST-MODIFIED:20251104T051913Z
UID:10003089-1762248600-1762250400@harrisonbayseniorliving.com
SUMMARY:Happy Feet Walkers
DESCRIPTION:
URL:https://harrisonbayseniorliving.com/event-calendar/happy-feet-walkers-185/
LOCATION:Main Lobby
CATEGORIES:Senior Living
END:VEVENT
BEGIN:VEVENT
DTSTART;TZID=America/Chicago:20251103T140000
DTEND;TZID=America/Chicago:20251103T153000
DTSTAMP:20260420T051229
CREATED:20251005T040417Z
LAST-MODIFIED:20251103T051913Z
UID:10003078-1762178400-1762183800@harrisonbayseniorliving.com
SUMMARY:Communtity Life Meeting
DESCRIPTION:
URL:https://harrisonbayseniorliving.com/event-calendar/communtity-life-meeting-8/
LOCATION:Community Room
CATEGORIES:Senior Living
END:VEVENT
END:VCALENDAR