BEGIN:VCALENDAR
VERSION:2.0
PRODID:-//Harrison Bay Senior Living - ECPv6.11.2.1//NONSGML v1.0//EN
CALSCALE:GREGORIAN
METHOD:PUBLISH
X-ORIGINAL-URL:https://harrisonbayseniorliving.com
X-WR-CALDESC:Events for Harrison Bay Senior Living
REFRESH-INTERVAL;VALUE=DURATION:PT1H
X-Robots-Tag:noindex
X-PUBLISHED-TTL:PT1H
BEGIN:VTIMEZONE
TZID:America/Chicago
BEGIN:DAYLIGHT
TZOFFSETFROM:-0600
TZOFFSETTO:-0500
TZNAME:CDT
DTSTART:20250309T080000
END:DAYLIGHT
BEGIN:STANDARD
TZOFFSETFROM:-0500
TZOFFSETTO:-0600
TZNAME:CST
DTSTART:20251102T070000
END:STANDARD
END:VTIMEZONE
BEGIN:VEVENT
DTSTART;TZID=America/Chicago:20251120T103000
DTEND;TZID=America/Chicago:20251120T113000
DTSTAMP:20260419T154010
CREATED:20251022T051920Z
LAST-MODIFIED:20251120T090415Z
UID:10003355-1763634600-1763638200@harrisonbayseniorliving.com
SUMMARY:Men's Gathering
DESCRIPTION:
URL:https://harrisonbayseniorliving.com/event-calendar/mens-gathering-55/
LOCATION:Pub
CATEGORIES:Memory Care,Senior Living
END:VEVENT
BEGIN:VEVENT
DTSTART;TZID=America/Chicago:20251120T100000
DTEND;TZID=America/Chicago:20251120T103000
DTSTAMP:20260419T154010
CREATED:20251022T051920Z
LAST-MODIFIED:20251120T053413Z
UID:10003354-1763632800-1763634600@harrisonbayseniorliving.com
SUMMARY:Chair Exercise
DESCRIPTION:
URL:https://harrisonbayseniorliving.com/event-calendar/chair-exercise-112/
CATEGORIES:Senior Living
END:VEVENT
BEGIN:VEVENT
DTSTART;TZID=America/Chicago:20251120T093000
DTEND;TZID=America/Chicago:20251120T100000
DTSTAMP:20260419T154010
CREATED:20251022T051919Z
LAST-MODIFIED:20251120T053413Z
UID:10003353-1763631000-1763632800@harrisonbayseniorliving.com
SUMMARY:Happy Feet Walkers
DESCRIPTION:
URL:https://harrisonbayseniorliving.com/event-calendar/happy-feet-walkers-209/
LOCATION:Main Lobby
CATEGORIES:Senior Living
END:VEVENT
BEGIN:VEVENT
DTSTART;TZID=America/Chicago:20251119T150000
DTEND;TZID=America/Chicago:20251119T160000
DTSTAMP:20260419T154010
CREATED:20251029T051923Z
LAST-MODIFIED:20251119T053414Z
UID:10003485-1763564400-1763568000@harrisonbayseniorliving.com
SUMMARY:Thanksgiving Diamond Painting
DESCRIPTION:
URL:https://harrisonbayseniorliving.com/event-calendar/thanksgiving-diamond-painting/
LOCATION:Community Room
CATEGORIES:Senior Living
END:VEVENT
BEGIN:VEVENT
DTSTART;TZID=America/Chicago:20251119T140000
DTEND;TZID=America/Chicago:20251119T150000
DTSTAMP:20260419T154010
CREATED:20251021T051918Z
LAST-MODIFIED:20251119T053414Z
UID:10003338-1763560800-1763564400@harrisonbayseniorliving.com
SUMMARY:PENNY BINGO
DESCRIPTION:
URL:https://harrisonbayseniorliving.com/event-calendar/penny-bingo-30/
LOCATION:Community Room
CATEGORIES:Senior Living
END:VEVENT
BEGIN:VEVENT
DTSTART;TZID=America/Chicago:20251119T130000
DTEND;TZID=America/Chicago:20251119T140000
DTSTAMP:20260419T154010
CREATED:20251021T051918Z
LAST-MODIFIED:20251119T090416Z
UID:10003337-1763557200-1763560800@harrisonbayseniorliving.com
SUMMARY:Competition: Whizzer Huggy Bears vs. Purple Hawks
DESCRIPTION:
URL:https://harrisonbayseniorliving.com/event-calendar/competition-3/
LOCATION:Community Room
CATEGORIES:Memory Care,Senior Living
END:VEVENT
BEGIN:VEVENT
DTSTART;TZID=America/Chicago:20251119T100000
DTEND;TZID=America/Chicago:20251119T110000
DTSTAMP:20260419T154010
CREATED:20251028T051928Z
LAST-MODIFIED:20251119T053414Z
UID:10003463-1763546400-1763550000@harrisonbayseniorliving.com
SUMMARY:Cardio Drumming
DESCRIPTION:
URL:https://harrisonbayseniorliving.com/event-calendar/cardio-drumming-62/
LOCATION:Community Room
CATEGORIES:Senior Living
END:VEVENT
BEGIN:VEVENT
DTSTART;TZID=America/Chicago:20251119T100000
DTEND;TZID=America/Chicago:20251119T103000
DTSTAMP:20260419T154010
CREATED:20251021T051918Z
LAST-MODIFIED:20251027T051956Z
UID:10003336-1763546400-1763548200@harrisonbayseniorliving.com
SUMMARY:Chair Exercise
DESCRIPTION:
URL:https://harrisonbayseniorliving.com/event-calendar/chair-exercise-111/
CATEGORIES:Senior Living
END:VEVENT
BEGIN:VEVENT
DTSTART;TZID=America/Chicago:20251119T093000
DTEND;TZID=America/Chicago:20251119T100000
DTSTAMP:20260419T154010
CREATED:20251021T051918Z
LAST-MODIFIED:20251119T053414Z
UID:10003335-1763544600-1763546400@harrisonbayseniorliving.com
SUMMARY:Happy Feet Walkers
DESCRIPTION:
URL:https://harrisonbayseniorliving.com/event-calendar/happy-feet-walkers-206/
LOCATION:Main Lobby
CATEGORIES:Senior Living
END:VEVENT
BEGIN:VEVENT
DTSTART;TZID=America/Chicago:20251118T150000
DTEND;TZID=America/Chicago:20251118T170000
DTSTAMP:20260419T154010
CREATED:20251115T051915Z
LAST-MODIFIED:20251118T053416Z
UID:10003771-1763478000-1763485200@harrisonbayseniorliving.com
SUMMARY:Inspirational Movie: Mercury 13
DESCRIPTION:
URL:https://harrisonbayseniorliving.com/event-calendar/inspirational-movie-mercury-13-3/
LOCATION:Pub
CATEGORIES:Senior Living
END:VEVENT
BEGIN:VEVENT
DTSTART;TZID=America/Chicago:20251118T140000
DTEND;TZID=America/Chicago:20251118T150000
DTSTAMP:20260419T154010
CREATED:20251029T051922Z
LAST-MODIFIED:20251118T053416Z
UID:10003484-1763474400-1763478000@harrisonbayseniorliving.com
SUMMARY:BINGO
DESCRIPTION:
URL:https://harrisonbayseniorliving.com/event-calendar/bingo-111/
LOCATION:Community Room
CATEGORIES:Senior Living
END:VEVENT
BEGIN:VEVENT
DTSTART;TZID=America/Chicago:20251118T140000
DTEND;TZID=America/Chicago:20251118T150000
DTSTAMP:20260419T154010
CREATED:20251025T051920Z
LAST-MODIFIED:20251114T051914Z
UID:10003415-1763474400-1763478000@harrisonbayseniorliving.com
SUMMARY:Worship with Communion with Chaplain Kevin
DESCRIPTION:
URL:https://harrisonbayseniorliving.com/event-calendar/worship-with-communion-with-chaplain-kevin-2/
LOCATION:Community Room
CATEGORIES:Senior Living
END:VEVENT
BEGIN:VEVENT
DTSTART;TZID=America/Chicago:20251118T130000
DTEND;TZID=America/Chicago:20251118T140000
DTSTAMP:20260419T154010
CREATED:20251020T050457Z
LAST-MODIFIED:20251118T090414Z
UID:10003323-1763470800-1763474400@harrisonbayseniorliving.com
SUMMARY:Deep Drive: Covid
DESCRIPTION:
URL:https://harrisonbayseniorliving.com/event-calendar/deep-drive-3/
LOCATION:Community Room
CATEGORIES:Memory Care,Senior Living
END:VEVENT
BEGIN:VEVENT
DTSTART;TZID=America/Chicago:20251118T103000
DTEND;TZID=America/Chicago:20251118T113000
DTSTAMP:20260419T154010
CREATED:20251020T050457Z
LAST-MODIFIED:20251118T090414Z
UID:10003322-1763461800-1763465400@harrisonbayseniorliving.com
SUMMARY:Men's Gathering
DESCRIPTION:
URL:https://harrisonbayseniorliving.com/event-calendar/mens-gathering-54/
LOCATION:Pub
CATEGORIES:Memory Care,Senior Living
END:VEVENT
BEGIN:VEVENT
DTSTART;TZID=America/Chicago:20251118T100000
DTEND;TZID=America/Chicago:20251118T110000
DTSTAMP:20260419T154010
CREATED:20251028T051927Z
LAST-MODIFIED:20251118T053415Z
UID:10003462-1763460000-1763463600@harrisonbayseniorliving.com
SUMMARY:Art with Tamra
DESCRIPTION:
URL:https://harrisonbayseniorliving.com/event-calendar/art-with-tamra-5/
LOCATION:Community Room
CATEGORIES:Senior Living
END:VEVENT
BEGIN:VEVENT
DTSTART;TZID=America/Chicago:20251118T100000
DTEND;TZID=America/Chicago:20251118T110000
DTSTAMP:20260419T154010
CREATED:20251020T050457Z
LAST-MODIFIED:20251027T051956Z
UID:10003321-1763460000-1763463600@harrisonbayseniorliving.com
SUMMARY:Cardio Drumming
DESCRIPTION:
URL:https://harrisonbayseniorliving.com/event-calendar/cardio-drumming-57/
LOCATION:Community Room
CATEGORIES:Senior Living
END:VEVENT
BEGIN:VEVENT
DTSTART;TZID=America/Chicago:20251118T093000
DTEND;TZID=America/Chicago:20251118T100000
DTSTAMP:20260419T154010
CREATED:20251020T050457Z
LAST-MODIFIED:20251118T053415Z
UID:10003320-1763458200-1763460000@harrisonbayseniorliving.com
SUMMARY:Happy Feet Walkers
DESCRIPTION:
URL:https://harrisonbayseniorliving.com/event-calendar/happy-feet-walkers-205/
LOCATION:Main Lobby
CATEGORIES:Senior Living
END:VEVENT
BEGIN:VEVENT
DTSTART;TZID=America/Chicago:20251117T150000
DTEND;TZID=America/Chicago:20251117T160000
DTSTAMP:20260419T154010
CREATED:20251115T051914Z
LAST-MODIFIED:20251117T084952Z
UID:10003770-1763391600-1763395200@harrisonbayseniorliving.com
SUMMARY:Franks Celebration of Life with Chaplain Kevin
DESCRIPTION:
URL:https://harrisonbayseniorliving.com/event-calendar/franks-celebration-of-life-with-chaplain-kevin/
LOCATION:Community Room
CATEGORIES:Memory Care,Senior Living
END:VEVENT
BEGIN:VEVENT
DTSTART;TZID=America/Chicago:20251117T140000
DTEND;TZID=America/Chicago:20251117T150000
DTSTAMP:20260419T154010
CREATED:20251024T051925Z
LAST-MODIFIED:20251114T051914Z
UID:10003391-1763388000-1763391600@harrisonbayseniorliving.com
SUMMARY:Inspirational Movie: Mercury 13
DESCRIPTION:
URL:https://harrisonbayseniorliving.com/event-calendar/inspirational-movie-mercury-13/
LOCATION:Pub
CATEGORIES:Memory Care,Senior Living
END:VEVENT
BEGIN:VEVENT
DTSTART;TZID=America/Chicago:20251117T140000
DTEND;TZID=America/Chicago:20251117T150000
DTSTAMP:20260419T154010
CREATED:20251019T050417Z
LAST-MODIFIED:20251024T051925Z
UID:10003310-1763388000-1763391600@harrisonbayseniorliving.com
SUMMARY:LINK SENIOR: Brain Games
DESCRIPTION:
URL:https://harrisonbayseniorliving.com/event-calendar/link-senior-brain-games-22/
LOCATION:Community Room
CATEGORIES:Senior Living
END:VEVENT
BEGIN:VEVENT
DTSTART;TZID=America/Chicago:20251117T130000
DTEND;TZID=America/Chicago:20251117T143000
DTSTAMP:20260419T154010
CREATED:20251019T050417Z
LAST-MODIFIED:20251117T053433Z
UID:10003309-1763384400-1763389800@harrisonbayseniorliving.com
SUMMARY:BINGO
DESCRIPTION:
URL:https://harrisonbayseniorliving.com/event-calendar/bingo-104/
LOCATION:Community Room
CATEGORIES:Senior Living
END:VEVENT
BEGIN:VEVENT
DTSTART;TZID=America/Chicago:20251117T103000
DTEND;TZID=America/Chicago:20251117T113000
DTSTAMP:20260419T154010
CREATED:20251019T050416Z
LAST-MODIFIED:20251117T084952Z
UID:10003308-1763375400-1763379000@harrisonbayseniorliving.com
SUMMARY:Women's Group
DESCRIPTION:
URL:https://harrisonbayseniorliving.com/event-calendar/womens-group-28/
LOCATION:Pub
CATEGORIES:Memory Care,Senior Living
END:VEVENT
BEGIN:VEVENT
DTSTART;TZID=America/Chicago:20251117T100000
DTEND;TZID=America/Chicago:20251117T110000
DTSTAMP:20260419T154010
CREATED:20251019T050416Z
LAST-MODIFIED:20251117T053433Z
UID:10003307-1763373600-1763377200@harrisonbayseniorliving.com
SUMMARY:Cardio Drumming
DESCRIPTION:
URL:https://harrisonbayseniorliving.com/event-calendar/cardio-drumming-56/
LOCATION:Community Room
CATEGORIES:Senior Living
END:VEVENT
BEGIN:VEVENT
DTSTART;TZID=America/Chicago:20251117T093000
DTEND;TZID=America/Chicago:20251117T100000
DTSTAMP:20260419T154010
CREATED:20251019T050416Z
LAST-MODIFIED:20251117T053433Z
UID:10003306-1763371800-1763373600@harrisonbayseniorliving.com
SUMMARY:Happy Feet Walkers
DESCRIPTION:
URL:https://harrisonbayseniorliving.com/event-calendar/happy-feet-walkers-203/
LOCATION:Main Lobby
CATEGORIES:Senior Living
END:VEVENT
BEGIN:VEVENT
DTSTART;TZID=America/Chicago:20251116T180000
DTEND;TZID=America/Chicago:20251116T190000
DTSTAMP:20260419T154010
CREATED:20251018T050503Z
LAST-MODIFIED:20251116T053413Z
UID:10003290-1763316000-1763319600@harrisonbayseniorliving.com
SUMMARY:Game Night
DESCRIPTION:
URL:https://harrisonbayseniorliving.com/event-calendar/game-night-7/
LOCATION:Community Room
CATEGORIES:Senior Living
END:VEVENT
BEGIN:VEVENT
DTSTART;TZID=America/Chicago:20251115T180000
DTEND;TZID=America/Chicago:20251115T200000
DTSTAMP:20260419T154010
CREATED:20251017T050419Z
LAST-MODIFIED:20251115T051915Z
UID:10003276-1763229600-1763236800@harrisonbayseniorliving.com
SUMMARY:MOVIE NIGHT: Adam: His Song Continues
DESCRIPTION:
URL:https://harrisonbayseniorliving.com/event-calendar/movie-night-19/
LOCATION:Pub
CATEGORIES:Senior Living
END:VEVENT
BEGIN:VEVENT
DTSTART;TZID=America/Chicago:20251115T140000
DTEND;TZID=America/Chicago:20251115T145900
DTSTAMP:20260419T154010
CREATED:20251017T050418Z
LAST-MODIFIED:20251115T051915Z
UID:10003275-1763215200-1763218740@harrisonbayseniorliving.com
SUMMARY:Bible Study (R)
DESCRIPTION:
URL:https://harrisonbayseniorliving.com/event-calendar/bible-study-r-27/
LOCATION:Community Room
CATEGORIES:Senior Living
END:VEVENT
BEGIN:VEVENT
DTSTART;TZID=America/Chicago:20251115T130000
DTEND;TZID=America/Chicago:20251115T140000
DTSTAMP:20260419T154010
CREATED:20251017T050418Z
LAST-MODIFIED:20251115T051915Z
UID:10003274-1763211600-1763215200@harrisonbayseniorliving.com
SUMMARY:Craft Time
DESCRIPTION:
URL:https://harrisonbayseniorliving.com/event-calendar/craft-time-7/
LOCATION:Community Room
CATEGORIES:Senior Living
END:VEVENT
BEGIN:VEVENT
DTSTART;TZID=America/Chicago:20251114T140000
DTEND;TZID=America/Chicago:20251114T150000
DTSTAMP:20260419T154010
CREATED:20251016T050523Z
LAST-MODIFIED:20251114T051916Z
UID:10003262-1763128800-1763132400@harrisonbayseniorliving.com
SUMMARY:BINGO
DESCRIPTION:
URL:https://harrisonbayseniorliving.com/event-calendar/bingo-102/
LOCATION:Community Room
CATEGORIES:Senior Living
END:VEVENT
BEGIN:VEVENT
DTSTART;TZID=America/Chicago:20251114T130000
DTEND;TZID=America/Chicago:20251114T140000
DTSTAMP:20260419T154010
CREATED:20251016T050523Z
LAST-MODIFIED:20251114T083417Z
UID:10003261-1763125200-1763128800@harrisonbayseniorliving.com
SUMMARY:Really Big Show with Dr. Bill
DESCRIPTION:
URL:https://harrisonbayseniorliving.com/event-calendar/really-big-show-with-dr-bill-6/
LOCATION:Community Room
CATEGORIES:Memory Care,Senior Living
END:VEVENT
END:VCALENDAR