BEGIN:VCALENDAR
VERSION:2.0
PRODID:-//Harrison Bay Senior Living - ECPv6.11.2.1//NONSGML v1.0//EN
CALSCALE:GREGORIAN
METHOD:PUBLISH
X-ORIGINAL-URL:https://harrisonbayseniorliving.com
X-WR-CALDESC:Events for Harrison Bay Senior Living
REFRESH-INTERVAL;VALUE=DURATION:PT1H
X-Robots-Tag:noindex
X-PUBLISHED-TTL:PT1H
BEGIN:VTIMEZONE
TZID:America/Chicago
BEGIN:DAYLIGHT
TZOFFSETFROM:-0600
TZOFFSETTO:-0500
TZNAME:CDT
DTSTART:20250309T080000
END:DAYLIGHT
BEGIN:STANDARD
TZOFFSETFROM:-0500
TZOFFSETTO:-0600
TZNAME:CST
DTSTART:20251102T070000
END:STANDARD
END:VTIMEZONE
BEGIN:VEVENT
DTSTART;TZID=America/Chicago:20251124T130000
DTEND;TZID=America/Chicago:20251124T140000
DTSTAMP:20260419T121022
CREATED:20251026T051919Z
LAST-MODIFIED:20251124T054913Z
UID:10003430-1763989200-1763992800@harrisonbayseniorliving.com
SUMMARY:BINGO
DESCRIPTION:
URL:https://harrisonbayseniorliving.com/event-calendar/bingo-109/
LOCATION:Community Room
CATEGORIES:Senior Living
END:VEVENT
BEGIN:VEVENT
DTSTART;TZID=America/Chicago:20251124T103000
DTEND;TZID=America/Chicago:20251124T113000
DTSTAMP:20260419T121022
CREATED:20251122T054931Z
LAST-MODIFIED:20251124T091915Z
UID:10003895-1763980200-1763983800@harrisonbayseniorliving.com
SUMMARY:Women's Group
DESCRIPTION:
URL:https://harrisonbayseniorliving.com/event-calendar/womens-group-29/
LOCATION:Pub
CATEGORIES:Memory Care,Senior Living
END:VEVENT
BEGIN:VEVENT
DTSTART;TZID=America/Chicago:20251124T103000
DTEND;TZID=America/Chicago:20251124T113000
DTSTAMP:20260419T121022
CREATED:20251122T054931Z
LAST-MODIFIED:20251122T054931Z
UID:10003894-1763980200-1763983800@harrisonbayseniorliving.com
SUMMARY:Women's Group
DESCRIPTION:
URL:https://harrisonbayseniorliving.com/event-calendar/womens-group-30/
LOCATION:Pub
CATEGORIES:Senior Living
END:VEVENT
BEGIN:VEVENT
DTSTART;TZID=America/Chicago:20251124T100000
DTEND;TZID=America/Chicago:20251124T110000
DTSTAMP:20260419T121022
CREATED:20251026T051919Z
LAST-MODIFIED:20251124T054913Z
UID:10003429-1763978400-1763982000@harrisonbayseniorliving.com
SUMMARY:Cardio Drumming
DESCRIPTION:
URL:https://harrisonbayseniorliving.com/event-calendar/cardio-drumming-60/
LOCATION:Community Room
CATEGORIES:Senior Living
END:VEVENT
BEGIN:VEVENT
DTSTART;TZID=America/Chicago:20251124T093000
DTEND;TZID=America/Chicago:20251124T100000
DTSTAMP:20260419T121022
CREATED:20251026T051919Z
LAST-MODIFIED:20251124T054913Z
UID:10003428-1763976600-1763978400@harrisonbayseniorliving.com
SUMMARY:Happy Feet Walkers
DESCRIPTION:
URL:https://harrisonbayseniorliving.com/event-calendar/happy-feet-walkers-213/
LOCATION:Main Lobby
CATEGORIES:Senior Living
END:VEVENT
BEGIN:VEVENT
DTSTART;TZID=America/Chicago:20251123T180000
DTEND;TZID=America/Chicago:20251123T190000
DTSTAMP:20260419T121022
CREATED:20251025T051921Z
LAST-MODIFIED:20251123T054932Z
UID:10003417-1763920800-1763924400@harrisonbayseniorliving.com
SUMMARY:Game Night
DESCRIPTION:
URL:https://harrisonbayseniorliving.com/event-calendar/game-night-8/
LOCATION:Community Room
CATEGORIES:Senior Living
END:VEVENT
BEGIN:VEVENT
DTSTART;TZID=America/Chicago:20251122T180000
DTEND;TZID=America/Chicago:20251122T200000
DTSTAMP:20260419T121022
CREATED:20251024T051926Z
LAST-MODIFIED:20251122T054931Z
UID:10003394-1763834400-1763841600@harrisonbayseniorliving.com
SUMMARY:MOVIE NIGHT: The Women in Cabin 10
DESCRIPTION:
URL:https://harrisonbayseniorliving.com/event-calendar/movie-night-the-women-in-cabin-10/
LOCATION:Pub
CATEGORIES:Senior Living
END:VEVENT
BEGIN:VEVENT
DTSTART;TZID=America/Chicago:20251122T140000
DTEND;TZID=America/Chicago:20251122T145900
DTSTAMP:20260419T121022
CREATED:20251024T051926Z
LAST-MODIFIED:20251122T054931Z
UID:10003393-1763820000-1763823540@harrisonbayseniorliving.com
SUMMARY:Bible Study (R)
DESCRIPTION:
URL:https://harrisonbayseniorliving.com/event-calendar/bible-study-r-28/
LOCATION:Community Room
CATEGORIES:Senior Living
END:VEVENT
BEGIN:VEVENT
DTSTART;TZID=America/Chicago:20251122T130000
DTEND;TZID=America/Chicago:20251122T140000
DTSTAMP:20260419T121022
CREATED:20251024T051926Z
LAST-MODIFIED:20251122T054931Z
UID:10003392-1763816400-1763820000@harrisonbayseniorliving.com
SUMMARY:Craft Time
DESCRIPTION:
URL:https://harrisonbayseniorliving.com/event-calendar/craft-time-8/
LOCATION:Community Room
CATEGORIES:Senior Living
END:VEVENT
BEGIN:VEVENT
DTSTART;TZID=America/Chicago:20251121T150000
DTEND;TZID=America/Chicago:20251121T160000
DTSTAMP:20260419T121022
CREATED:20251023T051926Z
LAST-MODIFIED:20251121T054913Z
UID:10003377-1763737200-1763740800@harrisonbayseniorliving.com
SUMMARY:Cocktails with Culinary Director Ashley
DESCRIPTION:
URL:https://harrisonbayseniorliving.com/event-calendar/cocktails-with-culinary-director-ashley-2/
LOCATION:Pub
CATEGORIES:Senior Living
END:VEVENT
BEGIN:VEVENT
DTSTART;TZID=America/Chicago:20251121T140000
DTEND;TZID=America/Chicago:20251121T150000
DTSTAMP:20260419T121022
CREATED:20251023T051926Z
LAST-MODIFIED:20251028T051928Z
UID:10003376-1763733600-1763737200@harrisonbayseniorliving.com
SUMMARY:BINGO
DESCRIPTION:
URL:https://harrisonbayseniorliving.com/event-calendar/bingo-107/
LOCATION:Community Room
CATEGORIES:Senior Living
END:VEVENT
BEGIN:VEVENT
DTSTART;TZID=America/Chicago:20251121T130000
DTEND;TZID=America/Chicago:20251121T140000
DTSTAMP:20260419T121022
CREATED:20251023T051926Z
LAST-MODIFIED:20251121T090456Z
UID:10003375-1763730000-1763733600@harrisonbayseniorliving.com
SUMMARY:Really Big Show with Dr. Bill
DESCRIPTION:
URL:https://harrisonbayseniorliving.com/event-calendar/really-big-show-with-dr-bill-7/
LOCATION:Community Room
CATEGORIES:Memory Care,Senior Living
END:VEVENT
BEGIN:VEVENT
DTSTART;TZID=America/Chicago:20251121T103000
DTEND;TZID=America/Chicago:20251121T143000
DTSTAMP:20260419T121022
CREATED:20251029T051923Z
LAST-MODIFIED:20251121T090456Z
UID:10003486-1763721000-1763735400@harrisonbayseniorliving.com
SUMMARY:Outing: Puttshack
DESCRIPTION:
URL:https://harrisonbayseniorliving.com/event-calendar/outing-puttshack/
CATEGORIES:Memory Care,Senior Living
END:VEVENT
BEGIN:VEVENT
DTSTART;TZID=America/Chicago:20251121T100000
DTEND;TZID=America/Chicago:20251121T110000
DTSTAMP:20260419T121022
CREATED:20251025T051921Z
LAST-MODIFIED:20251028T051928Z
UID:10003416-1763719200-1763722800@harrisonbayseniorliving.com
SUMMARY:Church Service with Chaplain Shane
DESCRIPTION:
URL:https://harrisonbayseniorliving.com/event-calendar/church-service-with-chaplain-shane-5/
LOCATION:Community Room
CATEGORIES:Senior Living
END:VEVENT
BEGIN:VEVENT
DTSTART;TZID=America/Chicago:20251121T100000
DTEND;TZID=America/Chicago:20251121T110000
DTSTAMP:20260419T121022
CREATED:20251023T051926Z
LAST-MODIFIED:20251121T090456Z
UID:10003374-1763719200-1763722800@harrisonbayseniorliving.com
SUMMARY:Church Service with Chaplain Shane
DESCRIPTION:
URL:https://harrisonbayseniorliving.com/event-calendar/church-service-with-chaplain-shane-4/
LOCATION:Community Room
CATEGORIES:Memory Care,Senior Living
END:VEVENT
BEGIN:VEVENT
DTSTART;TZID=America/Chicago:20251121T100000
DTEND;TZID=America/Chicago:20251121T103000
DTSTAMP:20260419T121022
CREATED:20251023T051926Z
LAST-MODIFIED:20251121T054913Z
UID:10003373-1763719200-1763721000@harrisonbayseniorliving.com
SUMMARY:Chair Exercise
DESCRIPTION:
URL:https://harrisonbayseniorliving.com/event-calendar/chair-exercise-113/
CATEGORIES:Senior Living
END:VEVENT
BEGIN:VEVENT
DTSTART;TZID=America/Chicago:20251121T093000
DTEND;TZID=America/Chicago:20251121T100000
DTSTAMP:20260419T121022
CREATED:20251023T051926Z
LAST-MODIFIED:20251121T054913Z
UID:10003372-1763717400-1763719200@harrisonbayseniorliving.com
SUMMARY:Happy Feet Walkers
DESCRIPTION:
URL:https://harrisonbayseniorliving.com/event-calendar/happy-feet-walkers-211/
LOCATION:Main Lobby
CATEGORIES:Senior Living
END:VEVENT
BEGIN:VEVENT
DTSTART;TZID=America/Chicago:20251121T090000
DTEND;TZID=America/Chicago:20251121T100000
DTSTAMP:20260419T121022
CREATED:20251023T051926Z
LAST-MODIFIED:20251121T090456Z
UID:10003371-1763715600-1763719200@harrisonbayseniorliving.com
SUMMARY:Catholic Communion (R)
DESCRIPTION:
URL:https://harrisonbayseniorliving.com/event-calendar/catholic-communion-r-28/
CATEGORIES:Memory Care,Senior Living
END:VEVENT
BEGIN:VEVENT
DTSTART;TZID=America/Chicago:20251120T140000
DTEND;TZID=America/Chicago:20251120T150000
DTSTAMP:20260419T121022
CREATED:20251022T051920Z
LAST-MODIFIED:20251120T090415Z
UID:10003357-1763647200-1763650800@harrisonbayseniorliving.com
SUMMARY:Inspirational Movie: Adam: His Song Continues
DESCRIPTION:
URL:https://harrisonbayseniorliving.com/event-calendar/inspirational-movie-14/
LOCATION:Pub
CATEGORIES:Memory Care,Senior Living
END:VEVENT
BEGIN:VEVENT
DTSTART;TZID=America/Chicago:20251120T130000
DTEND;TZID=America/Chicago:20251120T140000
DTSTAMP:20260419T121022
CREATED:20251022T051920Z
LAST-MODIFIED:20251120T053413Z
UID:10003356-1763643600-1763647200@harrisonbayseniorliving.com
SUMMARY:Social Hour + Link Senior Games
DESCRIPTION:
URL:https://harrisonbayseniorliving.com/event-calendar/social-hour-link-senior-games-32/
LOCATION:Community Room
CATEGORIES:Senior Living
END:VEVENT
BEGIN:VEVENT
DTSTART;TZID=America/Chicago:20251120T103000
DTEND;TZID=America/Chicago:20251120T113000
DTSTAMP:20260419T121022
CREATED:20251022T051920Z
LAST-MODIFIED:20251120T090415Z
UID:10003355-1763634600-1763638200@harrisonbayseniorliving.com
SUMMARY:Men's Gathering
DESCRIPTION:
URL:https://harrisonbayseniorliving.com/event-calendar/mens-gathering-55/
LOCATION:Pub
CATEGORIES:Memory Care,Senior Living
END:VEVENT
BEGIN:VEVENT
DTSTART;TZID=America/Chicago:20251120T100000
DTEND;TZID=America/Chicago:20251120T103000
DTSTAMP:20260419T121022
CREATED:20251022T051920Z
LAST-MODIFIED:20251120T053413Z
UID:10003354-1763632800-1763634600@harrisonbayseniorliving.com
SUMMARY:Chair Exercise
DESCRIPTION:
URL:https://harrisonbayseniorliving.com/event-calendar/chair-exercise-112/
CATEGORIES:Senior Living
END:VEVENT
BEGIN:VEVENT
DTSTART;TZID=America/Chicago:20251120T093000
DTEND;TZID=America/Chicago:20251120T100000
DTSTAMP:20260419T121022
CREATED:20251022T051919Z
LAST-MODIFIED:20251120T053413Z
UID:10003353-1763631000-1763632800@harrisonbayseniorliving.com
SUMMARY:Happy Feet Walkers
DESCRIPTION:
URL:https://harrisonbayseniorliving.com/event-calendar/happy-feet-walkers-209/
LOCATION:Main Lobby
CATEGORIES:Senior Living
END:VEVENT
BEGIN:VEVENT
DTSTART;TZID=America/Chicago:20251119T150000
DTEND;TZID=America/Chicago:20251119T160000
DTSTAMP:20260419T121022
CREATED:20251029T051923Z
LAST-MODIFIED:20251119T053414Z
UID:10003485-1763564400-1763568000@harrisonbayseniorliving.com
SUMMARY:Thanksgiving Diamond Painting
DESCRIPTION:
URL:https://harrisonbayseniorliving.com/event-calendar/thanksgiving-diamond-painting/
LOCATION:Community Room
CATEGORIES:Senior Living
END:VEVENT
BEGIN:VEVENT
DTSTART;TZID=America/Chicago:20251119T140000
DTEND;TZID=America/Chicago:20251119T150000
DTSTAMP:20260419T121023
CREATED:20251021T051918Z
LAST-MODIFIED:20251119T053414Z
UID:10003338-1763560800-1763564400@harrisonbayseniorliving.com
SUMMARY:PENNY BINGO
DESCRIPTION:
URL:https://harrisonbayseniorliving.com/event-calendar/penny-bingo-30/
LOCATION:Community Room
CATEGORIES:Senior Living
END:VEVENT
BEGIN:VEVENT
DTSTART;TZID=America/Chicago:20251119T130000
DTEND;TZID=America/Chicago:20251119T140000
DTSTAMP:20260419T121023
CREATED:20251021T051918Z
LAST-MODIFIED:20251119T090416Z
UID:10003337-1763557200-1763560800@harrisonbayseniorliving.com
SUMMARY:Competition: Whizzer Huggy Bears vs. Purple Hawks
DESCRIPTION:
URL:https://harrisonbayseniorliving.com/event-calendar/competition-3/
LOCATION:Community Room
CATEGORIES:Memory Care,Senior Living
END:VEVENT
BEGIN:VEVENT
DTSTART;TZID=America/Chicago:20251119T100000
DTEND;TZID=America/Chicago:20251119T110000
DTSTAMP:20260419T121023
CREATED:20251028T051928Z
LAST-MODIFIED:20251119T053414Z
UID:10003463-1763546400-1763550000@harrisonbayseniorliving.com
SUMMARY:Cardio Drumming
DESCRIPTION:
URL:https://harrisonbayseniorliving.com/event-calendar/cardio-drumming-62/
LOCATION:Community Room
CATEGORIES:Senior Living
END:VEVENT
BEGIN:VEVENT
DTSTART;TZID=America/Chicago:20251119T100000
DTEND;TZID=America/Chicago:20251119T103000
DTSTAMP:20260419T121023
CREATED:20251021T051918Z
LAST-MODIFIED:20251027T051956Z
UID:10003336-1763546400-1763548200@harrisonbayseniorliving.com
SUMMARY:Chair Exercise
DESCRIPTION:
URL:https://harrisonbayseniorliving.com/event-calendar/chair-exercise-111/
CATEGORIES:Senior Living
END:VEVENT
BEGIN:VEVENT
DTSTART;TZID=America/Chicago:20251119T093000
DTEND;TZID=America/Chicago:20251119T100000
DTSTAMP:20260419T121023
CREATED:20251021T051918Z
LAST-MODIFIED:20251119T053414Z
UID:10003335-1763544600-1763546400@harrisonbayseniorliving.com
SUMMARY:Happy Feet Walkers
DESCRIPTION:
URL:https://harrisonbayseniorliving.com/event-calendar/happy-feet-walkers-206/
LOCATION:Main Lobby
CATEGORIES:Senior Living
END:VEVENT
BEGIN:VEVENT
DTSTART;TZID=America/Chicago:20251118T150000
DTEND;TZID=America/Chicago:20251118T170000
DTSTAMP:20260419T121023
CREATED:20251115T051915Z
LAST-MODIFIED:20251118T053416Z
UID:10003771-1763478000-1763485200@harrisonbayseniorliving.com
SUMMARY:Inspirational Movie: Mercury 13
DESCRIPTION:
URL:https://harrisonbayseniorliving.com/event-calendar/inspirational-movie-mercury-13-3/
LOCATION:Pub
CATEGORIES:Senior Living
END:VEVENT
END:VCALENDAR