BEGIN:VCALENDAR
VERSION:2.0
PRODID:-//Harrison Bay Senior Living - ECPv6.11.2.1//NONSGML v1.0//EN
CALSCALE:GREGORIAN
METHOD:PUBLISH
X-ORIGINAL-URL:https://harrisonbayseniorliving.com
X-WR-CALDESC:Events for Harrison Bay Senior Living
REFRESH-INTERVAL;VALUE=DURATION:PT1H
X-Robots-Tag:noindex
X-PUBLISHED-TTL:PT1H
BEGIN:VTIMEZONE
TZID:America/Chicago
BEGIN:DAYLIGHT
TZOFFSETFROM:-0600
TZOFFSETTO:-0500
TZNAME:CDT
DTSTART:20250309T080000
END:DAYLIGHT
BEGIN:STANDARD
TZOFFSETFROM:-0500
TZOFFSETTO:-0600
TZNAME:CST
DTSTART:20251102T070000
END:STANDARD
END:VTIMEZONE
BEGIN:VEVENT
DTSTART;TZID=America/Chicago:20250820T140000
DTEND;TZID=America/Chicago:20250820T150000
DTSTAMP:20260425T094012
CREATED:20250801T022013Z
LAST-MODIFIED:20250820T023413Z
UID:10001784-1755698400-1755702000@harrisonbayseniorliving.com
SUMMARY:Social Hour + Link Senior Games
DESCRIPTION:
URL:https://harrisonbayseniorliving.com/event-calendar/social-hour-link-senior-games-19/
LOCATION:Community Room
CATEGORIES:Senior Living
END:VEVENT
BEGIN:VEVENT
DTSTART;TZID=America/Chicago:20250820T130000
DTEND;TZID=America/Chicago:20250820T140000
DTSTAMP:20260425T094012
CREATED:20250722T021921Z
LAST-MODIFIED:20250820T023413Z
UID:10001588-1755694800-1755698400@harrisonbayseniorliving.com
SUMMARY:PENNY BINGO
DESCRIPTION:
URL:https://harrisonbayseniorliving.com/event-calendar/penny-bingo-16/
LOCATION:Community Room
CATEGORIES:Senior Living
END:VEVENT
BEGIN:VEVENT
DTSTART;TZID=America/Chicago:20250820T103000
DTEND;TZID=America/Chicago:20250820T113000
DTSTAMP:20260425T094012
CREATED:20250801T022013Z
LAST-MODIFIED:20250820T040415Z
UID:10001783-1755685800-1755689400@harrisonbayseniorliving.com
SUMMARY:Chef Demo with Ashley Culinary Director
DESCRIPTION:
URL:https://harrisonbayseniorliving.com/event-calendar/chef-demo-with-ashley-culinary-director/
LOCATION:Pub
CATEGORIES:Memory Care,Senior Living
END:VEVENT
BEGIN:VEVENT
DTSTART;TZID=America/Chicago:20250820T100000
DTEND;TZID=America/Chicago:20250820T103000
DTSTAMP:20260425T094012
CREATED:20250722T021921Z
LAST-MODIFIED:20250820T023413Z
UID:10001587-1755684000-1755685800@harrisonbayseniorliving.com
SUMMARY:Chair Exercise
DESCRIPTION:
URL:https://harrisonbayseniorliving.com/event-calendar/chair-exercise-70/
CATEGORIES:Senior Living
END:VEVENT
BEGIN:VEVENT
DTSTART;TZID=America/Chicago:20250820T093000
DTEND;TZID=America/Chicago:20250820T100000
DTSTAMP:20260425T094012
CREATED:20250722T021921Z
LAST-MODIFIED:20250820T023413Z
UID:10001586-1755682200-1755684000@harrisonbayseniorliving.com
SUMMARY:Happy Feet Walkers
DESCRIPTION:
URL:https://harrisonbayseniorliving.com/event-calendar/happy-feet-walkers-70/
LOCATION:Main Lobby
CATEGORIES:Memory Care,Senior Living
END:VEVENT
BEGIN:VEVENT
DTSTART;TZID=America/Chicago:20250820T090000
DTEND;TZID=America/Chicago:20250820T093000
DTSTAMP:20260425T094012
CREATED:20250801T022013Z
LAST-MODIFIED:20250820T023413Z
UID:10001782-1755680400-1755682200@harrisonbayseniorliving.com
SUMMARY:Garden Club
DESCRIPTION:
URL:https://harrisonbayseniorliving.com/event-calendar/garden-club-20/
CATEGORIES:Senior Living
END:VEVENT
BEGIN:VEVENT
DTSTART;TZID=America/Chicago:20250819T180000
DTEND;TZID=America/Chicago:20250819T190000
DTSTAMP:20260425T094012
CREATED:20250721T021937Z
LAST-MODIFIED:20250819T023413Z
UID:10001574-1755626400-1755630000@harrisonbayseniorliving.com
SUMMARY:Diamond Painting (R)
DESCRIPTION:
URL:https://harrisonbayseniorliving.com/event-calendar/diamond-painting-r-98/
LOCATION:Community Room
CATEGORIES:Senior Living
END:VEVENT
BEGIN:VEVENT
DTSTART;TZID=America/Chicago:20250819T180000
DTEND;TZID=America/Chicago:20250819T190000
DTSTAMP:20260425T094012
CREATED:20250721T021937Z
LAST-MODIFIED:20250819T023413Z
UID:10001575-1755626400-1755630000@harrisonbayseniorliving.com
SUMMARY:GAME NIGHT: Rummikub/ Uno
DESCRIPTION:
URL:https://harrisonbayseniorliving.com/event-calendar/game-night-rummikub-uno-84/
LOCATION:Community Room
CATEGORIES:Senior Living
END:VEVENT
BEGIN:VEVENT
DTSTART;TZID=America/Chicago:20250819T143000
DTEND;TZID=America/Chicago:20250819T153000
DTSTAMP:20260425T094012
CREATED:20250723T021931Z
LAST-MODIFIED:20250819T040415Z
UID:10001600-1755613800-1755617400@harrisonbayseniorliving.com
SUMMARY:Art with Tamra
DESCRIPTION:
URL:https://harrisonbayseniorliving.com/event-calendar/art-with-tamra-4/
LOCATION:Community Room
CATEGORIES:Memory Care,Senior Living
END:VEVENT
BEGIN:VEVENT
DTSTART;TZID=America/Chicago:20250819T130000
DTEND;TZID=America/Chicago:20250819T140000
DTSTAMP:20260425T094012
CREATED:20250721T021937Z
LAST-MODIFIED:20250819T040412Z
UID:10001573-1755608400-1755612000@harrisonbayseniorliving.com
SUMMARY:Lifespark Competition: Grip Games
DESCRIPTION:
URL:https://harrisonbayseniorliving.com/event-calendar/lifespark-competition-grip-games-6/
LOCATION:Community Room
CATEGORIES:Memory Care,Senior Living
END:VEVENT
BEGIN:VEVENT
DTSTART;TZID=America/Chicago:20250819T103000
DTEND;TZID=America/Chicago:20250819T113000
DTSTAMP:20260425T094012
CREATED:20250721T021937Z
LAST-MODIFIED:20250819T040414Z
UID:10001569-1755599400-1755603000@harrisonbayseniorliving.com
SUMMARY:Men's Gathering
DESCRIPTION:
URL:https://harrisonbayseniorliving.com/event-calendar/mens-gathering-28/
LOCATION:Pub
CATEGORIES:Memory Care,Senior Living
END:VEVENT
BEGIN:VEVENT
DTSTART;TZID=America/Chicago:20250819T100000
DTEND;TZID=America/Chicago:20250819T110000
DTSTAMP:20260425T094012
CREATED:20250721T021937Z
LAST-MODIFIED:20250819T023413Z
UID:10001570-1755597600-1755601200@harrisonbayseniorliving.com
SUMMARY:Cardio Drumming
DESCRIPTION:
URL:https://harrisonbayseniorliving.com/event-calendar/chair-exercise-drumming-3/
LOCATION:Community Room
CATEGORIES:Senior Living
END:VEVENT
BEGIN:VEVENT
DTSTART;TZID=America/Chicago:20250819T100000
DTEND;TZID=America/Chicago:20250819T103000
DTSTAMP:20260425T094012
CREATED:20250721T021937Z
LAST-MODIFIED:20250724T021948Z
UID:10001572-1755597600-1755599400@harrisonbayseniorliving.com
SUMMARY:Chair Exercise
DESCRIPTION:
URL:https://harrisonbayseniorliving.com/event-calendar/chair-exercise-69/
CATEGORIES:Senior Living
END:VEVENT
BEGIN:VEVENT
DTSTART;TZID=America/Chicago:20250819T093000
DTEND;TZID=America/Chicago:20250819T100000
DTSTAMP:20260425T094012
CREATED:20250721T021937Z
LAST-MODIFIED:20250819T023413Z
UID:10001571-1755595800-1755597600@harrisonbayseniorliving.com
SUMMARY:Happy Feet Walkers
DESCRIPTION:
URL:https://harrisonbayseniorliving.com/event-calendar/happy-feet-walkers-69/
LOCATION:Main Lobby
CATEGORIES:Memory Care,Senior Living
END:VEVENT
BEGIN:VEVENT
DTSTART;TZID=America/Chicago:20250819T090000
DTEND;TZID=America/Chicago:20250819T093000
DTSTAMP:20260425T094012
CREATED:20250801T022013Z
LAST-MODIFIED:20250819T023413Z
UID:10001781-1755594000-1755595800@harrisonbayseniorliving.com
SUMMARY:Garden Club
DESCRIPTION:
URL:https://harrisonbayseniorliving.com/event-calendar/garden-club-19/
CATEGORIES:Senior Living
END:VEVENT
BEGIN:VEVENT
DTSTART;TZID=America/Chicago:20250818T180000
DTEND;TZID=America/Chicago:20250818T190000
DTSTAMP:20260425T094012
CREATED:20250720T020417Z
LAST-MODIFIED:20250818T023413Z
UID:10001559-1755540000-1755543600@harrisonbayseniorliving.com
SUMMARY:Diamond Painting (R)
DESCRIPTION:
URL:https://harrisonbayseniorliving.com/event-calendar/diamond-painting-r-97/
LOCATION:Community Room
CATEGORIES:Senior Living
END:VEVENT
BEGIN:VEVENT
DTSTART;TZID=America/Chicago:20250818T180000
DTEND;TZID=America/Chicago:20250818T190000
DTSTAMP:20260425T094012
CREATED:20250720T020417Z
LAST-MODIFIED:20250818T023413Z
UID:10001560-1755540000-1755543600@harrisonbayseniorliving.com
SUMMARY:GAME NIGHT: Rummikub/ Uno
DESCRIPTION:
URL:https://harrisonbayseniorliving.com/event-calendar/game-night-rummikub-uno-83/
LOCATION:Community Room
CATEGORIES:Senior Living
END:VEVENT
BEGIN:VEVENT
DTSTART;TZID=America/Chicago:20250818T140000
DTEND;TZID=America/Chicago:20250818T150000
DTSTAMP:20260425T094012
CREATED:20250801T022012Z
LAST-MODIFIED:20250818T034914Z
UID:10001780-1755525600-1755529200@harrisonbayseniorliving.com
SUMMARY:Inspirational Movie: Sunday Best
DESCRIPTION:
URL:https://harrisonbayseniorliving.com/event-calendar/inspirational-movie-sunday-best/
LOCATION:Pub
CATEGORIES:Memory Care,Senior Living
END:VEVENT
BEGIN:VEVENT
DTSTART;TZID=America/Chicago:20250818T140000
DTEND;TZID=America/Chicago:20250818T150000
DTSTAMP:20260425T094012
CREATED:20250720T020417Z
LAST-MODIFIED:20250731T022014Z
UID:10001558-1755525600-1755529200@harrisonbayseniorliving.com
SUMMARY:LINK SENIOR: Brain Games
DESCRIPTION:
URL:https://harrisonbayseniorliving.com/event-calendar/link-senior-brain-games-9/
LOCATION:Community Room
CATEGORIES:Senior Living
END:VEVENT
BEGIN:VEVENT
DTSTART;TZID=America/Chicago:20250818T130000
DTEND;TZID=America/Chicago:20250818T140000
DTSTAMP:20260425T094012
CREATED:20250720T020417Z
LAST-MODIFIED:20250818T023413Z
UID:10001557-1755522000-1755525600@harrisonbayseniorliving.com
SUMMARY:BINGO
DESCRIPTION:
URL:https://harrisonbayseniorliving.com/event-calendar/bingo-28/
LOCATION:Community Room
CATEGORIES:Senior Living
END:VEVENT
BEGIN:VEVENT
DTSTART;TZID=America/Chicago:20250818T103000
DTEND;TZID=America/Chicago:20250818T113000
DTSTAMP:20260425T094012
CREATED:20250720T020417Z
LAST-MODIFIED:20250818T034914Z
UID:10001556-1755513000-1755516600@harrisonbayseniorliving.com
SUMMARY:Women's Group
DESCRIPTION:
URL:https://harrisonbayseniorliving.com/event-calendar/womens-group-14/
LOCATION:Pub
CATEGORIES:Memory Care,Senior Living
END:VEVENT
BEGIN:VEVENT
DTSTART;TZID=America/Chicago:20250818T100000
DTEND;TZID=America/Chicago:20250818T110000
DTSTAMP:20260425T094012
CREATED:20250725T021922Z
LAST-MODIFIED:20250818T023413Z
UID:10001642-1755511200-1755514800@harrisonbayseniorliving.com
SUMMARY:Cardio Drumming
DESCRIPTION:
URL:https://harrisonbayseniorliving.com/event-calendar/cardio-drumming-7/
LOCATION:Community Room
CATEGORIES:Senior Living
END:VEVENT
BEGIN:VEVENT
DTSTART;TZID=America/Chicago:20250818T100000
DTEND;TZID=America/Chicago:20250818T103000
DTSTAMP:20260425T094012
CREATED:20250720T020417Z
LAST-MODIFIED:20250724T021947Z
UID:10001555-1755511200-1755513000@harrisonbayseniorliving.com
SUMMARY:Chair Exercise
DESCRIPTION:
URL:https://harrisonbayseniorliving.com/event-calendar/chair-exercise-68/
CATEGORIES:Senior Living
END:VEVENT
BEGIN:VEVENT
DTSTART;TZID=America/Chicago:20250818T093000
DTEND;TZID=America/Chicago:20250818T100000
DTSTAMP:20260425T094012
CREATED:20250720T020417Z
LAST-MODIFIED:20250818T023413Z
UID:10001554-1755509400-1755511200@harrisonbayseniorliving.com
SUMMARY:Happy Feet Walkers
DESCRIPTION:
URL:https://harrisonbayseniorliving.com/event-calendar/happy-feet-walkers-68/
LOCATION:Main Lobby
CATEGORIES:Memory Care,Senior Living
END:VEVENT
BEGIN:VEVENT
DTSTART;TZID=America/Chicago:20250818T090000
DTEND;TZID=America/Chicago:20250818T093000
DTSTAMP:20260425T094012
CREATED:20250801T022012Z
LAST-MODIFIED:20250818T023413Z
UID:10001779-1755507600-1755509400@harrisonbayseniorliving.com
SUMMARY:Garden Club
DESCRIPTION:
URL:https://harrisonbayseniorliving.com/event-calendar/garden-club-18/
CATEGORIES:Senior Living
END:VEVENT
BEGIN:VEVENT
DTSTART;TZID=America/Chicago:20250817T180000
DTEND;TZID=America/Chicago:20250817T190000
DTSTAMP:20260425T094012
CREATED:20250719T020511Z
LAST-MODIFIED:20250817T023430Z
UID:10001543-1755453600-1755457200@harrisonbayseniorliving.com
SUMMARY:GAME NIGHT: Rummikub/ Uno
DESCRIPTION:
URL:https://harrisonbayseniorliving.com/event-calendar/game-night-rummikub-uno-82/
LOCATION:Community Room
CATEGORIES:Senior Living
END:VEVENT
BEGIN:VEVENT
DTSTART;TZID=America/Chicago:20250817T180000
DTEND;TZID=America/Chicago:20250817T190000
DTSTAMP:20260425T094012
CREATED:20250719T020511Z
LAST-MODIFIED:20250817T023430Z
UID:10001542-1755453600-1755457200@harrisonbayseniorliving.com
SUMMARY:Diamond Painting (R)
DESCRIPTION:
URL:https://harrisonbayseniorliving.com/event-calendar/diamond-painting-r-96/
LOCATION:Community Room
CATEGORIES:Senior Living
END:VEVENT
BEGIN:VEVENT
DTSTART;TZID=America/Chicago:20250817T130000
DTEND;TZID=America/Chicago:20250817T140000
DTSTAMP:20260425T094012
CREATED:20250719T020511Z
LAST-MODIFIED:20250817T023430Z
UID:10001541-1755435600-1755439200@harrisonbayseniorliving.com
SUMMARY:Grip Game Practice
DESCRIPTION:
URL:https://harrisonbayseniorliving.com/event-calendar/grip-game-practice-5/
LOCATION:Community Room
CATEGORIES:Senior Living
END:VEVENT
BEGIN:VEVENT
DTSTART;TZID=America/Chicago:20250817T090000
DTEND;TZID=America/Chicago:20250817T093000
DTSTAMP:20260425T094012
CREATED:20250801T022012Z
LAST-MODIFIED:20250817T023430Z
UID:10001778-1755421200-1755423000@harrisonbayseniorliving.com
SUMMARY:Garden Club
DESCRIPTION:
URL:https://harrisonbayseniorliving.com/event-calendar/garden-club-17/
CATEGORIES:Senior Living
END:VEVENT
BEGIN:VEVENT
DTSTART;TZID=America/Chicago:20250816T180000
DTEND;TZID=America/Chicago:20250816T200000
DTSTAMP:20260425T094012
CREATED:20250718T020440Z
LAST-MODIFIED:20250816T023425Z
UID:10001525-1755367200-1755374400@harrisonbayseniorliving.com
SUMMARY:MOVIE NIGHT: Otherhood
DESCRIPTION:
URL:https://harrisonbayseniorliving.com/event-calendar/movie-night-11/
LOCATION:Pub
CATEGORIES:Senior Living
END:VEVENT
END:VCALENDAR