BEGIN:VCALENDAR
VERSION:2.0
PRODID:-//Harrison Bay Senior Living - ECPv6.11.2.1//NONSGML v1.0//EN
CALSCALE:GREGORIAN
METHOD:PUBLISH
X-WR-CALNAME:Harrison Bay Senior Living
X-ORIGINAL-URL:https://harrisonbayseniorliving.com
X-WR-CALDESC:Events for Harrison Bay Senior Living
REFRESH-INTERVAL;VALUE=DURATION:PT1H
X-Robots-Tag:noindex
X-PUBLISHED-TTL:PT1H
BEGIN:VTIMEZONE
TZID:America/Chicago
BEGIN:DAYLIGHT
TZOFFSETFROM:-0600
TZOFFSETTO:-0500
TZNAME:CDT
DTSTART:20250309T080000
END:DAYLIGHT
BEGIN:STANDARD
TZOFFSETFROM:-0500
TZOFFSETTO:-0600
TZNAME:CST
DTSTART:20251102T070000
END:STANDARD
END:VTIMEZONE
BEGIN:VEVENT
DTSTART;TZID=America/Chicago:20250828T090000
DTEND;TZID=America/Chicago:20250828T093000
DTSTAMP:20260424T225505
CREATED:20250801T022015Z
LAST-MODIFIED:20250828T030436Z
UID:10001799-1756371600-1756373400@harrisonbayseniorliving.com
SUMMARY:Garden Club
DESCRIPTION:
URL:https://harrisonbayseniorliving.com/event-calendar/garden-club-28/
CATEGORIES:Senior Living
END:VEVENT
BEGIN:VEVENT
DTSTART;TZID=America/Chicago:20250827T180000
DTEND;TZID=America/Chicago:20250827T190000
DTSTAMP:20260424T225505
CREATED:20250729T022039Z
LAST-MODIFIED:20250827T030420Z
UID:10001705-1756317600-1756321200@harrisonbayseniorliving.com
SUMMARY:Diamond Painting (R)
DESCRIPTION:
URL:https://harrisonbayseniorliving.com/event-calendar/diamond-painting-r-106/
LOCATION:Community Room
CATEGORIES:Senior Living
END:VEVENT
BEGIN:VEVENT
DTSTART;TZID=America/Chicago:20250827T180000
DTEND;TZID=America/Chicago:20250827T190000
DTSTAMP:20260424T225505
CREATED:20250729T022039Z
LAST-MODIFIED:20250827T030420Z
UID:10001706-1756317600-1756321200@harrisonbayseniorliving.com
SUMMARY:GAME NIGHT: Rummikub/ Uno
DESCRIPTION:
URL:https://harrisonbayseniorliving.com/event-calendar/game-night-rummikub-uno-91/
LOCATION:Community Room
CATEGORIES:Senior Living
END:VEVENT
BEGIN:VEVENT
DTSTART;TZID=America/Chicago:20250827T140000
DTEND;TZID=America/Chicago:20250827T150000
DTSTAMP:20260424T225505
CREATED:20250801T022015Z
LAST-MODIFIED:20250827T030420Z
UID:10001798-1756303200-1756306800@harrisonbayseniorliving.com
SUMMARY:Painted Canvas Totes
DESCRIPTION:
URL:https://harrisonbayseniorliving.com/event-calendar/painted-canvas-totes/
LOCATION:Community Room
CATEGORIES:Senior Living
END:VEVENT
BEGIN:VEVENT
DTSTART;TZID=America/Chicago:20250827T130000
DTEND;TZID=America/Chicago:20250827T140000
DTSTAMP:20260424T225505
CREATED:20250729T022039Z
LAST-MODIFIED:20250827T030419Z
UID:10001704-1756299600-1756303200@harrisonbayseniorliving.com
SUMMARY:PENNY BINGO
DESCRIPTION:
URL:https://harrisonbayseniorliving.com/event-calendar/penny-bingo-17/
LOCATION:Community Room
CATEGORIES:Senior Living
END:VEVENT
BEGIN:VEVENT
DTSTART;TZID=America/Chicago:20250827T103000
DTEND;TZID=America/Chicago:20250827T113000
DTSTAMP:20260424T225505
CREATED:20250801T022015Z
LAST-MODIFIED:20250827T044921Z
UID:10001797-1756290600-1756294200@harrisonbayseniorliving.com
SUMMARY:Learn How to Make Thai Tea; with History
DESCRIPTION:
URL:https://harrisonbayseniorliving.com/event-calendar/learn-how-to-make-thai-tea-with-history/
LOCATION:Pub
CATEGORIES:Memory Care,Senior Living
END:VEVENT
BEGIN:VEVENT
DTSTART;TZID=America/Chicago:20250827T100000
DTEND;TZID=America/Chicago:20250827T103000
DTSTAMP:20260424T225505
CREATED:20250729T022039Z
LAST-MODIFIED:20250827T030419Z
UID:10001703-1756288800-1756290600@harrisonbayseniorliving.com
SUMMARY:Chair Exercise
DESCRIPTION:
URL:https://harrisonbayseniorliving.com/event-calendar/chair-exercise-73/
CATEGORIES:Senior Living
END:VEVENT
BEGIN:VEVENT
DTSTART;TZID=America/Chicago:20250827T093000
DTEND;TZID=America/Chicago:20250827T100000
DTSTAMP:20260424T225505
CREATED:20250729T022038Z
LAST-MODIFIED:20250827T030419Z
UID:10001702-1756287000-1756288800@harrisonbayseniorliving.com
SUMMARY:Happy Feet Walkers
DESCRIPTION:
URL:https://harrisonbayseniorliving.com/event-calendar/happy-feet-walkers-75/
LOCATION:Main Lobby
CATEGORIES:Senior Living
END:VEVENT
BEGIN:VEVENT
DTSTART;TZID=America/Chicago:20250827T090000
DTEND;TZID=America/Chicago:20250827T093000
DTSTAMP:20260424T225505
CREATED:20250801T022015Z
LAST-MODIFIED:20250827T030419Z
UID:10001796-1756285200-1756287000@harrisonbayseniorliving.com
SUMMARY:Garden Club
DESCRIPTION:
URL:https://harrisonbayseniorliving.com/event-calendar/garden-club-27/
CATEGORIES:Senior Living
END:VEVENT
BEGIN:VEVENT
DTSTART;TZID=America/Chicago:20250826T180000
DTEND;TZID=America/Chicago:20250826T190000
DTSTAMP:20260424T225505
CREATED:20250728T021920Z
LAST-MODIFIED:20250826T030415Z
UID:10001693-1756231200-1756234800@harrisonbayseniorliving.com
SUMMARY:Diamond Painting (R)
DESCRIPTION:
URL:https://harrisonbayseniorliving.com/event-calendar/diamond-painting-r-105/
LOCATION:Community Room
CATEGORIES:Senior Living
END:VEVENT
BEGIN:VEVENT
DTSTART;TZID=America/Chicago:20250826T180000
DTEND;TZID=America/Chicago:20250826T190000
DTSTAMP:20260424T225505
CREATED:20250728T021920Z
LAST-MODIFIED:20250826T030415Z
UID:10001694-1756231200-1756234800@harrisonbayseniorliving.com
SUMMARY:GAME NIGHT: Rummikub/ Uno
DESCRIPTION:
URL:https://harrisonbayseniorliving.com/event-calendar/game-night-rummikub-uno-90/
LOCATION:Community Room
CATEGORIES:Senior Living
END:VEVENT
BEGIN:VEVENT
DTSTART;TZID=America/Chicago:20250826T140000
DTEND;TZID=America/Chicago:20250826T150000
DTSTAMP:20260424T225505
CREATED:20250728T021920Z
LAST-MODIFIED:20250826T030415Z
UID:10001691-1756216800-1756220400@harrisonbayseniorliving.com
SUMMARY:Worship Service with Chaplain Kevin
DESCRIPTION:
URL:https://harrisonbayseniorliving.com/event-calendar/worship-service-with-chaplain-kevin-4/
LOCATION:Community Room
CATEGORIES:Senior Living
END:VEVENT
BEGIN:VEVENT
DTSTART;TZID=America/Chicago:20250826T130000
DTEND;TZID=America/Chicago:20250826T140000
DTSTAMP:20260424T225505
CREATED:20250728T021920Z
LAST-MODIFIED:20250826T043519Z
UID:10001692-1756213200-1756216800@harrisonbayseniorliving.com
SUMMARY:Lifespark Competition: Grip Games
DESCRIPTION:
URL:https://harrisonbayseniorliving.com/event-calendar/lifespark-competition-grip-games-7/
LOCATION:Community Room
CATEGORIES:Memory Care,Senior Living
END:VEVENT
BEGIN:VEVENT
DTSTART;TZID=America/Chicago:20250826T103000
DTEND;TZID=America/Chicago:20250826T113000
DTSTAMP:20260424T225505
CREATED:20250728T021920Z
LAST-MODIFIED:20250826T043519Z
UID:10001690-1756204200-1756207800@harrisonbayseniorliving.com
SUMMARY:Men's Gathering
DESCRIPTION:
URL:https://harrisonbayseniorliving.com/event-calendar/mens-gathering-30/
LOCATION:Pub
CATEGORIES:Memory Care,Senior Living
END:VEVENT
BEGIN:VEVENT
DTSTART;TZID=America/Chicago:20250826T100000
DTEND;TZID=America/Chicago:20250826T110000
DTSTAMP:20260424T225505
CREATED:20250728T021919Z
LAST-MODIFIED:20250826T030415Z
UID:10001688-1756202400-1756206000@harrisonbayseniorliving.com
SUMMARY:Cardio Drumming
DESCRIPTION:
URL:https://harrisonbayseniorliving.com/event-calendar/cardio-drumming-10/
LOCATION:Community Room
CATEGORIES:Senior Living
END:VEVENT
BEGIN:VEVENT
DTSTART;TZID=America/Chicago:20250826T093000
DTEND;TZID=America/Chicago:20250826T100000
DTSTAMP:20260424T225505
CREATED:20250728T021919Z
LAST-MODIFIED:20250826T030415Z
UID:10001689-1756200600-1756202400@harrisonbayseniorliving.com
SUMMARY:Happy Feet Walkers
DESCRIPTION:
URL:https://harrisonbayseniorliving.com/event-calendar/happy-feet-walkers-74/
LOCATION:Main Lobby
CATEGORIES:Senior Living
END:VEVENT
BEGIN:VEVENT
DTSTART;TZID=America/Chicago:20250826T090000
DTEND;TZID=America/Chicago:20250826T093000
DTSTAMP:20260424T225505
CREATED:20250801T022015Z
LAST-MODIFIED:20250826T030415Z
UID:10001795-1756198800-1756200600@harrisonbayseniorliving.com
SUMMARY:Garden Club
DESCRIPTION:
URL:https://harrisonbayseniorliving.com/event-calendar/garden-club-26/
CATEGORIES:Senior Living
END:VEVENT
BEGIN:VEVENT
DTSTART;TZID=America/Chicago:20250825T180000
DTEND;TZID=America/Chicago:20250825T190000
DTSTAMP:20260424T225505
CREATED:20250727T021945Z
LAST-MODIFIED:20250825T030413Z
UID:10001677-1756144800-1756148400@harrisonbayseniorliving.com
SUMMARY:Diamond Painting (R)
DESCRIPTION:
URL:https://harrisonbayseniorliving.com/event-calendar/diamond-painting-r-104/
LOCATION:Community Room
CATEGORIES:Senior Living
END:VEVENT
BEGIN:VEVENT
DTSTART;TZID=America/Chicago:20250825T180000
DTEND;TZID=America/Chicago:20250825T190000
DTSTAMP:20260424T225505
CREATED:20250727T021945Z
LAST-MODIFIED:20250825T030413Z
UID:10001678-1756144800-1756148400@harrisonbayseniorliving.com
SUMMARY:GAME NIGHT: Rummikub/ Uno
DESCRIPTION:
URL:https://harrisonbayseniorliving.com/event-calendar/game-night-rummikub-uno-89/
LOCATION:Community Room
CATEGORIES:Senior Living
END:VEVENT
BEGIN:VEVENT
DTSTART;TZID=America/Chicago:20250825T153000
DTEND;TZID=America/Chicago:20250825T160000
DTSTAMP:20260424T225505
CREATED:20250727T021945Z
LAST-MODIFIED:20250825T030413Z
UID:10001675-1756135800-1756137600@harrisonbayseniorliving.com
SUMMARY:Resident Council Meeting
DESCRIPTION:
URL:https://harrisonbayseniorliving.com/event-calendar/resident-council-meeting-5/
LOCATION:Community Room
CATEGORIES:Senior Living
END:VEVENT
BEGIN:VEVENT
DTSTART;TZID=America/Chicago:20250825T150000
DTEND;TZID=America/Chicago:20250825T153000
DTSTAMP:20260424T225505
CREATED:20250727T021945Z
LAST-MODIFIED:20250825T030413Z
UID:10001676-1756134000-1756135800@harrisonbayseniorliving.com
SUMMARY:Dietary Council
DESCRIPTION:
URL:https://harrisonbayseniorliving.com/event-calendar/dietary-council-5/
LOCATION:Community Room
CATEGORIES:Senior Living
END:VEVENT
BEGIN:VEVENT
DTSTART;TZID=America/Chicago:20250825T140000
DTEND;TZID=America/Chicago:20250825T150000
DTSTAMP:20260424T225505
CREATED:20250727T021945Z
LAST-MODIFIED:20250825T030413Z
UID:10001674-1756130400-1756134000@harrisonbayseniorliving.com
SUMMARY:LINK SENIOR: Brain Games
DESCRIPTION:
URL:https://harrisonbayseniorliving.com/event-calendar/link-senior-brain-games-10/
LOCATION:Community Room
CATEGORIES:Senior Living
END:VEVENT
BEGIN:VEVENT
DTSTART;TZID=America/Chicago:20250825T130000
DTEND;TZID=America/Chicago:20250825T140000
DTSTAMP:20260424T225505
CREATED:20250727T021945Z
LAST-MODIFIED:20250825T030413Z
UID:10001673-1756126800-1756130400@harrisonbayseniorliving.com
SUMMARY:BINGO
DESCRIPTION:
URL:https://harrisonbayseniorliving.com/event-calendar/bingo-30/
LOCATION:Community Room
CATEGORIES:Senior Living
END:VEVENT
BEGIN:VEVENT
DTSTART;TZID=America/Chicago:20250825T103000
DTEND;TZID=America/Chicago:20250825T113000
DTSTAMP:20260424T225505
CREATED:20250727T021945Z
LAST-MODIFIED:20250825T041928Z
UID:10001671-1756117800-1756121400@harrisonbayseniorliving.com
SUMMARY:Women's Group
DESCRIPTION:
URL:https://harrisonbayseniorliving.com/event-calendar/womens-group-15/
LOCATION:Pub
CATEGORIES:Memory Care,Senior Living
END:VEVENT
BEGIN:VEVENT
DTSTART;TZID=America/Chicago:20250825T100000
DTEND;TZID=America/Chicago:20250825T110000
DTSTAMP:20260424T225505
CREATED:20250727T021945Z
LAST-MODIFIED:20250825T030413Z
UID:10001672-1756116000-1756119600@harrisonbayseniorliving.com
SUMMARY:Cardio Drumming
DESCRIPTION:
URL:https://harrisonbayseniorliving.com/event-calendar/cardio-drumming-9/
LOCATION:Community Room
CATEGORIES:Senior Living
END:VEVENT
BEGIN:VEVENT
DTSTART;TZID=America/Chicago:20250825T093000
DTEND;TZID=America/Chicago:20250825T100000
DTSTAMP:20260424T225505
CREATED:20250727T021944Z
LAST-MODIFIED:20250825T030413Z
UID:10001670-1756114200-1756116000@harrisonbayseniorliving.com
SUMMARY:Happy Feet Walkers
DESCRIPTION:
URL:https://harrisonbayseniorliving.com/event-calendar/happy-feet-walkers-73/
LOCATION:Main Lobby
CATEGORIES:Memory Care,Senior Living
END:VEVENT
BEGIN:VEVENT
DTSTART;TZID=America/Chicago:20250825T090000
DTEND;TZID=America/Chicago:20250825T093000
DTSTAMP:20260424T225505
CREATED:20250801T022014Z
LAST-MODIFIED:20250825T030413Z
UID:10001794-1756112400-1756114200@harrisonbayseniorliving.com
SUMMARY:Garden Club
DESCRIPTION:
URL:https://harrisonbayseniorliving.com/event-calendar/garden-club-25/
CATEGORIES:Senior Living
END:VEVENT
BEGIN:VEVENT
DTSTART;TZID=America/Chicago:20250824T180000
DTEND;TZID=America/Chicago:20250824T190000
DTSTAMP:20260424T225505
CREATED:20250726T021921Z
LAST-MODIFIED:20250824T030453Z
UID:10001658-1756058400-1756062000@harrisonbayseniorliving.com
SUMMARY:Diamond Painting (R)
DESCRIPTION:
URL:https://harrisonbayseniorliving.com/event-calendar/diamond-painting-r-103/
LOCATION:Community Room
CATEGORIES:Senior Living
END:VEVENT
BEGIN:VEVENT
DTSTART;TZID=America/Chicago:20250824T180000
DTEND;TZID=America/Chicago:20250824T190000
DTSTAMP:20260424T225505
CREATED:20250726T021921Z
LAST-MODIFIED:20250824T030453Z
UID:10001659-1756058400-1756062000@harrisonbayseniorliving.com
SUMMARY:GAME NIGHT: Rummikub/ Uno
DESCRIPTION:
URL:https://harrisonbayseniorliving.com/event-calendar/game-night-rummikub-uno-88/
LOCATION:Community Room
CATEGORIES:Senior Living
END:VEVENT
BEGIN:VEVENT
DTSTART;TZID=America/Chicago:20250824T130000
DTEND;TZID=America/Chicago:20250824T140000
DTSTAMP:20260424T225505
CREATED:20250726T021921Z
LAST-MODIFIED:20250824T030453Z
UID:10001657-1756040400-1756044000@harrisonbayseniorliving.com
SUMMARY:Grip Game Practice
DESCRIPTION:
URL:https://harrisonbayseniorliving.com/event-calendar/grip-game-practice-6/
LOCATION:Community Room
CATEGORIES:Senior Living
END:VEVENT
END:VCALENDAR