BEGIN:VCALENDAR
VERSION:2.0
PRODID:-//Harrison Bay Senior Living - ECPv6.11.2.1//NONSGML v1.0//EN
CALSCALE:GREGORIAN
METHOD:PUBLISH
X-WR-CALNAME:Harrison Bay Senior Living
X-ORIGINAL-URL:https://harrisonbayseniorliving.com
X-WR-CALDESC:Events for Harrison Bay Senior Living
REFRESH-INTERVAL;VALUE=DURATION:PT1H
X-Robots-Tag:noindex
X-PUBLISHED-TTL:PT1H
BEGIN:VTIMEZONE
TZID:America/Chicago
BEGIN:DAYLIGHT
TZOFFSETFROM:-0600
TZOFFSETTO:-0500
TZNAME:CDT
DTSTART:20250309T080000
END:DAYLIGHT
BEGIN:STANDARD
TZOFFSETFROM:-0500
TZOFFSETTO:-0600
TZNAME:CST
DTSTART:20251102T070000
END:STANDARD
END:VTIMEZONE
BEGIN:VEVENT
DTSTART;TZID=America/Chicago:20250915T091000
DTEND;TZID=America/Chicago:20250915T101000
DTSTAMP:20260424T013553
CREATED:20250903T031915Z
LAST-MODIFIED:20250915T050413Z
UID:10002486-1757927400-1757931000@harrisonbayseniorliving.com
SUMMARY:Outing: Target
DESCRIPTION:
URL:https://harrisonbayseniorliving.com/event-calendar/outing-target-3/
CATEGORIES:Memory Care,Senior Living
END:VEVENT
BEGIN:VEVENT
DTSTART;TZID=America/Chicago:20250915T090000
DTEND;TZID=America/Chicago:20250915T093000
DTSTAMP:20260424T013553
CREATED:20250817T023435Z
LAST-MODIFIED:20250915T033413Z
UID:10002144-1757926800-1757928600@harrisonbayseniorliving.com
SUMMARY:Garden Club
DESCRIPTION:
URL:https://harrisonbayseniorliving.com/event-calendar/garden-club-70/
CATEGORIES:Senior Living
END:VEVENT
BEGIN:VEVENT
DTSTART;TZID=America/Chicago:20250914T090000
DTEND;TZID=America/Chicago:20250914T093000
DTSTAMP:20260424T013553
CREATED:20250816T023432Z
LAST-MODIFIED:20250914T031928Z
UID:10002127-1757840400-1757842200@harrisonbayseniorliving.com
SUMMARY:Garden Club
DESCRIPTION:
URL:https://harrisonbayseniorliving.com/event-calendar/garden-club-68/
CATEGORIES:Senior Living
END:VEVENT
BEGIN:VEVENT
DTSTART;TZID=America/Chicago:20250913T180000
DTEND;TZID=America/Chicago:20250913T200000
DTSTAMP:20260424T013553
CREATED:20250830T031917Z
LAST-MODIFIED:20250913T031912Z
UID:10002408-1757786400-1757793600@harrisonbayseniorliving.com
SUMMARY:MOVIE NIGHT: Marry Me
DESCRIPTION:
URL:https://harrisonbayseniorliving.com/event-calendar/movie-night-marry-me/
LOCATION:Pub
CATEGORIES:Senior Living
END:VEVENT
BEGIN:VEVENT
DTSTART;TZID=America/Chicago:20250913T140000
DTEND;TZID=America/Chicago:20250913T145900
DTSTAMP:20260424T013553
CREATED:20250815T023614Z
LAST-MODIFIED:20250913T031912Z
UID:10002111-1757772000-1757775540@harrisonbayseniorliving.com
SUMMARY:Bible Study (R)
DESCRIPTION:
URL:https://harrisonbayseniorliving.com/event-calendar/bible-study-r-18/
LOCATION:Community Room
CATEGORIES:Senior Living
END:VEVENT
BEGIN:VEVENT
DTSTART;TZID=America/Chicago:20250913T130000
DTEND;TZID=America/Chicago:20250913T140000
DTSTAMP:20260424T013553
CREATED:20250815T023614Z
LAST-MODIFIED:20250913T031912Z
UID:10002110-1757768400-1757772000@harrisonbayseniorliving.com
SUMMARY:Diamond Painting
DESCRIPTION:
URL:https://harrisonbayseniorliving.com/event-calendar/diamond-painting-18/
LOCATION:Community Room
CATEGORIES:Senior Living
END:VEVENT
BEGIN:VEVENT
DTSTART;TZID=America/Chicago:20250913T090000
DTEND;TZID=America/Chicago:20250913T093000
DTSTAMP:20260424T013553
CREATED:20250815T023614Z
LAST-MODIFIED:20250913T031912Z
UID:10002109-1757754000-1757755800@harrisonbayseniorliving.com
SUMMARY:Garden Club
DESCRIPTION:
URL:https://harrisonbayseniorliving.com/event-calendar/garden-club-66/
CATEGORIES:Senior Living
END:VEVENT
BEGIN:VEVENT
DTSTART;TZID=America/Chicago:20250912T160000
DTEND;TZID=America/Chicago:20250912T180000
DTSTAMP:20260424T013553
CREATED:20250903T031915Z
LAST-MODIFIED:20250912T050430Z
UID:10002485-1757692800-1757700000@harrisonbayseniorliving.com
SUMMARY:Fancy Friday Dinner Buffet
DESCRIPTION:
URL:https://harrisonbayseniorliving.com/event-calendar/fancy-friday-dinner-buffet/
LOCATION:Dining Room
CATEGORIES:Memory Care,Senior Living
END:VEVENT
BEGIN:VEVENT
DTSTART;TZID=America/Chicago:20250912T150000
DTEND;TZID=America/Chicago:20250912T160000
DTSTAMP:20260424T013553
CREATED:20250814T023440Z
LAST-MODIFIED:20250819T023418Z
UID:10002093-1757689200-1757692800@harrisonbayseniorliving.com
SUMMARY:BINGO
DESCRIPTION:
URL:https://harrisonbayseniorliving.com/event-calendar/bingo-48/
LOCATION:Community Room
CATEGORIES:Senior Living
END:VEVENT
BEGIN:VEVENT
DTSTART;TZID=America/Chicago:20250912T140000
DTEND;TZID=America/Chicago:20250912T160000
DTSTAMP:20260424T013553
CREATED:20250820T023418Z
LAST-MODIFIED:20250912T031916Z
UID:10002200-1757685600-1757692800@harrisonbayseniorliving.com
SUMMARY:Gin Rummy and Cocktail w/ Ashley Culinary Director
DESCRIPTION:
URL:https://harrisonbayseniorliving.com/event-calendar/gin-rummy-and-cocktail-w-ashley-culinary-director-6/
LOCATION:Community Room
CATEGORIES:Senior Living
END:VEVENT
BEGIN:VEVENT
DTSTART;TZID=America/Chicago:20250912T130000
DTEND;TZID=America/Chicago:20250912T140000
DTSTAMP:20260424T013553
CREATED:20250820T023418Z
LAST-MODIFIED:20250912T031916Z
UID:10002201-1757682000-1757685600@harrisonbayseniorliving.com
SUMMARY:BINGO
DESCRIPTION:
URL:https://harrisonbayseniorliving.com/event-calendar/bingo-54/
LOCATION:Community Room
CATEGORIES:Senior Living
END:VEVENT
BEGIN:VEVENT
DTSTART;TZID=America/Chicago:20250912T100000
DTEND;TZID=America/Chicago:20250912T103000
DTSTAMP:20260424T013553
CREATED:20250814T023440Z
LAST-MODIFIED:20250912T031916Z
UID:10002092-1757671200-1757673000@harrisonbayseniorliving.com
SUMMARY:Chair Exercise
DESCRIPTION:
URL:https://harrisonbayseniorliving.com/event-calendar/chair-exercise-82/
CATEGORIES:Senior Living
END:VEVENT
BEGIN:VEVENT
DTSTART;TZID=America/Chicago:20250912T093000
DTEND;TZID=America/Chicago:20250912T100000
DTSTAMP:20260424T013553
CREATED:20250814T023440Z
LAST-MODIFIED:20250912T031916Z
UID:10002091-1757669400-1757671200@harrisonbayseniorliving.com
SUMMARY:Happy Feet Walkers
DESCRIPTION:
URL:https://harrisonbayseniorliving.com/event-calendar/happy-feet-walkers-108/
LOCATION:Main Lobby
CATEGORIES:Senior Living
END:VEVENT
BEGIN:VEVENT
DTSTART;TZID=America/Chicago:20250912T090000
DTEND;TZID=America/Chicago:20250912T100000
DTSTAMP:20260424T013553
CREATED:20250814T023440Z
LAST-MODIFIED:20250912T050417Z
UID:10002089-1757667600-1757671200@harrisonbayseniorliving.com
SUMMARY:Catholic Communion (R)
DESCRIPTION:
URL:https://harrisonbayseniorliving.com/event-calendar/catholic-communion-r-18/
CATEGORIES:Memory Care,Senior Living
END:VEVENT
BEGIN:VEVENT
DTSTART;TZID=America/Chicago:20250912T090000
DTEND;TZID=America/Chicago:20250912T093000
DTSTAMP:20260424T013553
CREATED:20250814T023440Z
LAST-MODIFIED:20250912T031916Z
UID:10002090-1757667600-1757669400@harrisonbayseniorliving.com
SUMMARY:Garden Club
DESCRIPTION:
URL:https://harrisonbayseniorliving.com/event-calendar/garden-club-64/
CATEGORIES:Senior Living
END:VEVENT
BEGIN:VEVENT
DTSTART;TZID=America/Chicago:20250911T140000
DTEND;TZID=America/Chicago:20250911T150000
DTSTAMP:20260424T013553
CREATED:20250826T030418Z
LAST-MODIFIED:20250911T050425Z
UID:10002321-1757599200-1757602800@harrisonbayseniorliving.com
SUMMARY:Inspirational Movie: The Color Purple
DESCRIPTION:
URL:https://harrisonbayseniorliving.com/event-calendar/inspirational-movie-the-color-purple/
LOCATION:Pub
CATEGORIES:Memory Care,Senior Living
END:VEVENT
BEGIN:VEVENT
DTSTART;TZID=America/Chicago:20250911T140000
DTEND;TZID=America/Chicago:20250911T150000
DTSTAMP:20260424T013553
CREATED:20250813T023446Z
LAST-MODIFIED:20250822T024918Z
UID:10002071-1757599200-1757602800@harrisonbayseniorliving.com
SUMMARY:Inspirational Movie:
DESCRIPTION:
URL:https://harrisonbayseniorliving.com/event-calendar/inspirational-movie-10/
LOCATION:Pub
CATEGORIES:Senior Living
END:VEVENT
BEGIN:VEVENT
DTSTART;TZID=America/Chicago:20250911T130000
DTEND;TZID=America/Chicago:20250911T140000
DTSTAMP:20260424T013553
CREATED:20250813T023446Z
LAST-MODIFIED:20250911T031912Z
UID:10002070-1757595600-1757599200@harrisonbayseniorliving.com
SUMMARY:Social Hour + Link Senior Games
DESCRIPTION:
URL:https://harrisonbayseniorliving.com/event-calendar/social-hour-link-senior-games-21/
LOCATION:Community Room
CATEGORIES:Senior Living
END:VEVENT
BEGIN:VEVENT
DTSTART;TZID=America/Chicago:20250911T103000
DTEND;TZID=America/Chicago:20250911T113000
DTSTAMP:20260424T013553
CREATED:20250813T023445Z
LAST-MODIFIED:20250911T050414Z
UID:10002069-1757586600-1757590200@harrisonbayseniorliving.com
SUMMARY:Men's Gathering
DESCRIPTION:
URL:https://harrisonbayseniorliving.com/event-calendar/mens-gathering-35/
LOCATION:Pub
CATEGORIES:Memory Care,Senior Living
END:VEVENT
BEGIN:VEVENT
DTSTART;TZID=America/Chicago:20250911T100000
DTEND;TZID=America/Chicago:20250911T103000
DTSTAMP:20260424T013553
CREATED:20250813T023445Z
LAST-MODIFIED:20250911T031912Z
UID:10002068-1757584800-1757586600@harrisonbayseniorliving.com
SUMMARY:Chair Exercise
DESCRIPTION:
URL:https://harrisonbayseniorliving.com/event-calendar/chair-exercise-81/
CATEGORIES:Senior Living
END:VEVENT
BEGIN:VEVENT
DTSTART;TZID=America/Chicago:20250911T093000
DTEND;TZID=America/Chicago:20250911T100000
DTSTAMP:20260424T013553
CREATED:20250813T023445Z
LAST-MODIFIED:20250911T031912Z
UID:10002067-1757583000-1757584800@harrisonbayseniorliving.com
SUMMARY:Happy Feet Walkers
DESCRIPTION:
URL:https://harrisonbayseniorliving.com/event-calendar/happy-feet-walkers-106/
LOCATION:Main Lobby
CATEGORIES:Senior Living
END:VEVENT
BEGIN:VEVENT
DTSTART;TZID=America/Chicago:20250911T091500
DTEND;TZID=America/Chicago:20250911T101500
DTSTAMP:20260424T013553
CREATED:20250826T030418Z
LAST-MODIFIED:20250911T050414Z
UID:10002320-1757582100-1757585700@harrisonbayseniorliving.com
SUMMARY:Outing: Fishing with Friends
DESCRIPTION:
URL:https://harrisonbayseniorliving.com/event-calendar/outing-fishing-with-friends-4/
CATEGORIES:Memory Care,Senior Living
END:VEVENT
BEGIN:VEVENT
DTSTART;TZID=America/Chicago:20250911T090000
DTEND;TZID=America/Chicago:20250911T093000
DTSTAMP:20260424T013553
CREATED:20250813T023445Z
LAST-MODIFIED:20250911T031912Z
UID:10002066-1757581200-1757583000@harrisonbayseniorliving.com
SUMMARY:Garden Club
DESCRIPTION:
URL:https://harrisonbayseniorliving.com/event-calendar/garden-club-62/
CATEGORIES:Senior Living
END:VEVENT
BEGIN:VEVENT
DTSTART;TZID=America/Chicago:20250910T153000
DTEND;TZID=America/Chicago:20250910T163000
DTSTAMP:20260424T013553
CREATED:20250823T030423Z
LAST-MODIFIED:20250910T050426Z
UID:10002272-1757518200-1757521800@harrisonbayseniorliving.com
SUMMARY:Learn how to make Cowboy Cavier
DESCRIPTION:
URL:https://harrisonbayseniorliving.com/event-calendar/learn-how-to-make-cowboy-cavier/
LOCATION:Pub
CATEGORIES:Memory Care,Senior Living
END:VEVENT
BEGIN:VEVENT
DTSTART;TZID=America/Chicago:20250910T142000
DTEND;TZID=America/Chicago:20250910T152000
DTSTAMP:20260424T013553
CREATED:20250812T023512Z
LAST-MODIFIED:20250910T031913Z
UID:10002047-1757514000-1757517600@harrisonbayseniorliving.com
SUMMARY:PENNY BINGO
DESCRIPTION:
URL:https://harrisonbayseniorliving.com/event-calendar/penny-bingo-19/
LOCATION:Community Room
CATEGORIES:Senior Living
END:VEVENT
BEGIN:VEVENT
DTSTART;TZID=America/Chicago:20250910T130000
DTEND;TZID=America/Chicago:20250910T140000
DTSTAMP:20260424T013553
CREATED:20250820T023417Z
LAST-MODIFIED:20250910T050414Z
UID:10002199-1757509200-1757512800@harrisonbayseniorliving.com
SUMMARY:September Birthday Bash w/ Jim Kirekendall
DESCRIPTION:
URL:https://harrisonbayseniorliving.com/event-calendar/september-birthday-bash-w-jim-kirekendall/
LOCATION:Dining Room
CATEGORIES:Memory Care,Senior Living
END:VEVENT
BEGIN:VEVENT
DTSTART;TZID=America/Chicago:20250910T100000
DTEND;TZID=America/Chicago:20250910T103000
DTSTAMP:20260424T013553
CREATED:20250812T023512Z
LAST-MODIFIED:20250910T031913Z
UID:10002046-1757498400-1757500200@harrisonbayseniorliving.com
SUMMARY:Chair Exercise
DESCRIPTION:
URL:https://harrisonbayseniorliving.com/event-calendar/chair-exercise-80/
CATEGORIES:Senior Living
END:VEVENT
BEGIN:VEVENT
DTSTART;TZID=America/Chicago:20250910T093000
DTEND;TZID=America/Chicago:20250910T100000
DTSTAMP:20260424T013553
CREATED:20250812T023512Z
LAST-MODIFIED:20250910T031912Z
UID:10002045-1757496600-1757498400@harrisonbayseniorliving.com
SUMMARY:Happy Feet Walkers
DESCRIPTION:
URL:https://harrisonbayseniorliving.com/event-calendar/happy-feet-walkers-105/
LOCATION:Main Lobby
CATEGORIES:Senior Living
END:VEVENT
BEGIN:VEVENT
DTSTART;TZID=America/Chicago:20250910T090000
DTEND;TZID=America/Chicago:20250910T093000
DTSTAMP:20260424T013553
CREATED:20250812T023512Z
LAST-MODIFIED:20250910T031912Z
UID:10002044-1757494800-1757496600@harrisonbayseniorliving.com
SUMMARY:Garden Club
DESCRIPTION:
URL:https://harrisonbayseniorliving.com/event-calendar/garden-club-61/
CATEGORIES:Senior Living
END:VEVENT
BEGIN:VEVENT
DTSTART;TZID=America/Chicago:20250909T180000
DTEND;TZID=America/Chicago:20250909T190000
DTSTAMP:20260424T013553
CREATED:20250811T022013Z
LAST-MODIFIED:20250909T031932Z
UID:10002033-1757440800-1757444400@harrisonbayseniorliving.com
SUMMARY:GAME NIGHT: Rummikub/ Uno
DESCRIPTION:
URL:https://harrisonbayseniorliving.com/event-calendar/game-night-rummikub-uno-102/
LOCATION:Community Room
CATEGORIES:Senior Living
END:VEVENT
END:VCALENDAR