BEGIN:VCALENDAR
VERSION:2.0
PRODID:-//Harrison Bay Senior Living - ECPv6.11.2.1//NONSGML v1.0//EN
CALSCALE:GREGORIAN
METHOD:PUBLISH
X-WR-CALNAME:Harrison Bay Senior Living
X-ORIGINAL-URL:https://harrisonbayseniorliving.com
X-WR-CALDESC:Events for Harrison Bay Senior Living
REFRESH-INTERVAL;VALUE=DURATION:PT1H
X-Robots-Tag:noindex
X-PUBLISHED-TTL:PT1H
BEGIN:VTIMEZONE
TZID:America/Chicago
BEGIN:DAYLIGHT
TZOFFSETFROM:-0600
TZOFFSETTO:-0500
TZNAME:CDT
DTSTART:20250309T080000
END:DAYLIGHT
BEGIN:STANDARD
TZOFFSETFROM:-0500
TZOFFSETTO:-0600
TZNAME:CST
DTSTART:20251102T070000
END:STANDARD
END:VTIMEZONE
BEGIN:VEVENT
DTSTART;TZID=America/Chicago:20250917T100000
DTEND;TZID=America/Chicago:20250917T103000
DTSTAMP:20260423T221200
CREATED:20250819T023419Z
LAST-MODIFIED:20250917T033435Z
UID:10002176-1758103200-1758105000@harrisonbayseniorliving.com
SUMMARY:Chair Exercise
DESCRIPTION:
URL:https://harrisonbayseniorliving.com/event-calendar/chair-exercise-84/
CATEGORIES:Senior Living
END:VEVENT
BEGIN:VEVENT
DTSTART;TZID=America/Chicago:20250917T093000
DTEND;TZID=America/Chicago:20250917T100000
DTSTAMP:20260423T221200
CREATED:20250819T023419Z
LAST-MODIFIED:20250917T033435Z
UID:10002175-1758101400-1758103200@harrisonbayseniorliving.com
SUMMARY:Happy Feet Walkers
DESCRIPTION:
URL:https://harrisonbayseniorliving.com/event-calendar/happy-feet-walkers-115/
LOCATION:Main Lobby
CATEGORIES:Senior Living
END:VEVENT
BEGIN:VEVENT
DTSTART;TZID=America/Chicago:20250917T091000
DTEND;TZID=America/Chicago:20250917T101000
DTSTAMP:20260423T221200
CREATED:20250826T030419Z
LAST-MODIFIED:20250902T050429Z
UID:10002322-1758100200-1758103800@harrisonbayseniorliving.com
SUMMARY:Outing: Target
DESCRIPTION:
URL:https://harrisonbayseniorliving.com/event-calendar/outing-target-2/
CATEGORIES:Memory Care,Senior Living
END:VEVENT
BEGIN:VEVENT
DTSTART;TZID=America/Chicago:20250917T090000
DTEND;TZID=America/Chicago:20250917T093000
DTSTAMP:20260423T221200
CREATED:20250819T023418Z
LAST-MODIFIED:20250917T033435Z
UID:10002174-1758099600-1758101400@harrisonbayseniorliving.com
SUMMARY:Garden Club
DESCRIPTION:
URL:https://harrisonbayseniorliving.com/event-calendar/garden-club-73/
CATEGORIES:Senior Living
END:VEVENT
BEGIN:VEVENT
DTSTART;TZID=America/Chicago:20250916T150000
DTEND;TZID=America/Chicago:20250916T160000
DTSTAMP:20260423T221200
CREATED:20250902T031934Z
LAST-MODIFIED:20250915T033412Z
UID:10002462-1758034800-1758038400@harrisonbayseniorliving.com
SUMMARY:Painted Canvas Totes
DESCRIPTION:
URL:https://harrisonbayseniorliving.com/event-calendar/painted-canvas-totes-3/
LOCATION:Community Room
CATEGORIES:Senior Living
END:VEVENT
BEGIN:VEVENT
DTSTART;TZID=America/Chicago:20250916T140000
DTEND;TZID=America/Chicago:20250916T150000
DTSTAMP:20260423T221200
CREATED:20250830T031917Z
LAST-MODIFIED:20250916T033413Z
UID:10002410-1758031200-1758034800@harrisonbayseniorliving.com
SUMMARY:Bible Study with Chaplain Kevin
DESCRIPTION:
URL:https://harrisonbayseniorliving.com/event-calendar/bible-study-with-chaplain-kevin-3/
LOCATION:Community Room
CATEGORIES:Senior Living
END:VEVENT
BEGIN:VEVENT
DTSTART;TZID=America/Chicago:20250916T140000
DTEND;TZID=America/Chicago:20250916T150000
DTSTAMP:20260423T221200
CREATED:20250830T031917Z
LAST-MODIFIED:20250901T050501Z
UID:10002411-1758031200-1758034800@harrisonbayseniorliving.com
SUMMARY:Tea Party
DESCRIPTION:
URL:https://harrisonbayseniorliving.com/event-calendar/tea-party/
LOCATION:Community Room
CATEGORIES:Memory Care,Senior Living
END:VEVENT
BEGIN:VEVENT
DTSTART;TZID=America/Chicago:20250916T130000
DTEND;TZID=America/Chicago:20250916T140000
DTSTAMP:20260423T221200
CREATED:20250911T031912Z
LAST-MODIFIED:20250916T051914Z
UID:10002626-1758027600-1758031200@harrisonbayseniorliving.com
SUMMARY:Lifespark Final 4 Grip Game Competition
DESCRIPTION:
URL:https://harrisonbayseniorliving.com/event-calendar/lifespark-final-4-grip-game-competition/
LOCATION:Community Room
CATEGORIES:Memory Care,Senior Living
END:VEVENT
BEGIN:VEVENT
DTSTART;TZID=America/Chicago:20250916T103000
DTEND;TZID=America/Chicago:20250916T113000
DTSTAMP:20260423T221200
CREATED:20250818T023420Z
LAST-MODIFIED:20250916T051914Z
UID:10002162-1758018600-1758022200@harrisonbayseniorliving.com
SUMMARY:Men's Gathering
DESCRIPTION:
URL:https://harrisonbayseniorliving.com/event-calendar/mens-gathering-36/
LOCATION:Pub
CATEGORIES:Memory Care,Senior Living
END:VEVENT
BEGIN:VEVENT
DTSTART;TZID=America/Chicago:20250916T100000
DTEND;TZID=America/Chicago:20250916T110000
DTSTAMP:20260423T221200
CREATED:20250818T023420Z
LAST-MODIFIED:20250916T033413Z
UID:10002160-1758016800-1758020400@harrisonbayseniorliving.com
SUMMARY:Cardio Drumming
DESCRIPTION:
URL:https://harrisonbayseniorliving.com/event-calendar/cardio-drumming-21/
LOCATION:Community Room
CATEGORIES:Senior Living
END:VEVENT
BEGIN:VEVENT
DTSTART;TZID=America/Chicago:20250916T093000
DTEND;TZID=America/Chicago:20250916T100000
DTSTAMP:20260423T221201
CREATED:20250818T023420Z
LAST-MODIFIED:20250916T033413Z
UID:10002161-1758015000-1758016800@harrisonbayseniorliving.com
SUMMARY:Happy Feet Walkers
DESCRIPTION:
URL:https://harrisonbayseniorliving.com/event-calendar/happy-feet-walkers-114/
LOCATION:Main Lobby
CATEGORIES:Senior Living
END:VEVENT
BEGIN:VEVENT
DTSTART;TZID=America/Chicago:20250916T090000
DTEND;TZID=America/Chicago:20250916T093000
DTSTAMP:20260423T221201
CREATED:20250818T023420Z
LAST-MODIFIED:20250916T033413Z
UID:10002159-1758013200-1758015000@harrisonbayseniorliving.com
SUMMARY:Garden Club
DESCRIPTION:
URL:https://harrisonbayseniorliving.com/event-calendar/garden-club-72/
CATEGORIES:Senior Living
END:VEVENT
BEGIN:VEVENT
DTSTART;TZID=America/Chicago:20250915T150000
DTEND;TZID=America/Chicago:20250915T153000
DTSTAMP:20260423T221201
CREATED:20250909T031932Z
LAST-MODIFIED:20250915T033414Z
UID:10002586-1757948400-1757950200@harrisonbayseniorliving.com
SUMMARY:Communtity Life Meeting
DESCRIPTION:
URL:https://harrisonbayseniorliving.com/event-calendar/communtity-life-meeting-7/
LOCATION:Community Room
CATEGORIES:Senior Living
END:VEVENT
BEGIN:VEVENT
DTSTART;TZID=America/Chicago:20250915T140000
DTEND;TZID=America/Chicago:20250915T150000
DTSTAMP:20260423T221201
CREATED:20250830T031917Z
LAST-MODIFIED:20250915T033414Z
UID:10002409-1757944800-1757948400@harrisonbayseniorliving.com
SUMMARY:"Get To Know Your Neighbor" Welcome Commitee
DESCRIPTION:
URL:https://harrisonbayseniorliving.com/event-calendar/get-to-know-your-neighbor-welcome-commitee-5/
LOCATION:Community Room
CATEGORIES:Senior Living
END:VEVENT
BEGIN:VEVENT
DTSTART;TZID=America/Chicago:20250915T140000
DTEND;TZID=America/Chicago:20250915T150000
DTSTAMP:20260423T221201
CREATED:20250817T023435Z
LAST-MODIFIED:20250908T031918Z
UID:10002150-1757944800-1757948400@harrisonbayseniorliving.com
SUMMARY:LINK SENIOR: Brain Games
DESCRIPTION:
URL:https://harrisonbayseniorliving.com/event-calendar/link-senior-brain-games-13/
LOCATION:Community Room
CATEGORIES:Senior Living
END:VEVENT
BEGIN:VEVENT
DTSTART;TZID=America/Chicago:20250915T130000
DTEND;TZID=America/Chicago:20250915T140000
DTSTAMP:20260423T221201
CREATED:20250817T023435Z
LAST-MODIFIED:20250915T033414Z
UID:10002149-1757941200-1757944800@harrisonbayseniorliving.com
SUMMARY:BINGO
DESCRIPTION:
URL:https://harrisonbayseniorliving.com/event-calendar/bingo-50/
LOCATION:Community Room
CATEGORIES:Senior Living
END:VEVENT
BEGIN:VEVENT
DTSTART;TZID=America/Chicago:20250915T103000
DTEND;TZID=America/Chicago:20250915T113000
DTSTAMP:20260423T221201
CREATED:20250817T023435Z
LAST-MODIFIED:20250915T050414Z
UID:10002145-1757932200-1757935800@harrisonbayseniorliving.com
SUMMARY:Women's Group
DESCRIPTION:
URL:https://harrisonbayseniorliving.com/event-calendar/womens-group-18/
LOCATION:Pub
CATEGORIES:Memory Care,Senior Living
END:VEVENT
BEGIN:VEVENT
DTSTART;TZID=America/Chicago:20250915T100000
DTEND;TZID=America/Chicago:20250915T110000
DTSTAMP:20260423T221201
CREATED:20250817T023435Z
LAST-MODIFIED:20250915T033413Z
UID:10002146-1757930400-1757934000@harrisonbayseniorliving.com
SUMMARY:Cardio Drumming
DESCRIPTION:
URL:https://harrisonbayseniorliving.com/event-calendar/cardio-drumming-19/
LOCATION:Community Room
CATEGORIES:Senior Living
END:VEVENT
BEGIN:VEVENT
DTSTART;TZID=America/Chicago:20250915T100000
DTEND;TZID=America/Chicago:20250915T103000
DTSTAMP:20260423T221201
CREATED:20250817T023435Z
LAST-MODIFIED:20250829T031917Z
UID:10002147-1757930400-1757932200@harrisonbayseniorliving.com
SUMMARY:Chair Exercise
DESCRIPTION:
URL:https://harrisonbayseniorliving.com/event-calendar/chair-exercise-83/
CATEGORIES:Senior Living
END:VEVENT
BEGIN:VEVENT
DTSTART;TZID=America/Chicago:20250915T093000
DTEND;TZID=America/Chicago:20250915T100000
DTSTAMP:20260423T221201
CREATED:20250817T023435Z
LAST-MODIFIED:20250915T033413Z
UID:10002148-1757928600-1757930400@harrisonbayseniorliving.com
SUMMARY:Happy Feet Walkers
DESCRIPTION:
URL:https://harrisonbayseniorliving.com/event-calendar/happy-feet-walkers-112/
LOCATION:Main Lobby
CATEGORIES:Senior Living
END:VEVENT
BEGIN:VEVENT
DTSTART;TZID=America/Chicago:20250915T091000
DTEND;TZID=America/Chicago:20250915T101000
DTSTAMP:20260423T221201
CREATED:20250903T031915Z
LAST-MODIFIED:20250915T050413Z
UID:10002486-1757927400-1757931000@harrisonbayseniorliving.com
SUMMARY:Outing: Target
DESCRIPTION:
URL:https://harrisonbayseniorliving.com/event-calendar/outing-target-3/
CATEGORIES:Memory Care,Senior Living
END:VEVENT
BEGIN:VEVENT
DTSTART;TZID=America/Chicago:20250915T090000
DTEND;TZID=America/Chicago:20250915T093000
DTSTAMP:20260423T221201
CREATED:20250817T023435Z
LAST-MODIFIED:20250915T033413Z
UID:10002144-1757926800-1757928600@harrisonbayseniorliving.com
SUMMARY:Garden Club
DESCRIPTION:
URL:https://harrisonbayseniorliving.com/event-calendar/garden-club-70/
CATEGORIES:Senior Living
END:VEVENT
BEGIN:VEVENT
DTSTART;TZID=America/Chicago:20250914T090000
DTEND;TZID=America/Chicago:20250914T093000
DTSTAMP:20260423T221201
CREATED:20250816T023432Z
LAST-MODIFIED:20250914T031928Z
UID:10002127-1757840400-1757842200@harrisonbayseniorliving.com
SUMMARY:Garden Club
DESCRIPTION:
URL:https://harrisonbayseniorliving.com/event-calendar/garden-club-68/
CATEGORIES:Senior Living
END:VEVENT
BEGIN:VEVENT
DTSTART;TZID=America/Chicago:20250913T180000
DTEND;TZID=America/Chicago:20250913T200000
DTSTAMP:20260423T221201
CREATED:20250830T031917Z
LAST-MODIFIED:20250913T031912Z
UID:10002408-1757786400-1757793600@harrisonbayseniorliving.com
SUMMARY:MOVIE NIGHT: Marry Me
DESCRIPTION:
URL:https://harrisonbayseniorliving.com/event-calendar/movie-night-marry-me/
LOCATION:Pub
CATEGORIES:Senior Living
END:VEVENT
BEGIN:VEVENT
DTSTART;TZID=America/Chicago:20250913T140000
DTEND;TZID=America/Chicago:20250913T145900
DTSTAMP:20260423T221201
CREATED:20250815T023614Z
LAST-MODIFIED:20250913T031912Z
UID:10002111-1757772000-1757775540@harrisonbayseniorliving.com
SUMMARY:Bible Study (R)
DESCRIPTION:
URL:https://harrisonbayseniorliving.com/event-calendar/bible-study-r-18/
LOCATION:Community Room
CATEGORIES:Senior Living
END:VEVENT
BEGIN:VEVENT
DTSTART;TZID=America/Chicago:20250913T130000
DTEND;TZID=America/Chicago:20250913T140000
DTSTAMP:20260423T221201
CREATED:20250815T023614Z
LAST-MODIFIED:20250913T031912Z
UID:10002110-1757768400-1757772000@harrisonbayseniorliving.com
SUMMARY:Diamond Painting
DESCRIPTION:
URL:https://harrisonbayseniorliving.com/event-calendar/diamond-painting-18/
LOCATION:Community Room
CATEGORIES:Senior Living
END:VEVENT
BEGIN:VEVENT
DTSTART;TZID=America/Chicago:20250913T090000
DTEND;TZID=America/Chicago:20250913T093000
DTSTAMP:20260423T221201
CREATED:20250815T023614Z
LAST-MODIFIED:20250913T031912Z
UID:10002109-1757754000-1757755800@harrisonbayseniorliving.com
SUMMARY:Garden Club
DESCRIPTION:
URL:https://harrisonbayseniorliving.com/event-calendar/garden-club-66/
CATEGORIES:Senior Living
END:VEVENT
BEGIN:VEVENT
DTSTART;TZID=America/Chicago:20250912T160000
DTEND;TZID=America/Chicago:20250912T180000
DTSTAMP:20260423T221201
CREATED:20250903T031915Z
LAST-MODIFIED:20250912T050430Z
UID:10002485-1757692800-1757700000@harrisonbayseniorliving.com
SUMMARY:Fancy Friday Dinner Buffet
DESCRIPTION:
URL:https://harrisonbayseniorliving.com/event-calendar/fancy-friday-dinner-buffet/
LOCATION:Dining Room
CATEGORIES:Memory Care,Senior Living
END:VEVENT
BEGIN:VEVENT
DTSTART;TZID=America/Chicago:20250912T150000
DTEND;TZID=America/Chicago:20250912T160000
DTSTAMP:20260423T221201
CREATED:20250814T023440Z
LAST-MODIFIED:20250819T023418Z
UID:10002093-1757689200-1757692800@harrisonbayseniorliving.com
SUMMARY:BINGO
DESCRIPTION:
URL:https://harrisonbayseniorliving.com/event-calendar/bingo-48/
LOCATION:Community Room
CATEGORIES:Senior Living
END:VEVENT
BEGIN:VEVENT
DTSTART;TZID=America/Chicago:20250912T140000
DTEND;TZID=America/Chicago:20250912T160000
DTSTAMP:20260423T221201
CREATED:20250820T023418Z
LAST-MODIFIED:20250912T031916Z
UID:10002200-1757685600-1757692800@harrisonbayseniorliving.com
SUMMARY:Gin Rummy and Cocktail w/ Ashley Culinary Director
DESCRIPTION:
URL:https://harrisonbayseniorliving.com/event-calendar/gin-rummy-and-cocktail-w-ashley-culinary-director-6/
LOCATION:Community Room
CATEGORIES:Senior Living
END:VEVENT
END:VCALENDAR