BEGIN:VCALENDAR
VERSION:2.0
PRODID:-//Harrison Bay Senior Living - ECPv6.11.2.1//NONSGML v1.0//EN
CALSCALE:GREGORIAN
METHOD:PUBLISH
X-ORIGINAL-URL:https://harrisonbayseniorliving.com
X-WR-CALDESC:Events for Harrison Bay Senior Living
REFRESH-INTERVAL;VALUE=DURATION:PT1H
X-Robots-Tag:noindex
X-PUBLISHED-TTL:PT1H
BEGIN:VTIMEZONE
TZID:America/Chicago
BEGIN:DAYLIGHT
TZOFFSETFROM:-0600
TZOFFSETTO:-0500
TZNAME:CDT
DTSTART:20250309T080000
END:DAYLIGHT
BEGIN:STANDARD
TZOFFSETFROM:-0500
TZOFFSETTO:-0600
TZNAME:CST
DTSTART:20251102T070000
END:STANDARD
END:VTIMEZONE
BEGIN:VEVENT
DTSTART;TZID=America/Chicago:20250922T103000
DTEND;TZID=America/Chicago:20250922T113000
DTSTAMP:20260423T173320
CREATED:20250824T030458Z
LAST-MODIFIED:20250922T060452Z
UID:10002290-1758537000-1758540600@harrisonbayseniorliving.com
SUMMARY:Women's Group
DESCRIPTION:
URL:https://harrisonbayseniorliving.com/event-calendar/womens-group-19/
LOCATION:Pub
CATEGORIES:Memory Care,Senior Living
END:VEVENT
BEGIN:VEVENT
DTSTART;TZID=America/Chicago:20250922T100000
DTEND;TZID=America/Chicago:20250922T110000
DTSTAMP:20260423T173320
CREATED:20250824T030458Z
LAST-MODIFIED:20250922T040418Z
UID:10002288-1758535200-1758538800@harrisonbayseniorliving.com
SUMMARY:Cardio Drumming
DESCRIPTION:
URL:https://harrisonbayseniorliving.com/event-calendar/cardio-drumming-23/
LOCATION:Community Room
CATEGORIES:Senior Living
END:VEVENT
BEGIN:VEVENT
DTSTART;TZID=America/Chicago:20250922T100000
DTEND;TZID=America/Chicago:20250922T103000
DTSTAMP:20260423T173320
CREATED:20250824T030458Z
LAST-MODIFIED:20250829T031919Z
UID:10002289-1758535200-1758537000@harrisonbayseniorliving.com
SUMMARY:Chair Exercise
DESCRIPTION:
URL:https://harrisonbayseniorliving.com/event-calendar/chair-exercise-87/
CATEGORIES:Senior Living
END:VEVENT
BEGIN:VEVENT
DTSTART;TZID=America/Chicago:20250922T093000
DTEND;TZID=America/Chicago:20250922T100000
DTSTAMP:20260423T173320
CREATED:20250824T030458Z
LAST-MODIFIED:20250922T040418Z
UID:10002287-1758533400-1758535200@harrisonbayseniorliving.com
SUMMARY:Happy Feet Walkers
DESCRIPTION:
URL:https://harrisonbayseniorliving.com/event-calendar/happy-feet-walkers-123/
LOCATION:Main Lobby
CATEGORIES:Senior Living
END:VEVENT
BEGIN:VEVENT
DTSTART;TZID=America/Chicago:20250922T090000
DTEND;TZID=America/Chicago:20250922T093000
DTSTAMP:20260423T173320
CREATED:20250824T030458Z
LAST-MODIFIED:20250922T040418Z
UID:10002286-1758531600-1758533400@harrisonbayseniorliving.com
SUMMARY:Garden Club
DESCRIPTION:
URL:https://harrisonbayseniorliving.com/event-calendar/garden-club-82/
CATEGORIES:Senior Living
END:VEVENT
BEGIN:VEVENT
DTSTART;TZID=America/Chicago:20250921T090000
DTEND;TZID=America/Chicago:20250921T093000
DTSTAMP:20260423T173320
CREATED:20250823T030425Z
LAST-MODIFIED:20250921T040426Z
UID:10002273-1758445200-1758447000@harrisonbayseniorliving.com
SUMMARY:Garden Club
DESCRIPTION:
URL:https://harrisonbayseniorliving.com/event-calendar/garden-club-81/
CATEGORIES:Senior Living
END:VEVENT
BEGIN:VEVENT
DTSTART;TZID=America/Chicago:20250920T180000
DTEND;TZID=America/Chicago:20250920T200000
DTSTAMP:20260423T173320
CREATED:20250830T031919Z
LAST-MODIFIED:20250920T034914Z
UID:10002412-1758391200-1758398400@harrisonbayseniorliving.com
SUMMARY:MOVIE NIGHT: My Oxford Year
DESCRIPTION:
URL:https://harrisonbayseniorliving.com/event-calendar/movie-night-my-oxford-year/
LOCATION:Pub
CATEGORIES:Senior Living
END:VEVENT
BEGIN:VEVENT
DTSTART;TZID=America/Chicago:20250920T140000
DTEND;TZID=America/Chicago:20250920T145900
DTSTAMP:20260423T173320
CREATED:20250822T024920Z
LAST-MODIFIED:20250920T034914Z
UID:10002253-1758376800-1758380340@harrisonbayseniorliving.com
SUMMARY:Bible Study (R)
DESCRIPTION:
URL:https://harrisonbayseniorliving.com/event-calendar/bible-study-r-19/
LOCATION:Community Room
CATEGORIES:Senior Living
END:VEVENT
BEGIN:VEVENT
DTSTART;TZID=America/Chicago:20250920T130000
DTEND;TZID=America/Chicago:20250920T140000
DTSTAMP:20260423T173320
CREATED:20250822T024920Z
LAST-MODIFIED:20250920T034913Z
UID:10002252-1758373200-1758376800@harrisonbayseniorliving.com
SUMMARY:Diamond Painting
DESCRIPTION:
URL:https://harrisonbayseniorliving.com/event-calendar/diamond-painting-19/
LOCATION:Community Room
CATEGORIES:Senior Living
END:VEVENT
BEGIN:VEVENT
DTSTART;TZID=America/Chicago:20250920T090000
DTEND;TZID=America/Chicago:20250920T093000
DTSTAMP:20260423T173320
CREATED:20250822T024920Z
LAST-MODIFIED:20250920T034913Z
UID:10002251-1758358800-1758360600@harrisonbayseniorliving.com
SUMMARY:Garden Club
DESCRIPTION:
URL:https://harrisonbayseniorliving.com/event-calendar/garden-club-79/
CATEGORIES:Senior Living
END:VEVENT
BEGIN:VEVENT
DTSTART;TZID=America/Chicago:20250919T160000
DTEND;TZID=America/Chicago:20250919T170000
DTSTAMP:20260423T173320
CREATED:20250821T023437Z
LAST-MODIFIED:20250919T054916Z
UID:10002231-1758297600-1758301200@harrisonbayseniorliving.com
SUMMARY:Entertainment: John Wombacher
DESCRIPTION:
URL:https://harrisonbayseniorliving.com/event-calendar/entertainment-john-wombacher-3/
LOCATION:Dining Room
CATEGORIES:Memory Care,Senior Living
END:VEVENT
BEGIN:VEVENT
DTSTART;TZID=America/Chicago:20250919T140000
DTEND;TZID=America/Chicago:20250919T160000
DTSTAMP:20260423T173320
CREATED:20250821T023437Z
LAST-MODIFIED:20250915T033414Z
UID:10002230-1758290400-1758297600@harrisonbayseniorliving.com
SUMMARY:Gin Rummy and Cocktail w/ Ashley Culinary Director
DESCRIPTION:
URL:https://harrisonbayseniorliving.com/event-calendar/gin-rummy-and-cocktail-w-ashley-culinary-director-7/
LOCATION:Community Room
CATEGORIES:Senior Living
END:VEVENT
BEGIN:VEVENT
DTSTART;TZID=America/Chicago:20250919T140000
DTEND;TZID=America/Chicago:20250919T150000
DTSTAMP:20260423T173320
CREATED:20250917T033435Z
LAST-MODIFIED:20250919T033413Z
UID:10002731-1758290400-1758294000@harrisonbayseniorliving.com
SUMMARY:Daimond Painting
DESCRIPTION:
URL:https://harrisonbayseniorliving.com/event-calendar/daimond-painting/
LOCATION:Community Room
CATEGORIES:Senior Living
END:VEVENT
BEGIN:VEVENT
DTSTART;TZID=America/Chicago:20250919T130000
DTEND;TZID=America/Chicago:20250919T140000
DTSTAMP:20260423T173320
CREATED:20250821T023437Z
LAST-MODIFIED:20250919T033413Z
UID:10002229-1758286800-1758290400@harrisonbayseniorliving.com
SUMMARY:BINGO
DESCRIPTION:
URL:https://harrisonbayseniorliving.com/event-calendar/bingo-56/
LOCATION:Community Room
CATEGORIES:Senior Living
END:VEVENT
BEGIN:VEVENT
DTSTART;TZID=America/Chicago:20250919T100000
DTEND;TZID=America/Chicago:20250919T110000
DTSTAMP:20260423T173320
CREATED:20250821T023436Z
LAST-MODIFIED:20250919T054916Z
UID:10002228-1758276000-1758279600@harrisonbayseniorliving.com
SUMMARY:Chruch Service with Chaplain Shane Slivnik
DESCRIPTION:
URL:https://harrisonbayseniorliving.com/event-calendar/chruch-service-with-chaplain-shane-slivnik-5/
LOCATION:Community Room
CATEGORIES:Memory Care,Senior Living
END:VEVENT
BEGIN:VEVENT
DTSTART;TZID=America/Chicago:20250919T100000
DTEND;TZID=America/Chicago:20250919T103000
DTSTAMP:20260423T173320
CREATED:20250821T023436Z
LAST-MODIFIED:20250919T033413Z
UID:10002227-1758276000-1758277800@harrisonbayseniorliving.com
SUMMARY:Chair Exercise
DESCRIPTION:
URL:https://harrisonbayseniorliving.com/event-calendar/chair-exercise-86/
CATEGORIES:Senior Living
END:VEVENT
BEGIN:VEVENT
DTSTART;TZID=America/Chicago:20250919T093000
DTEND;TZID=America/Chicago:20250919T100000
DTSTAMP:20260423T173320
CREATED:20250821T023436Z
LAST-MODIFIED:20250919T033413Z
UID:10002226-1758274200-1758276000@harrisonbayseniorliving.com
SUMMARY:Happy Feet Walkers
DESCRIPTION:
URL:https://harrisonbayseniorliving.com/event-calendar/happy-feet-walkers-119/
LOCATION:Main Lobby
CATEGORIES:Senior Living
END:VEVENT
BEGIN:VEVENT
DTSTART;TZID=America/Chicago:20250919T090000
DTEND;TZID=America/Chicago:20250919T100000
DTSTAMP:20260423T173320
CREATED:20250821T023436Z
LAST-MODIFIED:20250919T054915Z
UID:10002224-1758272400-1758276000@harrisonbayseniorliving.com
SUMMARY:Catholic Communion (R)
DESCRIPTION:
URL:https://harrisonbayseniorliving.com/event-calendar/catholic-communion-r-19/
CATEGORIES:Memory Care,Senior Living
END:VEVENT
BEGIN:VEVENT
DTSTART;TZID=America/Chicago:20250919T090000
DTEND;TZID=America/Chicago:20250919T093000
DTSTAMP:20260423T173320
CREATED:20250821T023436Z
LAST-MODIFIED:20250919T033413Z
UID:10002225-1758272400-1758274200@harrisonbayseniorliving.com
SUMMARY:Garden Club
DESCRIPTION:
URL:https://harrisonbayseniorliving.com/event-calendar/garden-club-76/
CATEGORIES:Senior Living
END:VEVENT
BEGIN:VEVENT
DTSTART;TZID=America/Chicago:20250919T085000
DTEND;TZID=America/Chicago:20250919T095000
DTSTAMP:20260423T173320
CREATED:20250917T033435Z
LAST-MODIFIED:20250919T054915Z
UID:10002730-1758271800-1758275400@harrisonbayseniorliving.com
SUMMARY:Outing: Target
DESCRIPTION:
URL:https://harrisonbayseniorliving.com/event-calendar/outing-target-4/
CATEGORIES:Memory Care,Senior Living
END:VEVENT
BEGIN:VEVENT
DTSTART;TZID=America/Chicago:20250918T150000
DTEND;TZID=America/Chicago:20250918T160000
DTSTAMP:20260423T173320
CREATED:20250820T023419Z
LAST-MODIFIED:20250918T033414Z
UID:10002207-1758207600-1758211200@harrisonbayseniorliving.com
SUMMARY:Social Hour + Link Senior Games
DESCRIPTION:
URL:https://harrisonbayseniorliving.com/event-calendar/social-hour-link-senior-games-22/
LOCATION:Community Room
CATEGORIES:Senior Living
END:VEVENT
BEGIN:VEVENT
DTSTART;TZID=America/Chicago:20250918T140000
DTEND;TZID=America/Chicago:20250918T160000
DTSTAMP:20260423T173320
CREATED:20250820T023419Z
LAST-MODIFIED:20250918T033414Z
UID:10002206-1758204000-1758211200@harrisonbayseniorliving.com
SUMMARY:SPA DAY: Paint Nails/ Heating Pad/ Facial Mask
DESCRIPTION:
URL:https://harrisonbayseniorliving.com/event-calendar/spa-day-paint-nails-heating-pad-facial-mask-13/
LOCATION:Community Room
CATEGORIES:Senior Living
END:VEVENT
BEGIN:VEVENT
DTSTART;TZID=America/Chicago:20250918T130000
DTEND;TZID=America/Chicago:20250918T140000
DTSTAMP:20260423T173320
CREATED:20250911T031912Z
LAST-MODIFIED:20250918T054915Z
UID:10002627-1758200400-1758204000@harrisonbayseniorliving.com
SUMMARY:Lifespark Grip Game: World Championship
DESCRIPTION:
URL:https://harrisonbayseniorliving.com/event-calendar/lifespark-grip-game-world-championship/
LOCATION:Community Room
CATEGORIES:Memory Care,Senior Living
END:VEVENT
BEGIN:VEVENT
DTSTART;TZID=America/Chicago:20250918T103000
DTEND;TZID=America/Chicago:20250918T113000
DTSTAMP:20260423T173320
CREATED:20250820T023419Z
LAST-MODIFIED:20250918T054915Z
UID:10002204-1758191400-1758195000@harrisonbayseniorliving.com
SUMMARY:Men's Gathering
DESCRIPTION:
URL:https://harrisonbayseniorliving.com/event-calendar/mens-gathering-37/
LOCATION:Pub
CATEGORIES:Memory Care,Senior Living
END:VEVENT
BEGIN:VEVENT
DTSTART;TZID=America/Chicago:20250918T100000
DTEND;TZID=America/Chicago:20250918T103000
DTSTAMP:20260423T173320
CREATED:20250820T023419Z
LAST-MODIFIED:20250918T033414Z
UID:10002205-1758189600-1758191400@harrisonbayseniorliving.com
SUMMARY:Chair Exercise
DESCRIPTION:
URL:https://harrisonbayseniorliving.com/event-calendar/chair-exercise-85/
CATEGORIES:Senior Living
END:VEVENT
BEGIN:VEVENT
DTSTART;TZID=America/Chicago:20250918T093000
DTEND;TZID=America/Chicago:20250918T100000
DTSTAMP:20260423T173320
CREATED:20250820T023419Z
LAST-MODIFIED:20250918T033414Z
UID:10002203-1758187800-1758189600@harrisonbayseniorliving.com
SUMMARY:Happy Feet Walkers
DESCRIPTION:
URL:https://harrisonbayseniorliving.com/event-calendar/happy-feet-walkers-117/
LOCATION:Main Lobby
CATEGORIES:Senior Living
END:VEVENT
BEGIN:VEVENT
DTSTART;TZID=America/Chicago:20250918T090000
DTEND;TZID=America/Chicago:20250918T093000
DTSTAMP:20260423T173320
CREATED:20250820T023419Z
LAST-MODIFIED:20250918T033414Z
UID:10002202-1758186000-1758187800@harrisonbayseniorliving.com
SUMMARY:Garden Club
DESCRIPTION:
URL:https://harrisonbayseniorliving.com/event-calendar/garden-club-74/
CATEGORIES:Senior Living
END:VEVENT
BEGIN:VEVENT
DTSTART;TZID=America/Chicago:20250917T140000
DTEND;TZID=America/Chicago:20250917T150000
DTSTAMP:20260423T173320
CREATED:20250822T024919Z
LAST-MODIFIED:20250917T033436Z
UID:10002250-1758117600-1758121200@harrisonbayseniorliving.com
SUMMARY:Learn How to Electric Drum
DESCRIPTION:
URL:https://harrisonbayseniorliving.com/event-calendar/electric-drumming-for-fun/
LOCATION:Community Room
CATEGORIES:Senior Living
END:VEVENT
BEGIN:VEVENT
DTSTART;TZID=America/Chicago:20250917T130000
DTEND;TZID=America/Chicago:20250917T140000
DTSTAMP:20260423T173320
CREATED:20250819T023419Z
LAST-MODIFIED:20250917T033436Z
UID:10002177-1758114000-1758117600@harrisonbayseniorliving.com
SUMMARY:PENNY BINGO
DESCRIPTION:
URL:https://harrisonbayseniorliving.com/event-calendar/penny-bingo-20/
LOCATION:Community Room
CATEGORIES:Senior Living
END:VEVENT
BEGIN:VEVENT
DTSTART;TZID=America/Chicago:20250917T103000
DTEND;TZID=America/Chicago:20250917T113000
DTSTAMP:20260423T173320
CREATED:20250826T030419Z
LAST-MODIFIED:20250917T053417Z
UID:10002323-1758105000-1758108600@harrisonbayseniorliving.com
SUMMARY:Chef Demo with Ashley Culinary Director
DESCRIPTION:
URL:https://harrisonbayseniorliving.com/event-calendar/chef-demo-with-ashley-culinary-director-2/
LOCATION:Pub
CATEGORIES:Memory Care,Senior Living
END:VEVENT
END:VCALENDAR