BEGIN:VCALENDAR
VERSION:2.0
PRODID:-//Harrison Bay Senior Living - ECPv6.11.2.1//NONSGML v1.0//EN
CALSCALE:GREGORIAN
METHOD:PUBLISH
X-WR-CALNAME:Harrison Bay Senior Living
X-ORIGINAL-URL:https://harrisonbayseniorliving.com
X-WR-CALDESC:Events for Harrison Bay Senior Living
REFRESH-INTERVAL;VALUE=DURATION:PT1H
X-Robots-Tag:noindex
X-PUBLISHED-TTL:PT1H
BEGIN:VTIMEZONE
TZID:America/Chicago
BEGIN:DAYLIGHT
TZOFFSETFROM:-0600
TZOFFSETTO:-0500
TZNAME:CDT
DTSTART:20250309T080000
END:DAYLIGHT
BEGIN:STANDARD
TZOFFSETFROM:-0500
TZOFFSETTO:-0600
TZNAME:CST
DTSTART:20251102T070000
END:STANDARD
END:VTIMEZONE
BEGIN:VEVENT
DTSTART;TZID=America/Chicago:20251008T130000
DTEND;TZID=America/Chicago:20251008T140000
DTSTAMP:20260423T025702
CREATED:20250909T031937Z
LAST-MODIFIED:20250923T040454Z
UID:10002589-1759928400-1759932000@harrisonbayseniorliving.com
SUMMARY:PENNY BINGO
DESCRIPTION:
URL:https://harrisonbayseniorliving.com/event-calendar/penny-bingo-23/
LOCATION:Community Room
CATEGORIES:Senior Living
END:VEVENT
BEGIN:VEVENT
DTSTART;TZID=America/Chicago:20251008T100000
DTEND;TZID=America/Chicago:20251008T103000
DTSTAMP:20260423T025702
CREATED:20250909T031937Z
LAST-MODIFIED:20251008T040420Z
UID:10002588-1759917600-1759919400@harrisonbayseniorliving.com
SUMMARY:Chair Exercise
DESCRIPTION:
URL:https://harrisonbayseniorliving.com/event-calendar/chair-exercise-94/
CATEGORIES:Senior Living
END:VEVENT
BEGIN:VEVENT
DTSTART;TZID=America/Chicago:20251008T093000
DTEND;TZID=America/Chicago:20251008T100000
DTSTAMP:20260423T025702
CREATED:20250909T031937Z
LAST-MODIFIED:20251008T040420Z
UID:10002587-1759915800-1759917600@harrisonbayseniorliving.com
SUMMARY:Happy Feet Walkers
DESCRIPTION:
URL:https://harrisonbayseniorliving.com/event-calendar/happy-feet-walkers-145/
LOCATION:Main Lobby
CATEGORIES:Senior Living
END:VEVENT
BEGIN:VEVENT
DTSTART;TZID=America/Chicago:20251008T085000
DTEND;TZID=America/Chicago:20251008T130000
DTSTAMP:20260423T025702
CREATED:20250923T040454Z
LAST-MODIFIED:20251008T070415Z
UID:10002834-1759913400-1759928400@harrisonbayseniorliving.com
SUMMARY:Outing: Bloomington Bachman's/Patrick's Bakery and Cafe'
DESCRIPTION:
URL:https://harrisonbayseniorliving.com/event-calendar/outing-bloomington-bachmans-patricks-bakery-and-cafe/
CATEGORIES:Memory Care,Senior Living
END:VEVENT
BEGIN:VEVENT
DTSTART;TZID=America/Chicago:20251007T150000
DTEND;TZID=America/Chicago:20251007T170000
DTSTAMP:20260423T025702
CREATED:20250924T040437Z
LAST-MODIFIED:20251007T040427Z
UID:10002852-1759849200-1759856400@harrisonbayseniorliving.com
SUMMARY:Halloween Bracelet Making
DESCRIPTION:
URL:https://harrisonbayseniorliving.com/event-calendar/halloween-bracelet-making/
LOCATION:Community Room
CATEGORIES:Memory Care,Senior Living
END:VEVENT
BEGIN:VEVENT
DTSTART;TZID=America/Chicago:20251007T140000
DTEND;TZID=America/Chicago:20251007T150000
DTSTAMP:20260423T025702
CREATED:20251001T040414Z
LAST-MODIFIED:20251007T040427Z
UID:10002996-1759845600-1759849200@harrisonbayseniorliving.com
SUMMARY:Worship with Chaplain Kevin
DESCRIPTION:
URL:https://harrisonbayseniorliving.com/event-calendar/worship-with-chaplain-kevin/
LOCATION:Community Room
CATEGORIES:Senior Living
END:VEVENT
BEGIN:VEVENT
DTSTART;TZID=America/Chicago:20251007T130000
DTEND;TZID=America/Chicago:20251007T140000
DTSTAMP:20260423T025702
CREATED:20250924T040437Z
LAST-MODIFIED:20251007T040427Z
UID:10002851-1759842000-1759845600@harrisonbayseniorliving.com
SUMMARY:Deep Dive (Lifeguard): Coach and Captain Meeting
DESCRIPTION:
URL:https://harrisonbayseniorliving.com/event-calendar/deep-dive-lifeguard-coach-and-captain-meeting/
LOCATION:Community Room
CATEGORIES:Senior Living
END:VEVENT
BEGIN:VEVENT
DTSTART;TZID=America/Chicago:20251007T103000
DTEND;TZID=America/Chicago:20251007T113000
DTSTAMP:20260423T025702
CREATED:20250908T031922Z
LAST-MODIFIED:20251007T064942Z
UID:10002574-1759833000-1759836600@harrisonbayseniorliving.com
SUMMARY:Men's Gathering
DESCRIPTION:
URL:https://harrisonbayseniorliving.com/event-calendar/mens-gathering-42/
LOCATION:Pub
CATEGORIES:Memory Care,Senior Living
END:VEVENT
BEGIN:VEVENT
DTSTART;TZID=America/Chicago:20251007T100000
DTEND;TZID=America/Chicago:20251007T110000
DTSTAMP:20260423T025702
CREATED:20250908T031922Z
LAST-MODIFIED:20251007T040427Z
UID:10002573-1759831200-1759834800@harrisonbayseniorliving.com
SUMMARY:Cardio Drumming
DESCRIPTION:
URL:https://harrisonbayseniorliving.com/event-calendar/cardio-drumming-33/
LOCATION:Community Room
CATEGORIES:Senior Living
END:VEVENT
BEGIN:VEVENT
DTSTART;TZID=America/Chicago:20251007T093000
DTEND;TZID=America/Chicago:20251007T100000
DTSTAMP:20260423T025702
CREATED:20250908T031922Z
LAST-MODIFIED:20251007T040427Z
UID:10002572-1759829400-1759831200@harrisonbayseniorliving.com
SUMMARY:Happy Feet Walkers
DESCRIPTION:
URL:https://harrisonbayseniorliving.com/event-calendar/happy-feet-walkers-144/
LOCATION:Main Lobby
CATEGORIES:Senior Living
END:VEVENT
BEGIN:VEVENT
DTSTART;TZID=America/Chicago:20251006T153000
DTEND;TZID=America/Chicago:20251006T160000
DTSTAMP:20260423T025702
CREATED:20250907T031920Z
LAST-MODIFIED:20251006T040416Z
UID:10002561-1759764600-1759766400@harrisonbayseniorliving.com
SUMMARY:Communtity Life Meeting
DESCRIPTION:
URL:https://harrisonbayseniorliving.com/event-calendar/communtity-life-meeting-6/
LOCATION:Community Room
CATEGORIES:Senior Living
END:VEVENT
BEGIN:VEVENT
DTSTART;TZID=America/Chicago:20251006T140000
DTEND;TZID=America/Chicago:20251006T150000
DTSTAMP:20260423T025702
CREATED:20251001T040414Z
LAST-MODIFIED:20251006T064918Z
UID:10002995-1759759200-1759762800@harrisonbayseniorliving.com
SUMMARY:Mindful outdoor walk to the Lake
DESCRIPTION:
URL:https://harrisonbayseniorliving.com/event-calendar/mindful-outdoor-walk-to-the-lake-2/
LOCATION:Lobby
CATEGORIES:Memory Care,Senior Living
END:VEVENT
BEGIN:VEVENT
DTSTART;TZID=America/Chicago:20251006T140000
DTEND;TZID=America/Chicago:20251006T150000
DTSTAMP:20260423T025702
CREATED:20250907T031920Z
LAST-MODIFIED:20250930T040433Z
UID:10002560-1759759200-1759762800@harrisonbayseniorliving.com
SUMMARY:LINK SENIOR: Brain Games
DESCRIPTION:
URL:https://harrisonbayseniorliving.com/event-calendar/link-senior-brain-games-15/
LOCATION:Community Room
CATEGORIES:Senior Living
END:VEVENT
BEGIN:VEVENT
DTSTART;TZID=America/Chicago:20251006T130000
DTEND;TZID=America/Chicago:20251006T140000
DTSTAMP:20260423T025702
CREATED:20250907T031920Z
LAST-MODIFIED:20251006T040416Z
UID:10002559-1759755600-1759759200@harrisonbayseniorliving.com
SUMMARY:BINGO
DESCRIPTION:
URL:https://harrisonbayseniorliving.com/event-calendar/bingo-71/
LOCATION:Community Room
CATEGORIES:Senior Living
END:VEVENT
BEGIN:VEVENT
DTSTART;TZID=America/Chicago:20251006T103000
DTEND;TZID=America/Chicago:20251006T113000
DTSTAMP:20260423T025702
CREATED:20250907T031920Z
LAST-MODIFIED:20251006T064918Z
UID:10002558-1759746600-1759750200@harrisonbayseniorliving.com
SUMMARY:Women's Group
DESCRIPTION:
URL:https://harrisonbayseniorliving.com/event-calendar/womens-group-22/
LOCATION:Pub
CATEGORIES:Memory Care,Senior Living
END:VEVENT
BEGIN:VEVENT
DTSTART;TZID=America/Chicago:20251006T100000
DTEND;TZID=America/Chicago:20251006T110000
DTSTAMP:20260423T025702
CREATED:20250907T031920Z
LAST-MODIFIED:20251006T040416Z
UID:10002557-1759744800-1759748400@harrisonbayseniorliving.com
SUMMARY:Cardio Drumming
DESCRIPTION:
URL:https://harrisonbayseniorliving.com/event-calendar/cardio-drumming-32/
LOCATION:Community Room
CATEGORIES:Senior Living
END:VEVENT
BEGIN:VEVENT
DTSTART;TZID=America/Chicago:20251006T093000
DTEND;TZID=America/Chicago:20251006T100000
DTSTAMP:20260423T025702
CREATED:20250907T031920Z
LAST-MODIFIED:20251006T040416Z
UID:10002556-1759743000-1759744800@harrisonbayseniorliving.com
SUMMARY:Happy Feet Walkers
DESCRIPTION:
URL:https://harrisonbayseniorliving.com/event-calendar/happy-feet-walkers-143/
LOCATION:Main Lobby
CATEGORIES:Senior Living
END:VEVENT
BEGIN:VEVENT
DTSTART;TZID=America/Chicago:20251005T180000
DTEND;TZID=America/Chicago:20251005T190000
DTSTAMP:20260423T025702
CREATED:20250928T040437Z
LAST-MODIFIED:20251005T040412Z
UID:10002934-1759687200-1759690800@harrisonbayseniorliving.com
SUMMARY:Game Night
DESCRIPTION:
URL:https://harrisonbayseniorliving.com/event-calendar/game-night/
LOCATION:Community Room
CATEGORIES:Senior Living
END:VEVENT
BEGIN:VEVENT
DTSTART;TZID=America/Chicago:20251004T180000
DTEND;TZID=America/Chicago:20251004T200000
DTSTAMP:20260423T025702
CREATED:20250905T031921Z
LAST-MODIFIED:20251004T040414Z
UID:10002527-1759600800-1759608000@harrisonbayseniorliving.com
SUMMARY:MOVIE NIGHT: Our Souls at Night
DESCRIPTION:
URL:https://harrisonbayseniorliving.com/event-calendar/movie-night-14/
LOCATION:Pub
CATEGORIES:Senior Living
END:VEVENT
BEGIN:VEVENT
DTSTART;TZID=America/Chicago:20251004T140000
DTEND;TZID=America/Chicago:20251004T145900
DTSTAMP:20260423T025702
CREATED:20250905T031921Z
LAST-MODIFIED:20251004T040414Z
UID:10002526-1759586400-1759589940@harrisonbayseniorliving.com
SUMMARY:Bible Study (R)
DESCRIPTION:
URL:https://harrisonbayseniorliving.com/event-calendar/bible-study-r-21/
LOCATION:Community Room
CATEGORIES:Senior Living
END:VEVENT
BEGIN:VEVENT
DTSTART;TZID=America/Chicago:20251004T130000
DTEND;TZID=America/Chicago:20251004T140000
DTSTAMP:20260423T025702
CREATED:20250928T040437Z
LAST-MODIFIED:20251004T040414Z
UID:10002933-1759582800-1759586400@harrisonbayseniorliving.com
SUMMARY:Craft Time
DESCRIPTION:
URL:https://harrisonbayseniorliving.com/event-calendar/craft-time/
LOCATION:Community Room
CATEGORIES:Senior Living
END:VEVENT
BEGIN:VEVENT
DTSTART;TZID=America/Chicago:20251003T141500
DTEND;TZID=America/Chicago:20251003T151500
DTSTAMP:20260423T025702
CREATED:20250928T040437Z
LAST-MODIFIED:20250930T040432Z
UID:10002932-1759500900-1759504500@harrisonbayseniorliving.com
SUMMARY:Mindful outdoor walk to the Lake
DESCRIPTION:
URL:https://harrisonbayseniorliving.com/event-calendar/mindful-outdoor-walk-to-the-lake/
LOCATION:Lobby
CATEGORIES:Senior Living
END:VEVENT
BEGIN:VEVENT
DTSTART;TZID=America/Chicago:20251003T140000
DTEND;TZID=America/Chicago:20251003T160000
DTSTAMP:20260423T025702
CREATED:20251001T040414Z
LAST-MODIFIED:20251003T040413Z
UID:10002994-1759500000-1759507200@harrisonbayseniorliving.com
SUMMARY:Painted Halloween Box
DESCRIPTION:
URL:https://harrisonbayseniorliving.com/event-calendar/painted-halloween-box/
LOCATION:Community Room
CATEGORIES:Senior Living
END:VEVENT
BEGIN:VEVENT
DTSTART;TZID=America/Chicago:20251003T130000
DTEND;TZID=America/Chicago:20251003T140000
DTSTAMP:20260423T025702
CREATED:20250904T031934Z
LAST-MODIFIED:20251003T040413Z
UID:10002510-1759496400-1759500000@harrisonbayseniorliving.com
SUMMARY:BINGO
DESCRIPTION:
URL:https://harrisonbayseniorliving.com/event-calendar/bingo-68/
LOCATION:Community Room
CATEGORIES:Senior Living
END:VEVENT
BEGIN:VEVENT
DTSTART;TZID=America/Chicago:20251003T100000
DTEND;TZID=America/Chicago:20251003T110000
DTSTAMP:20260423T025702
CREATED:20250923T040454Z
LAST-MODIFIED:20251003T063432Z
UID:10002833-1759485600-1759489200@harrisonbayseniorliving.com
SUMMARY:Residents Right Celebration w/ Tammy Hollingsworth (Ombudsman)
DESCRIPTION:
URL:https://harrisonbayseniorliving.com/event-calendar/residents-right-month-w-tammy-hollingsworth-ombudsman/
LOCATION:Community Room
CATEGORIES:Memory Care,Senior Living
END:VEVENT
BEGIN:VEVENT
DTSTART;TZID=America/Chicago:20251003T100000
DTEND;TZID=America/Chicago:20251003T103000
DTSTAMP:20260423T025702
CREATED:20250904T031934Z
LAST-MODIFIED:20251003T040413Z
UID:10002509-1759485600-1759487400@harrisonbayseniorliving.com
SUMMARY:Chair Exercise
DESCRIPTION:
URL:https://harrisonbayseniorliving.com/event-calendar/chair-exercise-93/
CATEGORIES:Senior Living
END:VEVENT
BEGIN:VEVENT
DTSTART;TZID=America/Chicago:20251003T093000
DTEND;TZID=America/Chicago:20251003T100000
DTSTAMP:20260423T025702
CREATED:20250904T031934Z
LAST-MODIFIED:20251003T040413Z
UID:10002508-1759483800-1759485600@harrisonbayseniorliving.com
SUMMARY:Happy Feet Walkers
DESCRIPTION:
URL:https://harrisonbayseniorliving.com/event-calendar/happy-feet-walkers-139/
LOCATION:Main Lobby
CATEGORIES:Senior Living
END:VEVENT
BEGIN:VEVENT
DTSTART;TZID=America/Chicago:20251003T090000
DTEND;TZID=America/Chicago:20251003T100000
DTSTAMP:20260423T025702
CREATED:20250904T031934Z
LAST-MODIFIED:20251003T063432Z
UID:10002507-1759482000-1759485600@harrisonbayseniorliving.com
SUMMARY:Catholic Communion (R)
DESCRIPTION:
URL:https://harrisonbayseniorliving.com/event-calendar/catholic-communion-r-21/
CATEGORIES:Memory Care,Senior Living
END:VEVENT
BEGIN:VEVENT
DTSTART;TZID=America/Chicago:20251002T140000
DTEND;TZID=America/Chicago:20251002T160000
DTSTAMP:20260423T025702
CREATED:20250903T031919Z
LAST-MODIFIED:20250922T040419Z
UID:10002492-1759413600-1759420800@harrisonbayseniorliving.com
SUMMARY:SPA DAY: Paint Nails/ Heating Pad/ Facial Mask
DESCRIPTION:
URL:https://harrisonbayseniorliving.com/event-calendar/spa-day-paint-nails-heating-pad-facial-mask-14/
LOCATION:Community Room
CATEGORIES:Senior Living
END:VEVENT
BEGIN:VEVENT
DTSTART;TZID=America/Chicago:20251002T140000
DTEND;TZID=America/Chicago:20251002T150000
DTSTAMP:20260423T025702
CREATED:20250903T031920Z
LAST-MODIFIED:20251002T063429Z
UID:10002493-1759413600-1759417200@harrisonbayseniorliving.com
SUMMARY:Virtual Program: Spooky Art History; presented by: Cleveland Mueum of Art
DESCRIPTION:
URL:https://harrisonbayseniorliving.com/event-calendar/virtual-program-5/
LOCATION:Community Room
CATEGORIES:Memory Care,Senior Living
END:VEVENT
END:VCALENDAR