BEGIN:VCALENDAR
VERSION:2.0
PRODID:-//Harrison Bay Senior Living - ECPv6.11.2.1//NONSGML v1.0//EN
CALSCALE:GREGORIAN
METHOD:PUBLISH
X-WR-CALNAME:Harrison Bay Senior Living
X-ORIGINAL-URL:https://harrisonbayseniorliving.com
X-WR-CALDESC:Events for Harrison Bay Senior Living
REFRESH-INTERVAL;VALUE=DURATION:PT1H
X-Robots-Tag:noindex
X-PUBLISHED-TTL:PT1H
BEGIN:VTIMEZONE
TZID:America/Chicago
BEGIN:DAYLIGHT
TZOFFSETFROM:-0600
TZOFFSETTO:-0500
TZNAME:CDT
DTSTART:20260308T080000
END:DAYLIGHT
BEGIN:STANDARD
TZOFFSETFROM:-0500
TZOFFSETTO:-0600
TZNAME:CST
DTSTART:20261101T070000
END:STANDARD
END:VTIMEZONE
BEGIN:VEVENT
DTSTART;TZID=America/Chicago:20260303T090000
DTEND;TZID=America/Chicago:20260303T091500
DTSTAMP:20260423T095447
CREATED:20260210T030545Z
LAST-MODIFIED:20260303T052044Z
UID:10005249-1772528400-1772529300@harrisonbayseniorliving.com
SUMMARY:Happy Feet Walkers
DESCRIPTION:
URL:https://harrisonbayseniorliving.com/event-calendar/happy-feet-walkers-366/
CATEGORIES:Memory Care
END:VEVENT
BEGIN:VEVENT
DTSTART;TZID=America/Chicago:20260303T093000
DTEND;TZID=America/Chicago:20260303T103000
DTSTAMP:20260423T095447
CREATED:20260210T030549Z
LAST-MODIFIED:20260303T052046Z
UID:10005256-1772530200-1772533800@harrisonbayseniorliving.com
SUMMARY:Exploring Spiritual Health with Chaplain Kristin
DESCRIPTION:
URL:https://harrisonbayseniorliving.com/event-calendar/hymns-and-devotion-with-chaplain-kristin-2/
CATEGORIES:Memory Care
END:VEVENT
BEGIN:VEVENT
DTSTART;TZID=America/Chicago:20260303T101500
DTEND;TZID=America/Chicago:20260303T110000
DTSTAMP:20260423T095447
CREATED:20260210T030546Z
LAST-MODIFIED:20260303T052046Z
UID:10005250-1772532900-1772535600@harrisonbayseniorliving.com
SUMMARY:Snack and Hydration (HHA)
DESCRIPTION:
URL:https://harrisonbayseniorliving.com/event-calendar/snack-and-hydration-hha-286/
CATEGORIES:Memory Care
END:VEVENT
BEGIN:VEVENT
DTSTART;TZID=America/Chicago:20260303T103000
DTEND;TZID=America/Chicago:20260303T113000
DTSTAMP:20260423T095447
CREATED:20260202T033427Z
LAST-MODIFIED:20260303T053452Z
UID:10005133-1772533800-1772537400@harrisonbayseniorliving.com
SUMMARY:Men's Gathering
DESCRIPTION:
URL:https://harrisonbayseniorliving.com/event-calendar/mens-gathering-85/
LOCATION:Pub
CATEGORIES:Memory Care,Senior Living
END:VEVENT
BEGIN:VEVENT
DTSTART;TZID=America/Chicago:20260303T110000
DTEND;TZID=America/Chicago:20260303T113000
DTSTAMP:20260423T095447
CREATED:20260210T030548Z
LAST-MODIFIED:20260303T052048Z
UID:10005253-1772535600-1772537400@harrisonbayseniorliving.com
SUMMARY:Daily Chronicle Weather + Jokes (Linkes Senior)
DESCRIPTION:
URL:https://harrisonbayseniorliving.com/event-calendar/daily-chronicle-weather-jokes-linkes-senior-167/
CATEGORIES:Memory Care
END:VEVENT
BEGIN:VEVENT
DTSTART;TZID=America/Chicago:20260303T111500
DTEND;TZID=America/Chicago:20260303T113000
DTSTAMP:20260423T095447
CREATED:20260210T030547Z
LAST-MODIFIED:20260303T052046Z
UID:10005252-1772536500-1772537400@harrisonbayseniorliving.com
SUMMARY:Chair Yoga (Linked Senior)
DESCRIPTION:
URL:https://harrisonbayseniorliving.com/event-calendar/chair-yoga-linked-senior-124/
CATEGORIES:Memory Care
END:VEVENT
BEGIN:VEVENT
DTSTART;TZID=America/Chicago:20260303T113000
DTEND;TZID=America/Chicago:20260303T120000
DTSTAMP:20260423T095447
CREATED:20260210T030546Z
LAST-MODIFIED:20260303T052047Z
UID:10005251-1772537400-1772539200@harrisonbayseniorliving.com
SUMMARY:Oshibori
DESCRIPTION:
URL:https://harrisonbayseniorliving.com/event-calendar/oshibori-586/
LOCATION:Dinning Room
CATEGORIES:Memory Care
END:VEVENT
BEGIN:VEVENT
DTSTART;TZID=America/Chicago:20260303T130000
DTEND;TZID=America/Chicago:20260303T140000
DTSTAMP:20260423T095447
CREATED:20260202T033427Z
LAST-MODIFIED:20260303T053453Z
UID:10005134-1772542800-1772546400@harrisonbayseniorliving.com
SUMMARY:TRYathlon Competition: Whizzer
DESCRIPTION:
URL:https://harrisonbayseniorliving.com/event-calendar/tryathlon-competition-whizzer-7/
LOCATION:Community Room
CATEGORIES:Memory Care,Senior Living
END:VEVENT
BEGIN:VEVENT
DTSTART;TZID=America/Chicago:20260303T140000
DTEND;TZID=America/Chicago:20260303T150000
DTSTAMP:20260423T095447
CREATED:20260210T030548Z
LAST-MODIFIED:20260303T052048Z
UID:10005254-1772546400-1772550000@harrisonbayseniorliving.com
SUMMARY:Reminiscence
DESCRIPTION:
URL:https://harrisonbayseniorliving.com/event-calendar/reminiscence-60/
CATEGORIES:Memory Care
END:VEVENT
BEGIN:VEVENT
DTSTART;TZID=America/Chicago:20260303T143000
DTEND;TZID=America/Chicago:20260303T153000
DTSTAMP:20260423T095447
CREATED:20260210T030549Z
LAST-MODIFIED:20260303T052048Z
UID:10005255-1772548200-1772551800@harrisonbayseniorliving.com
SUMMARY:Snack and Hydration (HHA)
DESCRIPTION:
URL:https://harrisonbayseniorliving.com/event-calendar/snack-and-hydration-hha-287/
CATEGORIES:Memory Care
END:VEVENT
BEGIN:VEVENT
DTSTART;TZID=America/Chicago:20260303T150000
DTEND;TZID=America/Chicago:20260303T160000
DTSTAMP:20260423T095447
CREATED:20260210T030550Z
LAST-MODIFIED:20260303T052100Z
UID:10005257-1772550000-1772553600@harrisonbayseniorliving.com
SUMMARY:Fold + Match Colored Washcloths (HHA)
DESCRIPTION:
URL:https://harrisonbayseniorliving.com/event-calendar/fold-match-colored-washcloths-hha-191/
CATEGORIES:Memory Care
END:VEVENT
BEGIN:VEVENT
DTSTART;TZID=America/Chicago:20260303T150000
DTEND;TZID=America/Chicago:20260303T160000
DTSTAMP:20260423T095447
CREATED:20260227T044916Z
LAST-MODIFIED:20260303T052100Z
UID:10005554-1772550000-1772553600@harrisonbayseniorliving.com
SUMMARY:Bingo
DESCRIPTION:
URL:https://harrisonbayseniorliving.com/event-calendar/bingo-200/
CATEGORIES:Memory Care
END:VEVENT
BEGIN:VEVENT
DTSTART;TZID=America/Chicago:20260303T160000
DTEND;TZID=America/Chicago:20260303T170000
DTSTAMP:20260423T095447
CREATED:20260210T030550Z
LAST-MODIFIED:20260303T052100Z
UID:10005258-1772553600-1772557200@harrisonbayseniorliving.com
SUMMARY:Documentary
DESCRIPTION:
URL:https://harrisonbayseniorliving.com/event-calendar/documentary-182/
CATEGORIES:Memory Care
END:VEVENT
BEGIN:VEVENT
DTSTART;TZID=America/Chicago:20260303T161500
DTEND;TZID=America/Chicago:20260303T163000
DTSTAMP:20260423T095447
CREATED:20260210T030551Z
LAST-MODIFIED:20260303T052059Z
UID:10005259-1772554500-1772555400@harrisonbayseniorliving.com
SUMMARY:Oshibori
DESCRIPTION:
URL:https://harrisonbayseniorliving.com/event-calendar/oshibori-587/
LOCATION:Dining Room
CATEGORIES:Memory Care
END:VEVENT
BEGIN:VEVENT
DTSTART;TZID=America/Chicago:20260303T190000
DTEND;TZID=America/Chicago:20260303T193000
DTSTAMP:20260423T095447
CREATED:20260210T030552Z
LAST-MODIFIED:20260303T052101Z
UID:10005260-1772564400-1772566200@harrisonbayseniorliving.com
SUMMARY:Evening Hymns (HHA: YOUTUBE)
DESCRIPTION:
URL:https://harrisonbayseniorliving.com/event-calendar/evening-hymns-hha-youtube-294/
CATEGORIES:Memory Care
END:VEVENT
END:VCALENDAR