BEGIN:VCALENDAR
VERSION:2.0
PRODID:-//Harrison Bay Senior Living - ECPv6.11.2.1//NONSGML v1.0//EN
CALSCALE:GREGORIAN
METHOD:PUBLISH
X-ORIGINAL-URL:https://harrisonbayseniorliving.com
X-WR-CALDESC:Events for Harrison Bay Senior Living
REFRESH-INTERVAL;VALUE=DURATION:PT1H
X-Robots-Tag:noindex
X-PUBLISHED-TTL:PT1H
BEGIN:VTIMEZONE
TZID:America/Chicago
BEGIN:DAYLIGHT
TZOFFSETFROM:-0600
TZOFFSETTO:-0500
TZNAME:CDT
DTSTART:20260308T080000
END:DAYLIGHT
BEGIN:STANDARD
TZOFFSETFROM:-0500
TZOFFSETTO:-0600
TZNAME:CST
DTSTART:20261101T070000
END:STANDARD
END:VTIMEZONE
BEGIN:VEVENT
DTSTART;TZID=America/Chicago:20260226T090000
DTEND;TZID=America/Chicago:20260226T091500
DTSTAMP:20260423T063043
CREATED:20260205T030437Z
LAST-MODIFIED:20260226T043537Z
UID:10005173-1772096400-1772097300@harrisonbayseniorliving.com
SUMMARY:Happy Feet Walkers
DESCRIPTION:
URL:https://harrisonbayseniorliving.com/event-calendar/happy-feet-walkers-360/
CATEGORIES:Memory Care
END:VEVENT
BEGIN:VEVENT
DTSTART;TZID=America/Chicago:20260226T101500
DTEND;TZID=America/Chicago:20260226T110000
DTSTAMP:20260423T063043
CREATED:20260205T030437Z
LAST-MODIFIED:20260226T043537Z
UID:10005174-1772100900-1772103600@harrisonbayseniorliving.com
SUMMARY:Snack and Hydration (HHA)
DESCRIPTION:
URL:https://harrisonbayseniorliving.com/event-calendar/snack-and-hydration-hha-280/
CATEGORIES:Memory Care
END:VEVENT
BEGIN:VEVENT
DTSTART;TZID=America/Chicago:20260226T103000
DTEND;TZID=America/Chicago:20260226T113000
DTSTAMP:20260423T063043
CREATED:20260128T031945Z
LAST-MODIFIED:20260226T050414Z
UID:10005051-1772101800-1772105400@harrisonbayseniorliving.com
SUMMARY:Men's Gathering
DESCRIPTION:
URL:https://harrisonbayseniorliving.com/event-calendar/mens-gathering-84/
LOCATION:Pub
CATEGORIES:Memory Care,Senior Living
END:VEVENT
BEGIN:VEVENT
DTSTART;TZID=America/Chicago:20260226T111500
DTEND;TZID=America/Chicago:20260226T113000
DTSTAMP:20260423T063043
CREATED:20260205T030438Z
LAST-MODIFIED:20260226T043537Z
UID:10005175-1772104500-1772105400@harrisonbayseniorliving.com
SUMMARY:Chair Yoga (Linked Senior)
DESCRIPTION:
URL:https://harrisonbayseniorliving.com/event-calendar/chair-yoga-linked-senior-121/
CATEGORIES:Memory Care
END:VEVENT
BEGIN:VEVENT
DTSTART;TZID=America/Chicago:20260226T113000
DTEND;TZID=America/Chicago:20260226T120000
DTSTAMP:20260423T063043
CREATED:20260205T030438Z
LAST-MODIFIED:20260226T043537Z
UID:10005176-1772105400-1772107200@harrisonbayseniorliving.com
SUMMARY:Oshibori
DESCRIPTION:
URL:https://harrisonbayseniorliving.com/event-calendar/oshibori-576/
LOCATION:Dinning Room
CATEGORIES:Memory Care
END:VEVENT
BEGIN:VEVENT
DTSTART;TZID=America/Chicago:20260226T130000
DTEND;TZID=America/Chicago:20260226T140000
DTSTAMP:20260423T063043
CREATED:20260128T031945Z
LAST-MODIFIED:20260226T050414Z
UID:10005052-1772110800-1772114400@harrisonbayseniorliving.com
SUMMARY:TRYathlon Competition: Crank Day
DESCRIPTION:
URL:https://harrisonbayseniorliving.com/event-calendar/tryathlon-competition-crank-day-6/
LOCATION:Community Room
CATEGORIES:Memory Care,Senior Living
END:VEVENT
BEGIN:VEVENT
DTSTART;TZID=America/Chicago:20260226T130000
DTEND;TZID=America/Chicago:20260226T140000
DTSTAMP:20260423T063043
CREATED:20260205T030439Z
LAST-MODIFIED:20260226T043537Z
UID:10005177-1772110800-1772114400@harrisonbayseniorliving.com
SUMMARY:Reminiscence
DESCRIPTION:
URL:https://harrisonbayseniorliving.com/event-calendar/reminiscence-59/
CATEGORIES:Memory Care
END:VEVENT
BEGIN:VEVENT
DTSTART;TZID=America/Chicago:20260226T143000
DTEND;TZID=America/Chicago:20260226T153000
DTSTAMP:20260423T063043
CREATED:20260205T030439Z
LAST-MODIFIED:20260226T043537Z
UID:10005178-1772116200-1772119800@harrisonbayseniorliving.com
SUMMARY:Snack and Hydration (HHA)
DESCRIPTION:
URL:https://harrisonbayseniorliving.com/event-calendar/snack-and-hydration-hha-281/
CATEGORIES:Memory Care
END:VEVENT
BEGIN:VEVENT
DTSTART;TZID=America/Chicago:20260226T150000
DTEND;TZID=America/Chicago:20260226T160000
DTSTAMP:20260423T063043
CREATED:20260128T031945Z
LAST-MODIFIED:20260226T050414Z
UID:10005054-1772118000-1772121600@harrisonbayseniorliving.com
SUMMARY:Inspirational Movie: The Swedish Connection
DESCRIPTION:
URL:https://harrisonbayseniorliving.com/event-calendar/inspirational-movie-the-swedish-connection/
LOCATION:Pub
CATEGORIES:Memory Care,Senior Living
END:VEVENT
BEGIN:VEVENT
DTSTART;TZID=America/Chicago:20260226T150000
DTEND;TZID=America/Chicago:20260226T160000
DTSTAMP:20260423T063043
CREATED:20260205T030439Z
LAST-MODIFIED:20260226T043538Z
UID:10005179-1772118000-1772121600@harrisonbayseniorliving.com
SUMMARY:Fold + Match Colored Washcloths (HHA)
DESCRIPTION:
URL:https://harrisonbayseniorliving.com/event-calendar/fold-match-colored-washcloths-hha-186/
CATEGORIES:Memory Care
END:VEVENT
BEGIN:VEVENT
DTSTART;TZID=America/Chicago:20260226T153000
DTEND;TZID=America/Chicago:20260226T160000
DTSTAMP:20260423T063043
CREATED:20260205T030439Z
LAST-MODIFIED:20260226T043538Z
UID:10005180-1772119800-1772121600@harrisonbayseniorliving.com
SUMMARY:Folk Songs/ Hymns (linked Seniors)
DESCRIPTION:
URL:https://harrisonbayseniorliving.com/event-calendar/folk-songs-hymns-linked-seniors-90/
CATEGORIES:Memory Care
END:VEVENT
BEGIN:VEVENT
DTSTART;TZID=America/Chicago:20260226T160000
DTEND;TZID=America/Chicago:20260226T163000
DTSTAMP:20260423T063043
CREATED:20260205T030439Z
LAST-MODIFIED:20260226T043538Z
UID:10005181-1772121600-1772123400@harrisonbayseniorliving.com
SUMMARY:Pictionary
DESCRIPTION:
URL:https://harrisonbayseniorliving.com/event-calendar/pictionary-42/
CATEGORIES:Memory Care
END:VEVENT
BEGIN:VEVENT
DTSTART;TZID=America/Chicago:20260226T161500
DTEND;TZID=America/Chicago:20260226T163000
DTSTAMP:20260423T063043
CREATED:20260205T030439Z
LAST-MODIFIED:20260226T043538Z
UID:10005182-1772122500-1772123400@harrisonbayseniorliving.com
SUMMARY:Oshibori
DESCRIPTION:
URL:https://harrisonbayseniorliving.com/event-calendar/oshibori-577/
LOCATION:Dining Room
CATEGORIES:Memory Care
END:VEVENT
BEGIN:VEVENT
DTSTART;TZID=America/Chicago:20260226T190000
DTEND;TZID=America/Chicago:20260226T193000
DTSTAMP:20260423T063043
CREATED:20260205T030439Z
LAST-MODIFIED:20260226T043538Z
UID:10005183-1772132400-1772134200@harrisonbayseniorliving.com
SUMMARY:Evening Hymns (HHA: YOUTUBE)
DESCRIPTION:
URL:https://harrisonbayseniorliving.com/event-calendar/evening-hymns-hha-youtube-289/
CATEGORIES:Memory Care
END:VEVENT
END:VCALENDAR