BEGIN:VCALENDAR
VERSION:2.0
PRODID:-//Harrison Bay Senior Living - ECPv6.11.2.1//NONSGML v1.0//EN
CALSCALE:GREGORIAN
METHOD:PUBLISH
X-ORIGINAL-URL:https://harrisonbayseniorliving.com
X-WR-CALDESC:Events for Harrison Bay Senior Living
REFRESH-INTERVAL;VALUE=DURATION:PT1H
X-Robots-Tag:noindex
X-PUBLISHED-TTL:PT1H
BEGIN:VTIMEZONE
TZID:America/Chicago
BEGIN:DAYLIGHT
TZOFFSETFROM:-0600
TZOFFSETTO:-0500
TZNAME:CDT
DTSTART:20260308T080000
END:DAYLIGHT
BEGIN:STANDARD
TZOFFSETFROM:-0500
TZOFFSETTO:-0600
TZNAME:CST
DTSTART:20261101T070000
END:STANDARD
END:VTIMEZONE
BEGIN:VEVENT
DTSTART;TZID=America/Chicago:20260520T093000
DTEND;TZID=America/Chicago:20260520T100000
DTSTAMP:20260422T165322
CREATED:20260421T085000Z
LAST-MODIFIED:20260422T084927Z
UID:10006122-1779269400-1779271200@harrisonbayseniorliving.com
SUMMARY:Happy Feet Walkers
DESCRIPTION:
URL:https://harrisonbayseniorliving.com/event-calendar/happy-feet-walkers-445/
LOCATION:Main Lobby
CATEGORIES:Senior Living
END:VEVENT
BEGIN:VEVENT
DTSTART;TZID=America/Chicago:20260520T100000
DTEND;TZID=America/Chicago:20260520T103000
DTSTAMP:20260422T165322
CREATED:20260421T085000Z
LAST-MODIFIED:20260422T084926Z
UID:10006123-1779271200-1779273000@harrisonbayseniorliving.com
SUMMARY:Chair Exercise
DESCRIPTION:
URL:https://harrisonbayseniorliving.com/event-calendar/chair-exercise-189/
CATEGORIES:Senior Living
END:VEVENT
BEGIN:VEVENT
DTSTART;TZID=America/Chicago:20260520T112000
DTEND;TZID=America/Chicago:20260520T150000
DTSTAMP:20260422T165322
CREATED:20260421T085000Z
LAST-MODIFIED:20260422T084927Z
UID:10006124-1779276000-1779289200@harrisonbayseniorliving.com
SUMMARY:Outing: Twins Games
DESCRIPTION:
URL:https://harrisonbayseniorliving.com/event-calendar/outing-twins-games/
CATEGORIES:Senior Living
END:VEVENT
BEGIN:VEVENT
DTSTART;TZID=America/Chicago:20260520T150000
DTEND;TZID=America/Chicago:20260520T160000
DTSTAMP:20260422T165322
CREATED:20260421T085001Z
LAST-MODIFIED:20260422T084927Z
UID:10006125-1779289200-1779292800@harrisonbayseniorliving.com
SUMMARY:Needle Crew
DESCRIPTION:
URL:https://harrisonbayseniorliving.com/event-calendar/needle-crew-8/
LOCATION:Community Room
CATEGORIES:Senior Living
END:VEVENT
END:VCALENDAR