BEGIN:VCALENDAR
VERSION:2.0
PRODID:-//Harrison Bay Senior Living - ECPv6.11.2.1//NONSGML v1.0//EN
CALSCALE:GREGORIAN
METHOD:PUBLISH
X-ORIGINAL-URL:https://harrisonbayseniorliving.com
X-WR-CALDESC:Events for Harrison Bay Senior Living
REFRESH-INTERVAL;VALUE=DURATION:PT1H
X-Robots-Tag:noindex
X-PUBLISHED-TTL:PT1H
BEGIN:VTIMEZONE
TZID:America/Chicago
BEGIN:DAYLIGHT
TZOFFSETFROM:-0600
TZOFFSETTO:-0500
TZNAME:CDT
DTSTART:20250309T080000
END:DAYLIGHT
BEGIN:STANDARD
TZOFFSETFROM:-0500
TZOFFSETTO:-0600
TZNAME:CST
DTSTART:20251102T070000
END:STANDARD
END:VTIMEZONE
BEGIN:VEVENT
DTSTART;TZID=America/Chicago:20251206T090000
DTEND;TZID=America/Chicago:20251206T100000
DTSTAMP:20260425T111714
CREATED:20251114T083427Z
LAST-MODIFIED:20251206T010455Z
UID:10003764-1765011600-1765015200@harrisonbayseniorliving.com
SUMMARY:TABLE ACTIVITES: Fold Colored Wash Cloths\, Puzzles\, ETC. (HHA)
DESCRIPTION:
URL:https://harrisonbayseniorliving.com/event-calendar/table-activites-fold-colored-wash-cloths-puzzles-etc-hha-29/
CATEGORIES:Memory Care
END:VEVENT
BEGIN:VEVENT
DTSTART;TZID=America/Chicago:20251206T100000
DTEND;TZID=America/Chicago:20251206T110000
DTSTAMP:20260425T111714
CREATED:20251114T083427Z
LAST-MODIFIED:20251206T010455Z
UID:10003763-1765015200-1765018800@harrisonbayseniorliving.com
SUMMARY:Coloring Books (HHA)
DESCRIPTION:
URL:https://harrisonbayseniorliving.com/event-calendar/coloring-books-hha-59/
CATEGORIES:Memory Care
END:VEVENT
BEGIN:VEVENT
DTSTART;TZID=America/Chicago:20251206T100000
DTEND;TZID=America/Chicago:20251206T113000
DTSTAMP:20260425T111714
CREATED:20251114T083427Z
LAST-MODIFIED:20251206T010455Z
UID:10003762-1765015200-1765020600@harrisonbayseniorliving.com
SUMMARY:Nature Documentary (HHA)(Youtube)
DESCRIPTION:
URL:https://harrisonbayseniorliving.com/event-calendar/nature-documentary-hhayoutube-29/
CATEGORIES:Memory Care
END:VEVENT
BEGIN:VEVENT
DTSTART;TZID=America/Chicago:20251206T113000
DTEND;TZID=America/Chicago:20251206T120000
DTSTAMP:20260425T111714
CREATED:20251114T083427Z
LAST-MODIFIED:20251206T010455Z
UID:10003765-1765020600-1765022400@harrisonbayseniorliving.com
SUMMARY:Oshibori
DESCRIPTION:
URL:https://harrisonbayseniorliving.com/event-calendar/oshibori-412/
LOCATION:Dinning Room
CATEGORIES:Memory Care
END:VEVENT
BEGIN:VEVENT
DTSTART;TZID=America/Chicago:20251206T130000
DTEND;TZID=America/Chicago:20251206T140000
DTSTAMP:20260425T111714
CREATED:20251107T051918Z
LAST-MODIFIED:20251206T001931Z
UID:10003638-1765026000-1765029600@harrisonbayseniorliving.com
SUMMARY:Craft Time
DESCRIPTION:
URL:https://harrisonbayseniorliving.com/event-calendar/craft-time-10/
LOCATION:Community Room
CATEGORIES:Senior Living
END:VEVENT
BEGIN:VEVENT
DTSTART;TZID=America/Chicago:20251206T140000
DTEND;TZID=America/Chicago:20251206T145900
DTSTAMP:20260425T111714
CREATED:20251107T051919Z
LAST-MODIFIED:20251206T001931Z
UID:10003639-1765029600-1765033140@harrisonbayseniorliving.com
SUMMARY:Bible Study (R)
DESCRIPTION:
URL:https://harrisonbayseniorliving.com/event-calendar/bible-study-r-30/
LOCATION:Community Room
CATEGORIES:Senior Living
END:VEVENT
BEGIN:VEVENT
DTSTART;TZID=America/Chicago:20251206T141500
DTEND;TZID=America/Chicago:20251206T150000
DTSTAMP:20260425T111714
CREATED:20251114T083427Z
LAST-MODIFIED:20251206T010455Z
UID:10003766-1765030500-1765033200@harrisonbayseniorliving.com
SUMMARY:Daily Chronical\, Weather + Jokes (Linked Senior)
DESCRIPTION:
URL:https://harrisonbayseniorliving.com/event-calendar/daily-chronical-weather-jokes-linked-senior-59/
CATEGORIES:Memory Care
END:VEVENT
BEGIN:VEVENT
DTSTART;TZID=America/Chicago:20251206T150000
DTEND;TZID=America/Chicago:20251206T153000
DTSTAMP:20260425T111714
CREATED:20251114T083427Z
LAST-MODIFIED:20251206T010455Z
UID:10003768-1765033200-1765035000@harrisonbayseniorliving.com
SUMMARY:Stick Men (Linked Senior)
DESCRIPTION:
URL:https://harrisonbayseniorliving.com/event-calendar/stick-men-linked-senior-30/
CATEGORIES:Memory Care
END:VEVENT
BEGIN:VEVENT
DTSTART;TZID=America/Chicago:20251206T150000
DTEND;TZID=America/Chicago:20251206T160000
DTSTAMP:20260425T111714
CREATED:20251114T083427Z
LAST-MODIFIED:20251206T010455Z
UID:10003767-1765033200-1765036800@harrisonbayseniorliving.com
SUMMARY:Fold + Match Colored Washcloths (HHA)
DESCRIPTION:
URL:https://harrisonbayseniorliving.com/event-calendar/fold-match-colored-washcloths-hha-104/
CATEGORIES:Memory Care
END:VEVENT
BEGIN:VEVENT
DTSTART;TZID=America/Chicago:20251206T153000
DTEND;TZID=America/Chicago:20251206T160000
DTSTAMP:20260425T111714
CREATED:20251114T083427Z
LAST-MODIFIED:20251206T010455Z
UID:10003769-1765035000-1765036800@harrisonbayseniorliving.com
SUMMARY:Jeopardy Trivia (Linked Senior)
DESCRIPTION:
URL:https://harrisonbayseniorliving.com/event-calendar/jeopardy-trivia-linked-senior-30/
CATEGORIES:Memory Care
END:VEVENT
BEGIN:VEVENT
DTSTART;TZID=America/Chicago:20251206T161500
DTEND;TZID=America/Chicago:20251206T163000
DTSTAMP:20260425T111714
CREATED:20251115T084927Z
LAST-MODIFIED:20251206T010456Z
UID:10003773-1765037700-1765038600@harrisonbayseniorliving.com
SUMMARY:Oshibori
DESCRIPTION:
URL:https://harrisonbayseniorliving.com/event-calendar/oshibori-413/
LOCATION:Dining Room
CATEGORIES:Memory Care
END:VEVENT
BEGIN:VEVENT
DTSTART;TZID=America/Chicago:20251206T180000
DTEND;TZID=America/Chicago:20251206T200000
DTSTAMP:20260425T111714
CREATED:20251107T051919Z
LAST-MODIFIED:20251207T001913Z
UID:10003640-1765044000-1765051200@harrisonbayseniorliving.com
SUMMARY:MOVIE NIGHT: Moving On
DESCRIPTION:
URL:https://harrisonbayseniorliving.com/event-calendar/movie-night-20/
LOCATION:Pub
CATEGORIES:Senior Living
END:VEVENT
BEGIN:VEVENT
DTSTART;TZID=America/Chicago:20251206T190000
DTEND;TZID=America/Chicago:20251206T193000
DTSTAMP:20260425T111714
CREATED:20251115T084927Z
LAST-MODIFIED:20251207T010414Z
UID:10003774-1765047600-1765049400@harrisonbayseniorliving.com
SUMMARY:Evening Hymns (HHA: YOUTUBE)
DESCRIPTION:
URL:https://harrisonbayseniorliving.com/event-calendar/evening-hymns-hha-youtube-207/
CATEGORIES:Memory Care
END:VEVENT
END:VCALENDAR