BEGIN:VCALENDAR
VERSION:2.0
PRODID:-//Harrison Bay Senior Living - ECPv6.11.2.1//NONSGML v1.0//EN
CALSCALE:GREGORIAN
METHOD:PUBLISH
X-WR-CALNAME:Harrison Bay Senior Living
X-ORIGINAL-URL:https://harrisonbayseniorliving.com
X-WR-CALDESC:Events for Harrison Bay Senior Living
REFRESH-INTERVAL;VALUE=DURATION:PT1H
X-Robots-Tag:noindex
X-PUBLISHED-TTL:PT1H
BEGIN:VTIMEZONE
TZID:America/Chicago
BEGIN:DAYLIGHT
TZOFFSETFROM:-0600
TZOFFSETTO:-0500
TZNAME:CDT
DTSTART:20250309T080000
END:DAYLIGHT
BEGIN:STANDARD
TZOFFSETFROM:-0500
TZOFFSETTO:-0600
TZNAME:CST
DTSTART:20251102T070000
END:STANDARD
END:VTIMEZONE
BEGIN:VEVENT
DTSTART;TZID=America/Chicago:20250731T091000
DTEND;TZID=America/Chicago:20250731T101000
DTSTAMP:20260421T055220
CREATED:20250706T014924Z
LAST-MODIFIED:20250731T024929Z
UID:10001332-1753953000-1753956600@harrisonbayseniorliving.com
SUMMARY:Daily Chronicle
DESCRIPTION:
URL:https://harrisonbayseniorliving.com/event-calendar/daily-chronicle-12/
CATEGORIES:Memory Care
END:VEVENT
BEGIN:VEVENT
DTSTART;TZID=America/Chicago:20250731T094500
DTEND;TZID=America/Chicago:20250731T104500
DTSTAMP:20260421T055220
CREATED:20250702T020452Z
LAST-MODIFIED:20250731T024929Z
UID:10001273-1753955100-1753958700@harrisonbayseniorliving.com
SUMMARY:Happy Feet Walkers
DESCRIPTION:
URL:https://harrisonbayseniorliving.com/event-calendar/happy-feet-walkers-56/
LOCATION:Main Lobby
CATEGORIES:Memory Care,Senior Living
END:VEVENT
BEGIN:VEVENT
DTSTART;TZID=America/Chicago:20250731T100000
DTEND;TZID=America/Chicago:20250731T103000
DTSTAMP:20260421T055220
CREATED:20250702T020452Z
LAST-MODIFIED:20250731T022011Z
UID:10001274-1753956000-1753957800@harrisonbayseniorliving.com
SUMMARY:Chair Exercise
DESCRIPTION:
URL:https://harrisonbayseniorliving.com/event-calendar/chair-exercise-56/
CATEGORIES:Senior Living
END:VEVENT
BEGIN:VEVENT
DTSTART;TZID=America/Chicago:20250731T103000
DTEND;TZID=America/Chicago:20250731T104500
DTSTAMP:20260421T055220
CREATED:20250706T014924Z
LAST-MODIFIED:20250731T024929Z
UID:10001333-1753957800-1753958700@harrisonbayseniorliving.com
SUMMARY:Chair Yoga
DESCRIPTION:
URL:https://harrisonbayseniorliving.com/event-calendar/chair-yoga-34/
CATEGORIES:Memory Care
END:VEVENT
BEGIN:VEVENT
DTSTART;TZID=America/Chicago:20250731T103000
DTEND;TZID=America/Chicago:20250731T113000
DTSTAMP:20260421T055220
CREATED:20250702T020452Z
LAST-MODIFIED:20250731T024929Z
UID:10001275-1753957800-1753961400@harrisonbayseniorliving.com
SUMMARY:Men's Gathering
DESCRIPTION:
URL:https://harrisonbayseniorliving.com/event-calendar/mens-gathering-23/
LOCATION:Pub
CATEGORIES:Memory Care,Senior Living
END:VEVENT
BEGIN:VEVENT
DTSTART;TZID=America/Chicago:20250731T110000
DTEND;TZID=America/Chicago:20250731T113000
DTSTAMP:20260421T055220
CREATED:20250706T014924Z
LAST-MODIFIED:20250731T024929Z
UID:10001334-1753959600-1753961400@harrisonbayseniorliving.com
SUMMARY:Oshibori
DESCRIPTION:
URL:https://harrisonbayseniorliving.com/event-calendar/oshibori-156/
LOCATION:Dinning Room
CATEGORIES:Memory Care
END:VEVENT
BEGIN:VEVENT
DTSTART;TZID=America/Chicago:20250731T130000
DTEND;TZID=America/Chicago:20250731T140000
DTSTAMP:20260421T055220
CREATED:20250702T020452Z
LAST-MODIFIED:20250731T022011Z
UID:10001276-1753966800-1753970400@harrisonbayseniorliving.com
SUMMARY:Social Hour + Link Senior Games
DESCRIPTION:
URL:https://harrisonbayseniorliving.com/event-calendar/social-hour-link-senior-games-14/
LOCATION:Community Room
CATEGORIES:Senior Living
END:VEVENT
BEGIN:VEVENT
DTSTART;TZID=America/Chicago:20250731T133000
DTEND;TZID=America/Chicago:20250731T143000
DTSTAMP:20260421T055220
CREATED:20250707T015012Z
LAST-MODIFIED:20250731T024929Z
UID:10001342-1753968600-1753972200@harrisonbayseniorliving.com
SUMMARY:Documentary
DESCRIPTION:
URL:https://harrisonbayseniorliving.com/event-calendar/documentary-57/
CATEGORIES:Memory Care
END:VEVENT
BEGIN:VEVENT
DTSTART;TZID=America/Chicago:20250731T140000
DTEND;TZID=America/Chicago:20250731T150000
DTSTAMP:20260421T055220
CREATED:20250702T020452Z
LAST-MODIFIED:20250731T024929Z
UID:10001277-1753970400-1753974000@harrisonbayseniorliving.com
SUMMARY:Inspirational Movie: The Quilters
DESCRIPTION:
URL:https://harrisonbayseniorliving.com/event-calendar/inspirational-movie-the-quilters/
LOCATION:Pub
CATEGORIES:Memory Care,Senior Living
END:VEVENT
BEGIN:VEVENT
DTSTART;TZID=America/Chicago:20250731T150000
DTEND;TZID=America/Chicago:20250731T160000
DTSTAMP:20260421T055220
CREATED:20250707T015012Z
LAST-MODIFIED:20250731T024929Z
UID:10001343-1753974000-1753977600@harrisonbayseniorliving.com
SUMMARY:Fold Match/ Fold Colored Washcloths (HHA)
DESCRIPTION:
URL:https://harrisonbayseniorliving.com/event-calendar/fold-match-fold-colored-washcloths-hha-79/
CATEGORIES:Memory Care
END:VEVENT
BEGIN:VEVENT
DTSTART;TZID=America/Chicago:20250731T160000
DTEND;TZID=America/Chicago:20250731T161500
DTSTAMP:20260421T055220
CREATED:20250707T015012Z
LAST-MODIFIED:20250731T024929Z
UID:10001344-1753977600-1753978500@harrisonbayseniorliving.com
SUMMARY:Oshibori
DESCRIPTION:
URL:https://harrisonbayseniorliving.com/event-calendar/oshibori-157/
LOCATION:Dining Room
CATEGORIES:Memory Care
END:VEVENT
BEGIN:VEVENT
DTSTART;TZID=America/Chicago:20250731T160000
DTEND;TZID=America/Chicago:20250731T163000
DTSTAMP:20260421T055220
CREATED:20250707T015012Z
LAST-MODIFIED:20250731T024929Z
UID:10001345-1753977600-1753979400@harrisonbayseniorliving.com
SUMMARY:Pictionary
DESCRIPTION:
URL:https://harrisonbayseniorliving.com/event-calendar/pictionary-12/
CATEGORIES:Memory Care
END:VEVENT
BEGIN:VEVENT
DTSTART;TZID=America/Chicago:20250731T180000
DTEND;TZID=America/Chicago:20250731T190000
DTSTAMP:20260421T055220
CREATED:20250702T020452Z
LAST-MODIFIED:20250731T022011Z
UID:10001279-1753984800-1753988400@harrisonbayseniorliving.com
SUMMARY:GAME NIGHT: Rummikub/ Uno
DESCRIPTION:
URL:https://harrisonbayseniorliving.com/event-calendar/game-night-rummikub-uno-68/
LOCATION:Community Room
CATEGORIES:Senior Living
END:VEVENT
BEGIN:VEVENT
DTSTART;TZID=America/Chicago:20250731T180000
DTEND;TZID=America/Chicago:20250731T190000
DTSTAMP:20260421T055220
CREATED:20250702T020452Z
LAST-MODIFIED:20250731T022011Z
UID:10001278-1753984800-1753988400@harrisonbayseniorliving.com
SUMMARY:Diamond Painting (R)
DESCRIPTION:
URL:https://harrisonbayseniorliving.com/event-calendar/diamond-painting-r-79/
LOCATION:Community Room
CATEGORIES:Senior Living
END:VEVENT
BEGIN:VEVENT
DTSTART;TZID=America/Chicago:20250731T190000
DTEND;TZID=America/Chicago:20250731T193000
DTSTAMP:20260421T055220
CREATED:20250707T015012Z
LAST-MODIFIED:20250731T024928Z
UID:10001346-1753988400-1753990200@harrisonbayseniorliving.com
SUMMARY:Evening Hymns (HHA: YOUTUBE)
DESCRIPTION:
URL:https://harrisonbayseniorliving.com/event-calendar/evening-hymns-hha-youtube-79/
CATEGORIES:Memory Care
END:VEVENT
END:VCALENDAR