BEGIN:VCALENDAR
VERSION:2.0
PRODID:-//Harrison Bay Senior Living - ECPv6.11.2.1//NONSGML v1.0//EN
CALSCALE:GREGORIAN
METHOD:PUBLISH
X-WR-CALNAME:Harrison Bay Senior Living
X-ORIGINAL-URL:https://harrisonbayseniorliving.com
X-WR-CALDESC:Events for Harrison Bay Senior Living
REFRESH-INTERVAL;VALUE=DURATION:PT1H
X-Robots-Tag:noindex
X-PUBLISHED-TTL:PT1H
BEGIN:VTIMEZONE
TZID:America/Chicago
BEGIN:DAYLIGHT
TZOFFSETFROM:-0600
TZOFFSETTO:-0500
TZNAME:CDT
DTSTART:20250309T080000
END:DAYLIGHT
BEGIN:STANDARD
TZOFFSETFROM:-0500
TZOFFSETTO:-0600
TZNAME:CST
DTSTART:20251102T070000
END:STANDARD
END:VTIMEZONE
BEGIN:VEVENT
DTSTART;TZID=America/Chicago:20250713T090000
DTEND;TZID=America/Chicago:20250713T100000
DTSTAMP:20260421T055237
CREATED:20250617T181940Z
LAST-MODIFIED:20250713T021916Z
UID:10001013-1752397200-1752400800@harrisonbayseniorliving.com
SUMMARY:TABLE ACTIVITES: Colored Wash Cloths\, Puzzles\, ETC. (HHA)
DESCRIPTION:
URL:https://harrisonbayseniorliving.com/event-calendar/table-activites-colored-wash-cloths-puzzles-etc-hha-18/
CATEGORIES:Memory Care
END:VEVENT
BEGIN:VEVENT
DTSTART;TZID=America/Chicago:20250713T100000
DTEND;TZID=America/Chicago:20250713T110000
DTSTAMP:20260421T055237
CREATED:20250617T181940Z
LAST-MODIFIED:20250713T021916Z
UID:10001015-1752400800-1752404400@harrisonbayseniorliving.com
SUMMARY:Coloring Books (HHA)
DESCRIPTION:
URL:https://harrisonbayseniorliving.com/event-calendar/coloring-books-hha-18/
CATEGORIES:Memory Care
END:VEVENT
BEGIN:VEVENT
DTSTART;TZID=America/Chicago:20250713T100000
DTEND;TZID=America/Chicago:20250713T113000
DTSTAMP:20260421T055237
CREATED:20250617T181940Z
LAST-MODIFIED:20250713T021916Z
UID:10001014-1752400800-1752406200@harrisonbayseniorliving.com
SUMMARY:Nature Documentary (HHA)
DESCRIPTION:
URL:https://harrisonbayseniorliving.com/event-calendar/nature-documentary-hha-18/
CATEGORIES:Memory Care
END:VEVENT
BEGIN:VEVENT
DTSTART;TZID=America/Chicago:20250713T110000
DTEND;TZID=America/Chicago:20250713T113000
DTSTAMP:20260421T055237
CREATED:20250617T181940Z
LAST-MODIFIED:20250713T021916Z
UID:10001016-1752404400-1752406200@harrisonbayseniorliving.com
SUMMARY:Oshibori
DESCRIPTION:
URL:https://harrisonbayseniorliving.com/event-calendar/oshibori-120/
LOCATION:Dinning Room
CATEGORIES:Memory Care
END:VEVENT
BEGIN:VEVENT
DTSTART;TZID=America/Chicago:20250713T130000
DTEND;TZID=America/Chicago:20250713T140000
DTSTAMP:20260421T055237
CREATED:20250613T183610Z
LAST-MODIFIED:20250713T020418Z
UID:10000941-1752411600-1752415200@harrisonbayseniorliving.com
SUMMARY:Grip Game Practice
DESCRIPTION:
URL:https://harrisonbayseniorliving.com/event-calendar/forklift-practice-22/
LOCATION:Community Room
CATEGORIES:Senior Living
END:VEVENT
BEGIN:VEVENT
DTSTART;TZID=America/Chicago:20250713T141500
DTEND;TZID=America/Chicago:20250713T150000
DTSTAMP:20260421T055237
CREATED:20250617T181940Z
LAST-MODIFIED:20250713T021916Z
UID:10001017-1752416100-1752418800@harrisonbayseniorliving.com
SUMMARY:Daily Chronical\, Weather + Jokes (Linked Senior)
DESCRIPTION:
URL:https://harrisonbayseniorliving.com/event-calendar/daily-chronical-weather-jokes-linked-senior-18/
CATEGORIES:Memory Care
END:VEVENT
BEGIN:VEVENT
DTSTART;TZID=America/Chicago:20250713T143000
DTEND;TZID=America/Chicago:20250713T150000
DTSTAMP:20260421T055237
CREATED:20250617T181940Z
LAST-MODIFIED:20250713T021916Z
UID:10001018-1752417000-1752418800@harrisonbayseniorliving.com
SUMMARY:Chair Yoga (Linked Senior)
DESCRIPTION:
URL:https://harrisonbayseniorliving.com/event-calendar/chair-yoga-linked-senior-9/
CATEGORIES:Memory Care
END:VEVENT
BEGIN:VEVENT
DTSTART;TZID=America/Chicago:20250713T150000
DTEND;TZID=America/Chicago:20250713T153000
DTSTAMP:20260421T055237
CREATED:20250617T181940Z
LAST-MODIFIED:20250713T021916Z
UID:10001020-1752418800-1752420600@harrisonbayseniorliving.com
SUMMARY:How Its Made (Linked Senior)
DESCRIPTION:
URL:https://harrisonbayseniorliving.com/event-calendar/how-its-made-linked-senior-9/
CATEGORIES:Memory Care
END:VEVENT
BEGIN:VEVENT
DTSTART;TZID=America/Chicago:20250713T150000
DTEND;TZID=America/Chicago:20250713T160000
DTSTAMP:20260421T055237
CREATED:20250617T181940Z
LAST-MODIFIED:20250713T021916Z
UID:10001019-1752418800-1752422400@harrisonbayseniorliving.com
SUMMARY:Fold Match/ Fold Colored Washcloths (HHA)
DESCRIPTION:
URL:https://harrisonbayseniorliving.com/event-calendar/fold-match-fold-colored-washcloths-hha-61/
CATEGORIES:Memory Care
END:VEVENT
BEGIN:VEVENT
DTSTART;TZID=America/Chicago:20250713T153000
DTEND;TZID=America/Chicago:20250713T163000
DTSTAMP:20260421T055237
CREATED:20250617T181940Z
LAST-MODIFIED:20250713T021916Z
UID:10001021-1752420600-1752424200@harrisonbayseniorliving.com
SUMMARY:Physical Fun
DESCRIPTION:
URL:https://harrisonbayseniorliving.com/event-calendar/physical-fun-17/
CATEGORIES:Memory Care
END:VEVENT
BEGIN:VEVENT
DTSTART;TZID=America/Chicago:20250713T160000
DTEND;TZID=America/Chicago:20250713T161500
DTSTAMP:20260421T055237
CREATED:20250617T202032Z
LAST-MODIFIED:20250713T021916Z
UID:10001023-1752422400-1752423300@harrisonbayseniorliving.com
SUMMARY:Oshibori
DESCRIPTION:
URL:https://harrisonbayseniorliving.com/event-calendar/oshibori-121/
LOCATION:Dining Room
CATEGORIES:Memory Care
END:VEVENT
BEGIN:VEVENT
DTSTART;TZID=America/Chicago:20250713T180000
DTEND;TZID=America/Chicago:20250713T190000
DTSTAMP:20260421T055237
CREATED:20250614T183538Z
LAST-MODIFIED:20250713T020418Z
UID:10000955-1752429600-1752433200@harrisonbayseniorliving.com
SUMMARY:Diamond Painting (R)
DESCRIPTION:
URL:https://harrisonbayseniorliving.com/event-calendar/diamond-painting-r-61/
LOCATION:Community Room
CATEGORIES:Senior Living
END:VEVENT
BEGIN:VEVENT
DTSTART;TZID=America/Chicago:20250713T180000
DTEND;TZID=America/Chicago:20250713T190000
DTSTAMP:20260421T055237
CREATED:20250614T183538Z
LAST-MODIFIED:20250713T020418Z
UID:10000956-1752429600-1752433200@harrisonbayseniorliving.com
SUMMARY:GAME NIGHT: Rummikub/ Uno
DESCRIPTION:
URL:https://harrisonbayseniorliving.com/event-calendar/game-night-rummikub-uno-52/
LOCATION:Community Room
CATEGORIES:Senior Living
END:VEVENT
BEGIN:VEVENT
DTSTART;TZID=America/Chicago:20250713T190000
DTEND;TZID=America/Chicago:20250713T193000
DTSTAMP:20260421T055237
CREATED:20250617T212006Z
LAST-MODIFIED:20250713T021915Z
UID:10001024-1752433200-1752435000@harrisonbayseniorliving.com
SUMMARY:Evening Hymns (HHA: YOUTUBE)
DESCRIPTION:
URL:https://harrisonbayseniorliving.com/event-calendar/evening-hymns-hha-youtube-61/
CATEGORIES:Memory Care
END:VEVENT
END:VCALENDAR